xen-devel.lists.xenproject.org archive mirror
 help / color / mirror / Atom feed
From: Platform Team regression test user <citrix-osstest@xenproject.org>
To: xen-devel@lists.xensource.com, osstest-admin@xenproject.org
Subject: [ovmf baseline-only test] 67757: all pass
Date: Sat, 24 Sep 2016 01:30:42 +0100	[thread overview]
Message-ID: <osstest-67757-mainreport@xen.org> (raw)

This run is configured for baseline tests only.

flight 67757 ovmf real [real]
http://osstest.xs.citrite.net/~osstest/testlogs/logs/67757/

Perfect :-)
All tests in this flight passed as required
version targeted for testing:
 ovmf                 ea317c0658b013659e064ba0323d1da8294acf4e
baseline version:
 ovmf                 8b4ca351dded404f992504c45e358572c4d236f9

Last test of basis    67755  2016-09-23 16:18:41 Z    0 days
Testing same since    67757  2016-09-23 19:17:25 Z    0 days    1 attempts

------------------------------------------------------------
People who touched revisions under test:
  Tapan Shah <tapandshah@hpe.com>

jobs:
 build-amd64-xsm                                              pass    
 build-i386-xsm                                               pass    
 build-amd64                                                  pass    
 build-i386                                                   pass    
 build-amd64-libvirt                                          pass    
 build-i386-libvirt                                           pass    
 build-amd64-pvops                                            pass    
 build-i386-pvops                                             pass    
 test-amd64-amd64-xl-qemuu-ovmf-amd64                         pass    
 test-amd64-i386-xl-qemuu-ovmf-amd64                          pass    


------------------------------------------------------------
sg-report-flight on osstest.xs.citrite.net
logs: /home/osstest/logs
images: /home/osstest/images

Logs, config files, etc. are available at
    http://osstest.xs.citrite.net/~osstest/testlogs/logs

Test harness code can be found at
    http://xenbits.xensource.com/gitweb?p=osstest.git;a=summary


Push not applicable.

------------------------------------------------------------
commit ea317c0658b013659e064ba0323d1da8294acf4e
Author: Tapan Shah <tapandshah@hpe.com>
Date:   Fri Sep 23 09:10:28 2016 -0700

    ShellPkg: Update help output for disconnect command
    
    Minor changes to match help output notes for disconnect command
    with UEFI Shell 2.2 specification document.
    
    Few other formatting changes to fit the help output in 80x25 screen size.
    
    Contributed-under: TianoCore Contribution Agreement 1.0
    Signed-off-by: Tapan Shah <tapandshah@hpe.com>
    Reviewed-by: Jaben Carsey <jaben.carsey@intel.com>

_______________________________________________
Xen-devel mailing list
Xen-devel@lists.xen.org
https://lists.xen.org/xen-devel

                 reply	other threads:[~2016-09-24  0:30 UTC|newest]

Thread overview: [no followups] expand[flat|nested]  mbox.gz  Atom feed

Reply instructions:

You may reply publicly to this message via plain-text email
using any one of the following methods:

* Save the following mbox file, import it into your mail client,
  and reply-to-all from there: mbox

  Avoid top-posting and favor interleaved quoting:
  https://en.wikipedia.org/wiki/Posting_style#Interleaved_style

* Reply using the --to, --cc, and --in-reply-to
  switches of git-send-email(1):

  git send-email \
    --in-reply-to=osstest-67757-mainreport@xen.org \
    --to=citrix-osstest@xenproject.org \
    --cc=osstest-admin@xenproject.org \
    --cc=xen-devel@lists.xensource.com \
    /path/to/YOUR_REPLY

  https://kernel.org/pub/software/scm/git/docs/git-send-email.html

* If your mail client supports setting the In-Reply-To header
  via mailto: links, try the mailto: link
Be sure your reply has a Subject: header at the top and a blank line before the message body.
This is a public inbox, see mirroring instructions
for how to clone and mirror all data and code used for this inbox;
as well as URLs for NNTP newsgroup(s).