* [ovmf baseline-only test] 67757: all pass
@ 2016-09-24 0:30 Platform Team regression test user
0 siblings, 0 replies; only message in thread
From: Platform Team regression test user @ 2016-09-24 0:30 UTC (permalink / raw)
To: xen-devel, osstest-admin
This run is configured for baseline tests only.
flight 67757 ovmf real [real]
http://osstest.xs.citrite.net/~osstest/testlogs/logs/67757/
Perfect :-)
All tests in this flight passed as required
version targeted for testing:
ovmf ea317c0658b013659e064ba0323d1da8294acf4e
baseline version:
ovmf 8b4ca351dded404f992504c45e358572c4d236f9
Last test of basis 67755 2016-09-23 16:18:41 Z 0 days
Testing same since 67757 2016-09-23 19:17:25 Z 0 days 1 attempts
------------------------------------------------------------
People who touched revisions under test:
Tapan Shah <tapandshah@hpe.com>
jobs:
build-amd64-xsm pass
build-i386-xsm pass
build-amd64 pass
build-i386 pass
build-amd64-libvirt pass
build-i386-libvirt pass
build-amd64-pvops pass
build-i386-pvops pass
test-amd64-amd64-xl-qemuu-ovmf-amd64 pass
test-amd64-i386-xl-qemuu-ovmf-amd64 pass
------------------------------------------------------------
sg-report-flight on osstest.xs.citrite.net
logs: /home/osstest/logs
images: /home/osstest/images
Logs, config files, etc. are available at
http://osstest.xs.citrite.net/~osstest/testlogs/logs
Test harness code can be found at
http://xenbits.xensource.com/gitweb?p=osstest.git;a=summary
Push not applicable.
------------------------------------------------------------
commit ea317c0658b013659e064ba0323d1da8294acf4e
Author: Tapan Shah <tapandshah@hpe.com>
Date: Fri Sep 23 09:10:28 2016 -0700
ShellPkg: Update help output for disconnect command
Minor changes to match help output notes for disconnect command
with UEFI Shell 2.2 specification document.
Few other formatting changes to fit the help output in 80x25 screen size.
Contributed-under: TianoCore Contribution Agreement 1.0
Signed-off-by: Tapan Shah <tapandshah@hpe.com>
Reviewed-by: Jaben Carsey <jaben.carsey@intel.com>
_______________________________________________
Xen-devel mailing list
Xen-devel@lists.xen.org
https://lists.xen.org/xen-devel
^ permalink raw reply [flat|nested] only message in thread
only message in thread, other threads:[~2016-09-24 0:30 UTC | newest]
Thread overview: (only message) (download: mbox.gz follow: Atom feed
-- links below jump to the message on this page --
2016-09-24 0:30 [ovmf baseline-only test] 67757: all pass Platform Team regression test user
This is a public inbox, see mirroring instructions
for how to clone and mirror all data and code used for this inbox;
as well as URLs for NNTP newsgroup(s).