* [ovmf baseline-only test] 67761: all pass
@ 2016-09-25 5:06 Platform Team regression test user
0 siblings, 0 replies; only message in thread
From: Platform Team regression test user @ 2016-09-25 5:06 UTC (permalink / raw)
To: xen-devel, osstest-admin
This run is configured for baseline tests only.
flight 67761 ovmf real [real]
http://osstest.xs.citrite.net/~osstest/testlogs/logs/67761/
Perfect :-)
All tests in this flight passed as required
version targeted for testing:
ovmf 587e9dfbbafe7d4e772c1870b8c880c6d7a8a70c
baseline version:
ovmf ea317c0658b013659e064ba0323d1da8294acf4e
Last test of basis 67757 2016-09-23 19:17:25 Z 1 days
Testing same since 67761 2016-09-25 02:49:05 Z 0 days 1 attempts
------------------------------------------------------------
People who touched revisions under test:
Yonghong Zhu <yonghong.zhu@intel.com>
jobs:
build-amd64-xsm pass
build-i386-xsm pass
build-amd64 pass
build-i386 pass
build-amd64-libvirt pass
build-i386-libvirt pass
build-amd64-pvops pass
build-i386-pvops pass
test-amd64-amd64-xl-qemuu-ovmf-amd64 pass
test-amd64-i386-xl-qemuu-ovmf-amd64 pass
------------------------------------------------------------
sg-report-flight on osstest.xs.citrite.net
logs: /home/osstest/logs
images: /home/osstest/images
Logs, config files, etc. are available at
http://osstest.xs.citrite.net/~osstest/testlogs/logs
Test harness code can be found at
http://xenbits.xensource.com/gitweb?p=osstest.git;a=summary
Push not applicable.
------------------------------------------------------------
commit 587e9dfbbafe7d4e772c1870b8c880c6d7a8a70c
Author: Yonghong Zhu <yonghong.zhu@intel.com>
Date: Thu Sep 22 09:48:46 2016 +0800
BaseTools: handling the case that map file is not exist
We meet a case that add the library inf file which has the uni file in
the [Sources] section, for this case there will no map file exist, it
cause build tools report Traceback error.
Cc: Liming Gao <liming.gao@intel.com>
Contributed-under: TianoCore Contribution Agreement 1.0
Signed-off-by: Yonghong Zhu <yonghong.zhu@intel.com>
Reviewed-by: Liming Gao <liming.gao@intel.com>
_______________________________________________
Xen-devel mailing list
Xen-devel@lists.xen.org
https://lists.xen.org/xen-devel
^ permalink raw reply [flat|nested] only message in thread
only message in thread, other threads:[~2016-09-25 5:06 UTC | newest]
Thread overview: (only message) (download: mbox.gz follow: Atom feed
-- links below jump to the message on this page --
2016-09-25 5:06 [ovmf baseline-only test] 67761: all pass Platform Team regression test user
This is a public inbox, see mirroring instructions
for how to clone and mirror all data and code used for this inbox;
as well as URLs for NNTP newsgroup(s).