xen-devel.lists.xenproject.org archive mirror
 help / color / mirror / Atom feed
From: Platform Team regression test user <citrix-osstest@xenproject.org>
To: xen-devel@lists.xensource.com, osstest-admin@xenproject.org
Subject: [ovmf baseline-only test] 67763: all pass
Date: Mon, 26 Sep 2016 18:53:13 +0100	[thread overview]
Message-ID: <osstest-67763-mainreport@xen.org> (raw)

This run is configured for baseline tests only.

flight 67763 ovmf real [real]
http://osstest.xs.citrite.net/~osstest/testlogs/logs/67763/

Perfect :-)
All tests in this flight passed as required
version targeted for testing:
 ovmf                 065ae7d717f9e49c3be12dada109d60dead0bb90
baseline version:
 ovmf                 587e9dfbbafe7d4e772c1870b8c880c6d7a8a70c

Last test of basis    67761  2016-09-25 02:49:05 Z    1 days
Testing same since    67763  2016-09-26 15:16:38 Z    0 days    1 attempts

------------------------------------------------------------
People who touched revisions under test:
  Ard Biesheuvel <ard.biesheuvel@linaro.org>

jobs:
 build-amd64-xsm                                              pass    
 build-i386-xsm                                               pass    
 build-amd64                                                  pass    
 build-i386                                                   pass    
 build-amd64-libvirt                                          pass    
 build-i386-libvirt                                           pass    
 build-amd64-pvops                                            pass    
 build-i386-pvops                                             pass    
 test-amd64-amd64-xl-qemuu-ovmf-amd64                         pass    
 test-amd64-i386-xl-qemuu-ovmf-amd64                          pass    


------------------------------------------------------------
sg-report-flight on osstest.xs.citrite.net
logs: /home/osstest/logs
images: /home/osstest/images

Logs, config files, etc. are available at
    http://osstest.xs.citrite.net/~osstest/testlogs/logs

Test harness code can be found at
    http://xenbits.xensource.com/gitweb?p=osstest.git;a=summary


Push not applicable.

------------------------------------------------------------
commit 065ae7d717f9e49c3be12dada109d60dead0bb90
Author: Ard Biesheuvel <ard.biesheuvel@linaro.org>
Date:   Mon Sep 19 09:36:13 2016 +0100

    MdeModulePkg/PciBusDxe: make OPROM BAR degradation configurable
    
    The 'universal' PCI bus driver in MdeModulePkg contains a quirk to
    degrade 64-bit PCI MMIO BARs to 32-bit in the presence of an option
    ROM on the same PCI controller.
    
    This quirk is highly specific to not just the X64 architecture in general,
    but to the PC platform in particular, given that only X64 platforms that
    require legacy PC BIOS compatibility require it. However, making the
    quirk dependent on the presence of the legacy BIOS protocol met with
    resistance, due to the fact that it introduces a dependency on the
    IntelFrameworkModulePkg package.
    
    So instead, make the quirk configurable, by introducing a feature flag PCD
    'PcdPciDegradeResourceForOptionRom' which defaults to TRUE only for X64.
    
    Contributed-under: TianoCore Contribution Agreement 1.0
    Signed-off-by: Ard Biesheuvel <ard.biesheuvel@linaro.org>
    Reviewed-by: Ruiyu Ni <ruiyu.ni@intel.com>

_______________________________________________
Xen-devel mailing list
Xen-devel@lists.xen.org
https://lists.xen.org/xen-devel

                 reply	other threads:[~2016-09-26 17:53 UTC|newest]

Thread overview: [no followups] expand[flat|nested]  mbox.gz  Atom feed

Reply instructions:

You may reply publicly to this message via plain-text email
using any one of the following methods:

* Save the following mbox file, import it into your mail client,
  and reply-to-all from there: mbox

  Avoid top-posting and favor interleaved quoting:
  https://en.wikipedia.org/wiki/Posting_style#Interleaved_style

* Reply using the --to, --cc, and --in-reply-to
  switches of git-send-email(1):

  git send-email \
    --in-reply-to=osstest-67763-mainreport@xen.org \
    --to=citrix-osstest@xenproject.org \
    --cc=osstest-admin@xenproject.org \
    --cc=xen-devel@lists.xensource.com \
    /path/to/YOUR_REPLY

  https://kernel.org/pub/software/scm/git/docs/git-send-email.html

* If your mail client supports setting the In-Reply-To header
  via mailto: links, try the mailto: link
Be sure your reply has a Subject: header at the top and a blank line before the message body.
This is a public inbox, see mirroring instructions
for how to clone and mirror all data and code used for this inbox;
as well as URLs for NNTP newsgroup(s).