* [ovmf baseline-only test] 67768: all pass
@ 2016-09-27 8:54 Platform Team regression test user
0 siblings, 0 replies; only message in thread
From: Platform Team regression test user @ 2016-09-27 8:54 UTC (permalink / raw)
To: xen-devel, osstest-admin
This run is configured for baseline tests only.
flight 67768 ovmf real [real]
http://osstest.xs.citrite.net/~osstest/testlogs/logs/67768/
Perfect :-)
All tests in this flight passed as required
version targeted for testing:
ovmf f6be48e9907d8bb8f8534df50049ce428c38f719
baseline version:
ovmf 7188b4557a607c667175e026b60c6648a438e829
Last test of basis 67766 2016-09-27 00:49:21 Z 0 days
Testing same since 67768 2016-09-27 03:18:24 Z 0 days 1 attempts
------------------------------------------------------------
People who touched revisions under test:
Kurt Kennett <kurt.kennett@microsoft.com>
jobs:
build-amd64-xsm pass
build-i386-xsm pass
build-amd64 pass
build-i386 pass
build-amd64-libvirt pass
build-i386-libvirt pass
build-amd64-pvops pass
build-i386-pvops pass
test-amd64-amd64-xl-qemuu-ovmf-amd64 pass
test-amd64-i386-xl-qemuu-ovmf-amd64 pass
------------------------------------------------------------
sg-report-flight on osstest.xs.citrite.net
logs: /home/osstest/logs
images: /home/osstest/images
Logs, config files, etc. are available at
http://osstest.xs.citrite.net/~osstest/testlogs/logs
Test harness code can be found at
http://xenbits.xensource.com/gitweb?p=osstest.git;a=summary
Push not applicable.
------------------------------------------------------------
commit f6be48e9907d8bb8f8534df50049ce428c38f719
Author: Kurt Kennett <Kurt.Kennett@microsoft.com>
Date: Mon Sep 26 22:45:02 2016 +0000
ArmPkg/CpuDxe: Fix MMU initialization problem
During Mmu initialization in the CpuDxe, for a page table any bits set
in the 'NextSectionAttributes' are garbage and were set from bits that
are actually part of the pagetable address. We clear it out to zero
so that the SyncCacheConfigPage will use the page attributes instead
of trying to convert the (bogus) section attributes into page
attributes.
Contributed-under: TianoCore Contribution Agreement 1.0
Signed-off-by: Kurt Kennett <kurt.kennett@microsoft.com>
Reviewed-by: Ard Biesheuvel <ard.biesheuvel@linaro.org>
_______________________________________________
Xen-devel mailing list
Xen-devel@lists.xen.org
https://lists.xen.org/xen-devel
^ permalink raw reply [flat|nested] only message in thread
only message in thread, other threads:[~2016-09-27 8:54 UTC | newest]
Thread overview: (only message) (download: mbox.gz follow: Atom feed
-- links below jump to the message on this page --
2016-09-27 8:54 [ovmf baseline-only test] 67768: all pass Platform Team regression test user
This is a public inbox, see mirroring instructions
for how to clone and mirror all data and code used for this inbox;
as well as URLs for NNTP newsgroup(s).