From: Platform Team regression test user <citrix-osstest@xenproject.org>
To: xen-devel@lists.xensource.com, osstest-admin@xenproject.org
Subject: [ovmf baseline-only test] 67773: all pass
Date: Tue, 27 Sep 2016 23:41:51 +0100 [thread overview]
Message-ID: <osstest-67773-mainreport@xen.org> (raw)
This run is configured for baseline tests only.
flight 67773 ovmf real [real]
http://osstest.xs.citrite.net/~osstest/testlogs/logs/67773/
Perfect :-)
All tests in this flight passed as required
version targeted for testing:
ovmf 7807dea57fba6a019bb8641572e0159ffa03ad9e
baseline version:
ovmf 333ba578fef4dff8921051410c5b56f63e7eeadb
Last test of basis 67771 2016-09-27 09:18:56 Z 0 days
Testing same since 67773 2016-09-27 15:47:51 Z 0 days 1 attempts
------------------------------------------------------------
People who touched revisions under test:
Felix Polyudov <felixp@ami.com>
Gao, Liming <liming.gao@intel.com>
Hao Wu <hao.a.wu@intel.com>
Yonghong Zhu <yonghong.zhu@intel.com>
jobs:
build-amd64-xsm pass
build-i386-xsm pass
build-amd64 pass
build-i386 pass
build-amd64-libvirt pass
build-i386-libvirt pass
build-amd64-pvops pass
build-i386-pvops pass
test-amd64-amd64-xl-qemuu-ovmf-amd64 pass
test-amd64-i386-xl-qemuu-ovmf-amd64 pass
------------------------------------------------------------
sg-report-flight on osstest.xs.citrite.net
logs: /home/osstest/logs
images: /home/osstest/images
Logs, config files, etc. are available at
http://osstest.xs.citrite.net/~osstest/testlogs/logs
Test harness code can be found at
http://xenbits.xensource.com/gitweb?p=osstest.git;a=summary
Push not applicable.
------------------------------------------------------------
commit 7807dea57fba6a019bb8641572e0159ffa03ad9e
Author: Hao Wu <hao.a.wu@intel.com>
Date: Tue Sep 27 10:07:18 2016 +0800
BaseTools: List missing source python files for Ecc tool in Makefile
Add missing python sources files that are dependent for Ecc tool in
Makefile.
Cc: Yonghong Zhu <yonghong.zhu@intel.com>
Cc: Liming Gao <liming.gao@intel.com>
Contributed-under: TianoCore Contribution Agreement 1.0
Signed-off-by: Hao Wu <hao.a.wu@intel.com>
Reviewed-by: Liming Gao <liming.gao@intel.com>
Reviewed-by: Yonghong Zhu <yonghong.zhu@intel.com>
commit 324dd9b468fc53c1b162035334620e47a0637b41
Author: Yonghong Zhu <yonghong.zhu@intel.com>
Date: Sun Sep 25 10:47:08 2016 +0800
BaseTools: Add some posixlike files for Linux
Add the posixlike files for Rsa2048Sha256Sign, Rsa2048Sha256GenerateKeys
and Pkcs7Sign.
Cc: Liming Gao <liming.gao@intel.com>
Contributed-under: TianoCore Contribution Agreement 1.0
Signed-off-by: Yonghong Zhu <yonghong.zhu@intel.com>
Reviewed-by: Liming Gao <liming.gao@intel.com>
commit 84ace59fd7c4a23e27e89756e449d058907b4ac6
Author: Gao, Liming <liming.gao@intel.com>
Date: Tue Sep 20 22:02:28 2016 +0800
MdePkg: Add SMM PciExpressLib Instance
Contributed-under: TianoCore Contribution Agreement 1.0
Signed-off-by: Felix Polyudov <felixp@ami.com>
Reviewed-by: Liming Gao <liming.gao@intel.com>
_______________________________________________
Xen-devel mailing list
Xen-devel@lists.xen.org
https://lists.xen.org/xen-devel
reply other threads:[~2016-09-27 22:41 UTC|newest]
Thread overview: [no followups] expand[flat|nested] mbox.gz Atom feed
Reply instructions:
You may reply publicly to this message via plain-text email
using any one of the following methods:
* Save the following mbox file, import it into your mail client,
and reply-to-all from there: mbox
Avoid top-posting and favor interleaved quoting:
https://en.wikipedia.org/wiki/Posting_style#Interleaved_style
* Reply using the --to, --cc, and --in-reply-to
switches of git-send-email(1):
git send-email \
--in-reply-to=osstest-67773-mainreport@xen.org \
--to=citrix-osstest@xenproject.org \
--cc=osstest-admin@xenproject.org \
--cc=xen-devel@lists.xensource.com \
/path/to/YOUR_REPLY
https://kernel.org/pub/software/scm/git/docs/git-send-email.html
* If your mail client supports setting the In-Reply-To header
via mailto: links, try the mailto: link
Be sure your reply has a Subject: header at the top and a blank line
before the message body.
This is a public inbox, see mirroring instructions
for how to clone and mirror all data and code used for this inbox;
as well as URLs for NNTP newsgroup(s).