xen-devel.lists.xenproject.org archive mirror
 help / color / mirror / Atom feed
* [ovmf baseline-only test] 67774: all pass
@ 2016-09-28  1:29 Platform Team regression test user
  0 siblings, 0 replies; only message in thread
From: Platform Team regression test user @ 2016-09-28  1:29 UTC (permalink / raw)
  To: xen-devel, osstest-admin

This run is configured for baseline tests only.

flight 67774 ovmf real [real]
http://osstest.xs.citrite.net/~osstest/testlogs/logs/67774/

Perfect :-)
All tests in this flight passed as required
version targeted for testing:
 ovmf                 eab26788156436a549610a299d2e297c22043e70
baseline version:
 ovmf                 7807dea57fba6a019bb8641572e0159ffa03ad9e

Last test of basis    67773  2016-09-27 15:47:51 Z    0 days
Testing same since    67774  2016-09-27 22:49:56 Z    0 days    1 attempts

------------------------------------------------------------
People who touched revisions under test:
  Ard Biesheuvel <ard.biesheuvel@linaro.org>

jobs:
 build-amd64-xsm                                              pass    
 build-i386-xsm                                               pass    
 build-amd64                                                  pass    
 build-i386                                                   pass    
 build-amd64-libvirt                                          pass    
 build-i386-libvirt                                           pass    
 build-amd64-pvops                                            pass    
 build-i386-pvops                                             pass    
 test-amd64-amd64-xl-qemuu-ovmf-amd64                         pass    
 test-amd64-i386-xl-qemuu-ovmf-amd64                          pass    


------------------------------------------------------------
sg-report-flight on osstest.xs.citrite.net
logs: /home/osstest/logs
images: /home/osstest/images

Logs, config files, etc. are available at
    http://osstest.xs.citrite.net/~osstest/testlogs/logs

Test harness code can be found at
    http://xenbits.xensource.com/gitweb?p=osstest.git;a=summary


Push not applicable.

------------------------------------------------------------
commit eab26788156436a549610a299d2e297c22043e70
Author: Ard Biesheuvel <ard.biesheuvel@linaro.org>
Date:   Mon Sep 26 15:55:05 2016 -0700

    MdePkg/BaseMemoryLibOptDxe: replace deprecated uses of IT blocks
    
    The ARM architecture version 8 deprecates all uses of the IT instruction
    except cases where it is followed by a single narrow instruction. So
    replace any occurrences with equivalent sequences that adhere to the
    new rules.
    
    Contributed-under: TianoCore Contribution Agreement 1.0
    Signed-off-by: Ard Biesheuvel <ard.biesheuvel@linaro.org>
    Reviewed-by: Liming Gao <liming.gao@intel.com>

commit c4f637077eb4504aa0109aac9983dfe85e5b2afb
Author: Ard Biesheuvel <ard.biesheuvel@linaro.org>
Date:   Mon Sep 26 15:51:45 2016 -0700

    MdePkg/BaseMemoryLibOptDxe ARM: fix Thumb-2 bug in ScanMem()
    
    The ARM ScanMem() in BaseMemoryLibOptDxe contains code from the open
    source cortex-strings library, and inherited a bug from it where the
    conditional execution of a sequence of instructions is erroneously
    made dependent on the same condition. Since the final 'addeq' is
    supposed to be dependent on the preceding 'tsteq' instruction, they
    cannot be part of the same IT block.
    
    Contributed-under: TianoCore Contribution Agreement 1.0
    Signed-off-by: Ard Biesheuvel <ard.biesheuvel@linaro.org>
    Reviewed-by: Liming Gao <liming.gao@intel.com>

_______________________________________________
Xen-devel mailing list
Xen-devel@lists.xen.org
https://lists.xen.org/xen-devel

^ permalink raw reply	[flat|nested] only message in thread

only message in thread, other threads:[~2016-09-28  1:29 UTC | newest]

Thread overview: (only message) (download: mbox.gz follow: Atom feed
-- links below jump to the message on this page --
2016-09-28  1:29 [ovmf baseline-only test] 67774: all pass Platform Team regression test user

This is a public inbox, see mirroring instructions
for how to clone and mirror all data and code used for this inbox;
as well as URLs for NNTP newsgroup(s).