xen-devel.lists.xenproject.org archive mirror
 help / color / mirror / Atom feed
* [ovmf baseline-only test] 67810: trouble: blocked/broken
@ 2016-10-06  9:18 Platform Team regression test user
  0 siblings, 0 replies; only message in thread
From: Platform Team regression test user @ 2016-10-06  9:18 UTC (permalink / raw)
  To: xen-devel, osstest-admin

This run is configured for baseline tests only.

flight 67810 ovmf real [real]
http://osstest.xs.citrite.net/~osstest/testlogs/logs/67810/

Failures and problems with tests :-(

Tests which did not succeed and are blocking,
including tests which could not be run:
 build-amd64-xsm               2 hosts-allocate          broken REGR. vs. 67793
 build-amd64                   2 hosts-allocate          broken REGR. vs. 67793
 build-amd64-pvops             2 hosts-allocate          broken REGR. vs. 67793
 build-i386-pvops              2 hosts-allocate          broken REGR. vs. 67793
 build-i386-xsm                2 hosts-allocate          broken REGR. vs. 67793
 build-i386                    2 hosts-allocate          broken REGR. vs. 67793

Regressions which are regarded as allowable (not blocking):
 build-i386-xsm                3 capture-logs           broken blocked in 67793
 build-i386                    3 capture-logs           broken blocked in 67793
 build-i386-pvops              3 capture-logs           broken blocked in 67793
 build-amd64-xsm               3 capture-logs           broken blocked in 67793
 build-amd64-pvops             3 capture-logs           broken blocked in 67793
 build-amd64                   3 capture-logs           broken blocked in 67793

Tests which did not succeed, but are not blocking:
 build-i386-libvirt            1 build-check(1)               blocked  n/a
 test-amd64-i386-xl-qemuu-ovmf-amd64  1 build-check(1)              blocked n/a
 build-amd64-libvirt           1 build-check(1)               blocked  n/a
 test-amd64-amd64-xl-qemuu-ovmf-amd64  1 build-check(1)             blocked n/a

version targeted for testing:
 ovmf                 2cf9ecd2262e4098171fa27c97b56d483f5cf3b4
baseline version:
 ovmf                 c0b7e2b2bfc2748112607bfe83fc99cf48c97b48

Last test of basis    67793  2016-10-04 03:50:13 Z    2 days
Testing same since    67810  2016-10-06 04:46:28 Z    0 days    1 attempts

------------------------------------------------------------
People who touched revisions under test:
  Tapan Shah <tapandshah@hpe.com>

jobs:
 build-amd64-xsm                                              broken  
 build-i386-xsm                                               broken  
 build-amd64                                                  broken  
 build-i386                                                   broken  
 build-amd64-libvirt                                          blocked 
 build-i386-libvirt                                           blocked 
 build-amd64-pvops                                            broken  
 build-i386-pvops                                             broken  
 test-amd64-amd64-xl-qemuu-ovmf-amd64                         blocked 
 test-amd64-i386-xl-qemuu-ovmf-amd64                          blocked 


------------------------------------------------------------
sg-report-flight on osstest.xs.citrite.net
logs: /home/osstest/logs
images: /home/osstest/images

Logs, config files, etc. are available at
    http://osstest.xs.citrite.net/~osstest/testlogs/logs

Test harness code can be found at
    http://xenbits.xensource.com/gitweb?p=osstest.git;a=summary

broken-step build-amd64-xsm hosts-allocate
broken-step build-amd64 hosts-allocate
broken-step build-amd64-pvops hosts-allocate
broken-step build-i386-pvops hosts-allocate
broken-step build-i386-xsm hosts-allocate
broken-step build-i386 hosts-allocate
broken-step build-i386-xsm capture-logs
broken-step build-i386 capture-logs
broken-step build-i386-pvops capture-logs
broken-step build-amd64-xsm capture-logs
broken-step build-amd64-pvops capture-logs
broken-step build-amd64 capture-logs

Push not applicable.

------------------------------------------------------------
commit 2cf9ecd2262e4098171fa27c97b56d483f5cf3b4
Author: Tapan Shah <tapandshah@hpe.com>
Date:   Wed Oct 5 13:58:05 2016 -0700

    ShellPkg: Move UnicodeCollation2 Protcol locate out of UefiShellLib constructor
    
    Move gEfiUnicodeCollation2ProtocolGuid protocol outside of UefiShellLib constructor
    function.
    Locate gEfiUnicodeCollation2ProtocolGuid protocol in ShellOpenFileByName() which
    consumes this protocol API.
    
    Contributed-under: TianoCore Contribution Agreement 1.0
    Signed-off-by: Tapan Shah <tapandshah@hpe.com>
    Reviewed-by: Jaben Carsey <jaben.carsey@intel.com>

_______________________________________________
Xen-devel mailing list
Xen-devel@lists.xen.org
https://lists.xen.org/xen-devel

^ permalink raw reply	[flat|nested] only message in thread

only message in thread, other threads:[~2016-10-06  9:18 UTC | newest]

Thread overview: (only message) (download: mbox.gz follow: Atom feed
-- links below jump to the message on this page --
2016-10-06  9:18 [ovmf baseline-only test] 67810: trouble: blocked/broken Platform Team regression test user

This is a public inbox, see mirroring instructions
for how to clone and mirror all data and code used for this inbox;
as well as URLs for NNTP newsgroup(s).