xen-devel.lists.xenproject.org archive mirror
 help / color / mirror / Atom feed
From: Platform Team regression test user <citrix-osstest@xenproject.org>
To: xen-devel@lists.xensource.com, osstest-admin@xenproject.org
Subject: [ovmf baseline-only test] 67879: all pass
Date: Fri, 14 Oct 2016 16:20:02 +0100	[thread overview]
Message-ID: <osstest-67879-mainreport@xen.org> (raw)

This run is configured for baseline tests only.

flight 67879 ovmf real [real]
http://osstest.xs.citrite.net/~osstest/testlogs/logs/67879/

Perfect :-)
All tests in this flight passed as required
version targeted for testing:
 ovmf                 a2d59ef2912079fe0631f7ee7661dad2ddb472c8
baseline version:
 ovmf                 08354c34486947da17a36a605f9a4b000132123f

Last test of basis    67875  2016-10-13 16:18:57 Z    0 days
Testing same since    67879  2016-10-14 10:50:57 Z    0 days    1 attempts

------------------------------------------------------------
People who touched revisions under test:
  Ye Ting <ting.ye@intel.com>

jobs:
 build-amd64-xsm                                              pass    
 build-i386-xsm                                               pass    
 build-amd64                                                  pass    
 build-i386                                                   pass    
 build-amd64-libvirt                                          pass    
 build-i386-libvirt                                           pass    
 build-amd64-pvops                                            pass    
 build-i386-pvops                                             pass    
 test-amd64-amd64-xl-qemuu-ovmf-amd64                         pass    
 test-amd64-i386-xl-qemuu-ovmf-amd64                          pass    


------------------------------------------------------------
sg-report-flight on osstest.xs.citrite.net
logs: /home/osstest/logs
images: /home/osstest/images

Logs, config files, etc. are available at
    http://osstest.xs.citrite.net/~osstest/testlogs/logs

Test harness code can be found at
    http://xenbits.xensource.com/gitweb?p=osstest.git;a=summary


Push not applicable.

------------------------------------------------------------
commit a2d59ef2912079fe0631f7ee7661dad2ddb472c8
Author: Ye Ting <ting.ye@intel.com>
Date:   Thu Sep 29 13:52:05 2016 +0800

    NetworkPkg: Record user configured TargetIP/Port in iBFT
    
    Current ISCSI driver records redirected iSCSI targetIP/Port in iBFT
    once redirection occurs, which removes the possibility of the OS
    to reconnect to the configured IP for load balancing. The behavior
    is not explicitly described in IBFT spec, though the MSFT expert
    confirm we should record original user setting rather than
    publish the redirected IP.
    
    Thanks Sriram for reviewing and validating this patch in his test-bed.
    
    Cc: Subramanian Sriram <sriram-s@hpe.com>
    Cc: Fu Siyuan <siyuan.fu@intel.com>
    Cc: Zhang Lubo <lubo.zhang@intel.com>
    
    Contributed-under: TianoCore Contribution Agreement 1.0
    Signed-off-by: Ye Ting <ting.ye@intel.com>
    Reviewed-by: Fu Siyuan <siyuan.fu@intel.com>
    Reviewed-by: Subramanian Sriram <sriram-s@hpe.com>

_______________________________________________
Xen-devel mailing list
Xen-devel@lists.xen.org
https://lists.xen.org/xen-devel

                 reply	other threads:[~2016-10-14 15:20 UTC|newest]

Thread overview: [no followups] expand[flat|nested]  mbox.gz  Atom feed

Reply instructions:

You may reply publicly to this message via plain-text email
using any one of the following methods:

* Save the following mbox file, import it into your mail client,
  and reply-to-all from there: mbox

  Avoid top-posting and favor interleaved quoting:
  https://en.wikipedia.org/wiki/Posting_style#Interleaved_style

* Reply using the --to, --cc, and --in-reply-to
  switches of git-send-email(1):

  git send-email \
    --in-reply-to=osstest-67879-mainreport@xen.org \
    --to=citrix-osstest@xenproject.org \
    --cc=osstest-admin@xenproject.org \
    --cc=xen-devel@lists.xensource.com \
    /path/to/YOUR_REPLY

  https://kernel.org/pub/software/scm/git/docs/git-send-email.html

* If your mail client supports setting the In-Reply-To header
  via mailto: links, try the mailto: link
Be sure your reply has a Subject: header at the top and a blank line before the message body.
This is a public inbox, see mirroring instructions
for how to clone and mirror all data and code used for this inbox;
as well as URLs for NNTP newsgroup(s).