* [ovmf baseline-only test] 67881: all pass
@ 2016-10-14 18:37 Platform Team regression test user
0 siblings, 0 replies; only message in thread
From: Platform Team regression test user @ 2016-10-14 18:37 UTC (permalink / raw)
To: xen-devel, osstest-admin
This run is configured for baseline tests only.
flight 67881 ovmf real [real]
http://osstest.xs.citrite.net/~osstest/testlogs/logs/67881/
Perfect :-)
All tests in this flight passed as required
version targeted for testing:
ovmf ad9448408a5d2863db4aa2cb5d1f0d4a27689528
baseline version:
ovmf a2d59ef2912079fe0631f7ee7661dad2ddb472c8
Last test of basis 67879 2016-10-14 10:50:57 Z 0 days
Testing same since 67881 2016-10-14 16:46:16 Z 0 days 1 attempts
------------------------------------------------------------
People who touched revisions under test:
Giri P Mudusuru <giri.p.mudusuru@intel.com>
jobs:
build-amd64-xsm pass
build-i386-xsm pass
build-amd64 pass
build-i386 pass
build-amd64-libvirt pass
build-i386-libvirt pass
build-amd64-pvops pass
build-i386-pvops pass
test-amd64-amd64-xl-qemuu-ovmf-amd64 pass
test-amd64-i386-xl-qemuu-ovmf-amd64 pass
------------------------------------------------------------
sg-report-flight on osstest.xs.citrite.net
logs: /home/osstest/logs
images: /home/osstest/images
Logs, config files, etc. are available at
http://osstest.xs.citrite.net/~osstest/testlogs/logs
Test harness code can be found at
http://xenbits.xensource.com/gitweb?p=osstest.git;a=summary
Push not applicable.
------------------------------------------------------------
commit ad9448408a5d2863db4aa2cb5d1f0d4a27689528
Author: Giri P Mudusuru <giri.p.mudusuru@intel.com>
Date: Tue Oct 11 22:13:56 2016 -0700
IntelSiliconPkg: Add Intel Firmware Version Info (FVI) definitions
Adding Intel Firmware Version Info (FVI) related defines & structures.
FVI enables reporting the Firmware Versions using SMBIOS OEM Type.
Contributed-under: TianoCore Contribution Agreement 1.0
Signed-off-by: Giri P Mudusuru <giri.p.mudusuru@intel.com>
Reviewed-by: Jiewen Yao <jiewen.yao@intel.com>
Reviewed-by: Star Zeng <star.zeng@intel.com>
_______________________________________________
Xen-devel mailing list
Xen-devel@lists.xen.org
https://lists.xen.org/xen-devel
^ permalink raw reply [flat|nested] only message in thread
only message in thread, other threads:[~2016-10-14 18:37 UTC | newest]
Thread overview: (only message) (download: mbox.gz follow: Atom feed
-- links below jump to the message on this page --
2016-10-14 18:37 [ovmf baseline-only test] 67881: all pass Platform Team regression test user
This is a public inbox, see mirroring instructions
for how to clone and mirror all data and code used for this inbox;
as well as URLs for NNTP newsgroup(s).