* [ovmf baseline-only test] 67912: all pass
@ 2016-10-20 7:07 Platform Team regression test user
0 siblings, 0 replies; only message in thread
From: Platform Team regression test user @ 2016-10-20 7:07 UTC (permalink / raw)
To: xen-devel, osstest-admin
This run is configured for baseline tests only.
flight 67912 ovmf real [real]
http://osstest.xs.citrite.net/~osstest/testlogs/logs/67912/
Perfect :-)
All tests in this flight passed as required
version targeted for testing:
ovmf f17c0ab617c86210d1b3de4ec493ee2f2ed3e1e6
baseline version:
ovmf 4f0624e87a89afce8408a87997482b383e7ba131
Last test of basis 67911 2016-10-19 23:46:33 Z 0 days
Testing same since 67912 2016-10-20 05:17:59 Z 0 days 1 attempts
------------------------------------------------------------
People who touched revisions under test:
Gary Lin <glin@suse.com>
jobs:
build-amd64-xsm pass
build-i386-xsm pass
build-amd64 pass
build-i386 pass
build-amd64-libvirt pass
build-i386-libvirt pass
build-amd64-pvops pass
build-i386-pvops pass
test-amd64-amd64-xl-qemuu-ovmf-amd64 pass
test-amd64-i386-xl-qemuu-ovmf-amd64 pass
------------------------------------------------------------
sg-report-flight on osstest.xs.citrite.net
logs: /home/osstest/logs
images: /home/osstest/images
Logs, config files, etc. are available at
http://osstest.xs.citrite.net/~osstest/testlogs/logs
Test harness code can be found at
http://xenbits.xensource.com/gitweb?p=osstest.git;a=summary
Push not applicable.
------------------------------------------------------------
commit f17c0ab617c86210d1b3de4ec493ee2f2ed3e1e6
Author: Gary Lin <glin@suse.com>
Date: Wed Oct 19 15:01:31 2016 +0800
OvmfPkg: Fix typos in comments
- Incude -> Include
- futhure -> future
- Predfined -> Predefined
- minimue -> minimum
- predeined -> predefined
- excute -> execute
- dirver -> driver
- inforamtion -> information
Contributed-under: TianoCore Contribution Agreement 1.0
Signed-off-by: Gary Lin <glin@suse.com>
Reviewed-by: Jordan Justen <jordan.l.justen@intel.com>
commit afa99fac5481ec3934f95429ae753991ce9538c1
Author: Gary Lin <glin@suse.com>
Date: Wed Oct 19 15:01:13 2016 +0800
EmulatorPkg: Fix typos in comments and variables
- Predfined -> Predefined
- minimue -> minimum
- predeined -> predefined
- excute -> execute
- availible -> available
- discontiguous -> discontinuous
- permenent -> permanent
- immediatly -> immediately
- environmemt -> environment
- Seperator -> Separator
- remmeber -> remember
- initailized -> initialized
Contributed-under: TianoCore Contribution Agreement 1.0
Signed-off-by: Gary Lin <glin@suse.com>
Reviewed-by: Jordan Justen <jordan.l.justen@intel.com>
_______________________________________________
Xen-devel mailing list
Xen-devel@lists.xen.org
https://lists.xen.org/xen-devel
^ permalink raw reply [flat|nested] only message in thread
only message in thread, other threads:[~2016-10-20 7:07 UTC | newest]
Thread overview: (only message) (download: mbox.gz follow: Atom feed
-- links below jump to the message on this page --
2016-10-20 7:07 [ovmf baseline-only test] 67912: all pass Platform Team regression test user
This is a public inbox, see mirroring instructions
for how to clone and mirror all data and code used for this inbox;
as well as URLs for NNTP newsgroup(s).