From: Platform Team regression test user <citrix-osstest@xenproject.org>
To: xen-devel@lists.xensource.com, osstest-admin@xenproject.org
Subject: [ovmf baseline-only test] 67921: all pass
Date: Fri, 21 Oct 2016 19:37:12 +0100 [thread overview]
Message-ID: <osstest-67921-mainreport@xen.org> (raw)
This run is configured for baseline tests only.
flight 67921 ovmf real [real]
http://osstest.xs.citrite.net/~osstest/testlogs/logs/67921/
Perfect :-)
All tests in this flight passed as required
version targeted for testing:
ovmf a750b4ae24ce072f7c5ced1b89c18f9cc23debc8
baseline version:
ovmf 55d05ae145145dafdd77a7c6f5c0b3677096cbde
Last test of basis 67920 2016-10-21 10:48:46 Z 0 days
Testing same since 67921 2016-10-21 16:46:26 Z 0 days 1 attempts
------------------------------------------------------------
People who touched revisions under test:
Dennis Chen <dennis.chen@arm.com>
Gary Lin <glin@suse.com>
Giri P Mudusuru <giri.p.mudusuru@intel.com>
Laszlo Ersek <lersek@redhat.com>
Liming Gao <liming.gao@intel.com>
jobs:
build-amd64-xsm pass
build-i386-xsm pass
build-amd64 pass
build-i386 pass
build-amd64-libvirt pass
build-i386-libvirt pass
build-amd64-pvops pass
build-i386-pvops pass
test-amd64-amd64-xl-qemuu-ovmf-amd64 pass
test-amd64-i386-xl-qemuu-ovmf-amd64 pass
------------------------------------------------------------
sg-report-flight on osstest.xs.citrite.net
logs: /home/osstest/logs
images: /home/osstest/images
Logs, config files, etc. are available at
http://osstest.xs.citrite.net/~osstest/testlogs/logs
Test harness code can be found at
http://xenbits.xensource.com/gitweb?p=osstest.git;a=summary
Push not applicable.
------------------------------------------------------------
commit a750b4ae24ce072f7c5ced1b89c18f9cc23debc8
Author: Gary Lin <glin@suse.com>
Date: Wed Oct 19 15:01:27 2016 +0800
MdePkg: Fix typos in comments
- Resuts -> Results
- outputed -> outputted
- specifiecd -> specified
- TURE -> TRUE
- specifed -> specified
- Pointion -> Position
- Arrary -> Array
- elasped -> elapsed
- paramter -> parameter
- Sumbit -> Submit
Cc: Michael D Kinney <michael.d.kinney@intel.com>
Cc: Liming Gao <liming.gao@intel.com>
Contributed-under: TianoCore Contribution Agreement 1.0
Signed-off-by: Gary Lin <glin@suse.com>
Reviewed-by: Liming Gao <liming.gao@intel.com>
commit 4fc0be870536f34344eb07083acfc901ab4dcd1b
Author: Gary Lin <glin@suse.com>
Date: Wed Oct 19 15:01:12 2016 +0800
EdkCompatibilityPkg: Fix typos in comments
- excute -> execute
- Pacakges -> Packages
- successfull -> successfully
- outputed -> outputted
- triggerred -> triggered
- specifiecd -> specified
- hexidecimal -> hexadecimal
- Arrary -> Array
- Pointion -> Position
- paramter -> parameter
- stardard -> standard
- perodically -> periodically
- dependecy -> dependency
- evauated -> evaluated
- availible -> available
- boundry -> boundary
- discontiguous -> discontinuous
Cc: Liming Gao <liming.gao@intel.com>
Contributed-under: TianoCore Contribution Agreement 1.0
Signed-off-by: Gary Lin <glin@suse.com>
Reviewed-by: Liming Gao <liming.gao@intel.com>
commit c4260115f0fcf23d538dc0ac90443ee954c30c6d
Author: Liming Gao <liming.gao@intel.com>
Date: Fri Oct 21 13:25:19 2016 +0800
BaseTools VS Makefile: Use /MT in replace of /MD to remove specific dll
/MD option will introduce the specific version dll dependency. It will cause
the compiled C tools not work on some system.
Contributed-under: TianoCore Contribution Agreement 1.0
Signed-off-by: Liming Gao <liming.gao@intel.com>
Reviewed-by: Yonghong Zhu <yonghong.zhu@intel.com>
commit 041e842ab7b3c163564ab7545e6de445ae0a2e09
Author: Dennis Chen <dennis.chen@arm.com>
Date: Fri Oct 21 13:50:24 2016 +0800
ArmVirtPkg/ArmVirtGicArchLib: adapt ASSERT()s to 64-bit base addresses
Since All the GIC base address variables has been aligned to 64-bit, it
doesn't make sense to continue use MAX_UINT32 in ASSERT() statement, so
this patch uses MAX_UINTN to adapt to this kind of change.
Contributed-under: TianoCore Contribution Agreement 1.0
Cc: Leif Lindholm <leif.lindholm@linaro.org>
Signed-off-by: Dennis Chen <dennis.chen@arm.com>
Acked-by: Laszlo Ersek <lersek@redhat.com>
Reviewed-by: Ard Biesheuvel <ard.biesheuvel@linaro.org>
commit 57419e679083420d2cbc32d4b4243b1ebaacf79b
Author: Giri P Mudusuru <giri.p.mudusuru@intel.com>
Date: Tue Oct 18 04:18:11 2016 -0700
MdePkg: Add ACPI Low Power Idle Table (LPIT) definitions
ACPI Low Power Idle Table (LPIT) Revision 001, dated July 2014
http://www.uefi.org/sites/default/files/resources/ACPI_Low_Power_Idle_Table.pdf
Cc: Michael Kinney <michael.d.kinney@intel.com>
Cc: Liming Gao <liming.gao@intel.com>
Cc: Jiewen Yao <jiewen.yao@intel.com>
Contributed-under: TianoCore Contribution Agreement 1.0
Signed-off-by: Giri P Mudusuru <giri.p.mudusuru@intel.com>
Reviewed-by: Liming Gao <liming.gao@intel.com>
Reviewed-by: Jiewen Yao <jiewen.yao@intel.com>
_______________________________________________
Xen-devel mailing list
Xen-devel@lists.xen.org
https://lists.xen.org/xen-devel
reply other threads:[~2016-10-21 18:37 UTC|newest]
Thread overview: [no followups] expand[flat|nested] mbox.gz Atom feed
Reply instructions:
You may reply publicly to this message via plain-text email
using any one of the following methods:
* Save the following mbox file, import it into your mail client,
and reply-to-all from there: mbox
Avoid top-posting and favor interleaved quoting:
https://en.wikipedia.org/wiki/Posting_style#Interleaved_style
* Reply using the --to, --cc, and --in-reply-to
switches of git-send-email(1):
git send-email \
--in-reply-to=osstest-67921-mainreport@xen.org \
--to=citrix-osstest@xenproject.org \
--cc=osstest-admin@xenproject.org \
--cc=xen-devel@lists.xensource.com \
/path/to/YOUR_REPLY
https://kernel.org/pub/software/scm/git/docs/git-send-email.html
* If your mail client supports setting the In-Reply-To header
via mailto: links, try the mailto: link
Be sure your reply has a Subject: header at the top and a blank line
before the message body.
This is a public inbox, see mirroring instructions
for how to clone and mirror all data and code used for this inbox;
as well as URLs for NNTP newsgroup(s).