xen-devel.lists.xenproject.org archive mirror
 help / color / mirror / Atom feed
* [ovmf baseline-only test] 67922: all pass
@ 2016-10-22  2:52 Platform Team regression test user
  0 siblings, 0 replies; only message in thread
From: Platform Team regression test user @ 2016-10-22  2:52 UTC (permalink / raw)
  To: xen-devel, osstest-admin

This run is configured for baseline tests only.

flight 67922 ovmf real [real]
http://osstest.xs.citrite.net/~osstest/testlogs/logs/67922/

Perfect :-)
All tests in this flight passed as required
version targeted for testing:
 ovmf                 3e14edf82031845233f3825ac9239609c0ee98fc
baseline version:
 ovmf                 a750b4ae24ce072f7c5ced1b89c18f9cc23debc8

Last test of basis    67921  2016-10-21 16:46:26 Z    0 days
Testing same since    67922  2016-10-22 00:49:17 Z    0 days    1 attempts

------------------------------------------------------------
People who touched revisions under test:
  Chao Zhang <chao.b.zhang@intel.com>
  Zhang, Chao B <chao.b.zhang@intel.com>

jobs:
 build-amd64-xsm                                              pass    
 build-i386-xsm                                               pass    
 build-amd64                                                  pass    
 build-i386                                                   pass    
 build-amd64-libvirt                                          pass    
 build-i386-libvirt                                           pass    
 build-amd64-pvops                                            pass    
 build-i386-pvops                                             pass    
 test-amd64-amd64-xl-qemuu-ovmf-amd64                         pass    
 test-amd64-i386-xl-qemuu-ovmf-amd64                          pass    


------------------------------------------------------------
sg-report-flight on osstest.xs.citrite.net
logs: /home/osstest/logs
images: /home/osstest/images

Logs, config files, etc. are available at
    http://osstest.xs.citrite.net/~osstest/testlogs/logs

Test harness code can be found at
    http://xenbits.xensource.com/gitweb?p=osstest.git;a=summary


Push not applicable.

------------------------------------------------------------
commit 3e14edf82031845233f3825ac9239609c0ee98fc
Author: Zhang, Chao B <chao.b.zhang@intel.com>
Date:   Fri Oct 21 13:22:18 2016 +0800

    SecurityPkg: SmmTcg2PhysicalPresenceLib: Fix coding style issue
    
    Fix coding style issue for function descriptor.
    
    Contributed-under: TianoCore Contribution Agreement 1.0
    Signed-off-by: Chao Zhang <chao.b.zhang@intel.com>
    Reviewed-by: Long Qin <qin.long@intel.com>
    Reviewed-by: Bi Dandan <dandan.bi@intel.com>

_______________________________________________
Xen-devel mailing list
Xen-devel@lists.xen.org
https://lists.xen.org/xen-devel

^ permalink raw reply	[flat|nested] only message in thread

only message in thread, other threads:[~2016-10-22  2:52 UTC | newest]

Thread overview: (only message) (download: mbox.gz follow: Atom feed
-- links below jump to the message on this page --
2016-10-22  2:52 [ovmf baseline-only test] 67922: all pass Platform Team regression test user

This is a public inbox, see mirroring instructions
for how to clone and mirror all data and code used for this inbox;
as well as URLs for NNTP newsgroup(s).