From: Platform Team regression test user <citrix-osstest@xenproject.org>
To: xen-devel@lists.xensource.com, osstest-admin@xenproject.org
Subject: [ovmf baseline-only test] 67924: all pass
Date: Mon, 24 Oct 2016 07:00:32 +0100 [thread overview]
Message-ID: <osstest-67924-mainreport@xen.org> (raw)
This run is configured for baseline tests only.
flight 67924 ovmf real [real]
http://osstest.xs.citrite.net/~osstest/testlogs/logs/67924/
Perfect :-)
All tests in this flight passed as required
version targeted for testing:
ovmf 0bfb9ee855d0433efdb2b0d6c9dfa6c310b66e9b
baseline version:
ovmf 3e14edf82031845233f3825ac9239609c0ee98fc
Last test of basis 67922 2016-10-22 00:49:17 Z 2 days
Testing same since 67924 2016-10-24 04:16:00 Z 0 days 1 attempts
------------------------------------------------------------
People who touched revisions under test:
Gary Lin <glin@suse.com>
jobs:
build-amd64-xsm pass
build-i386-xsm pass
build-amd64 pass
build-i386 pass
build-amd64-libvirt pass
build-i386-libvirt pass
build-amd64-pvops pass
build-i386-pvops pass
test-amd64-amd64-xl-qemuu-ovmf-amd64 pass
test-amd64-i386-xl-qemuu-ovmf-amd64 pass
------------------------------------------------------------
sg-report-flight on osstest.xs.citrite.net
logs: /home/osstest/logs
images: /home/osstest/images
Logs, config files, etc. are available at
http://osstest.xs.citrite.net/~osstest/testlogs/logs
Test harness code can be found at
http://xenbits.xensource.com/gitweb?p=osstest.git;a=summary
Push not applicable.
------------------------------------------------------------
commit 0bfb9ee855d0433efdb2b0d6c9dfa6c310b66e9b
Author: Gary Lin <glin@suse.com>
Date: Wed Oct 19 15:01:20 2016 +0800
IntelFsp2WrapperPkg: Fix a typo in the comment
- boundry -> boundary
Cc: Jiewen Yao <jiewen.yao@intel.com>
Cc: Giri P Mudusuru <giri.p.mudusuru@intel.com>
Contributed-under: TianoCore Contribution Agreement 1.0
Signed-off-by: Gary Lin <glin@suse.com>
Reviewed-by: Jiewen Yao <jiewen.yao@intel.com>
Reviewed-by: Giri P Mudusuru <giri.p.mudusuru@intel.com>
commit 058dcbf2b2c647d021820097fab8b6d4fced4465
Author: Gary Lin <glin@suse.com>
Date: Wed Oct 19 15:01:19 2016 +0800
IntelFsp2Pkg: Fix typos in comments
- tempory -> temporary
- immediatly -> immediately
- permenent -> permanent
- funciton -> function
Cc: Jiewen Yao <jiewen.yao@intel.com>
Cc: Giri P Mudusuru <giri.p.mudusuru@intel.com>
Contributed-under: TianoCore Contribution Agreement 1.0
Signed-off-by: Gary Lin <glin@suse.com>
Reviewed-by: Jiewen Yao <jiewen.yao@intel.com>
Reviewed-by: Giri P Mudusuru <giri.p.mudusuru@intel.com>
commit b9ca25cb683174b4992b7d3826d1e4b5095a22e9
Author: Gary Lin <glin@suse.com>
Date: Wed Oct 19 15:01:18 2016 +0800
IntelFspWrapperPkg: Fix typos in comments
- inforamtion -> information
- tempory -> temporary
- boundry -> boundary
- immediatly -> immediately
- permenent -> permanent
Cc: Jiewen Yao <jiewen.yao@intel.com>
Contributed-under: TianoCore Contribution Agreement 1.0
Signed-off-by: Gary Lin <glin@suse.com>
Reviewed-by: Jiewen Yao <jiewen.yao@intel.com>
Reviewed-by: Giri P Mudusuru <giri.p.mudusuru@intel.com>
commit 13ca714cd24830d42252fdbd012abf5a5f716246
Author: Gary Lin <glin@suse.com>
Date: Wed Oct 19 15:01:17 2016 +0800
IntelFspPkg: Fix typos in comments
- tempory -> temporary
- immediatly -> immediately
- permenent -> permanent
- paramter -> parameter
- funciton -> function
Cc: Jiewen Yao <jiewen.yao@intel.com>
Contributed-under: TianoCore Contribution Agreement 1.0
Signed-off-by: Gary Lin <glin@suse.com>
Reviewed-by: Jiewen Yao <jiewen.yao@intel.com>
Reviewed-by: Giri P Mudusuru <giri.p.mudusuru@intel.com>
commit 74cdb367addc883595359c57c38d7cc465c88ea1
Author: Gary Lin <glin@suse.com>
Date: Wed Oct 19 15:01:36 2016 +0800
SourceLevelDebugPkg: Fix typos in comments
- descrption -> description
- Libary -> Library
- funciton -> function
- paramter -> parameter
- triggerred -> triggered
- hanlde -> handle
Cc: Jeff Fan <jeff.fan@intel.com>
Cc: Hao Wu <hao.a.wu@intel.com>
Contributed-under: TianoCore Contribution Agreement 1.0
Signed-off-by: Gary Lin <glin@suse.com>
Reviewed-by: Hao Wu <hao.a.wu@intel.com>
Reviewed-by: Jeff Fan <jeff.fan@intel.com>
commit 438f17665c949ccd8b2fec7646fa894f31b54df8
Author: Gary Lin <glin@suse.com>
Date: Thu Oct 20 14:53:02 2016 +0800
UefiCpuPkg: Fix typos in comments
- excute -> execute
- Retrive -> Retrieve
- possilbe -> possible
- CONTINOUS -> CONTINUOUS
- storgage -> storage
- allcated -> allocated
- triggerred -> triggered
- paramter -> parameter
- perodically -> periodically
- retore -> restore
v2:
- ruturn -> return
Cc: Jeff Fan <jeff.fan@intel.com>
Contributed-under: TianoCore Contribution Agreement 1.0
Signed-off-by: Gary Lin <glin@suse.com>
Reviewed-by: Jeff Fan <jeff.fan@intel.com>
commit d6a1c70de11eab1ac3e2b7172de7b32510bb9338
Author: Gary Lin <glin@suse.com>
Date: Wed Oct 19 15:01:16 2016 +0800
IntelFrameworkPkg: Fix typos in comments
- paramter -> parameter
- availible -> available
Cc: Jeff Fan <jeff.fan@intel.com>
Contributed-under: TianoCore Contribution Agreement 1.0
Signed-off-by: Gary Lin <glin@suse.com>
Reviewed-by: Jeff Fan <jeff.fan@intel.com>
commit 70d3fe9dad1d7b2944a2653b3895a11863fb674e
Author: Gary Lin <glin@suse.com>
Date: Wed Oct 19 15:01:15 2016 +0800
IntelFrameworkModulePkg: Fix typos in comments
- stoping -> stopping
- Pointion -> Position
- Arrary -> Array
- reseting -> resetting
- excute -> execute
- isTRUE -> is TRUE
- connectted -> connected
- Retrive -> Retrieve
- dirvers -> drivers
- funciton -> function
- paramter -> parameter
- availible -> available
- permenent -> permanent
- boundry -> boundary
Cc: Jeff Fan <jeff.fan@intel.com>
Contributed-under: TianoCore Contribution Agreement 1.0
Signed-off-by: Gary Lin <glin@suse.com>
Reviewed-by: Jeff Fan <jeff.fan@intel.com>
_______________________________________________
Xen-devel mailing list
Xen-devel@lists.xen.org
https://lists.xen.org/xen-devel
reply other threads:[~2016-10-24 6:00 UTC|newest]
Thread overview: [no followups] expand[flat|nested] mbox.gz Atom feed
Reply instructions:
You may reply publicly to this message via plain-text email
using any one of the following methods:
* Save the following mbox file, import it into your mail client,
and reply-to-all from there: mbox
Avoid top-posting and favor interleaved quoting:
https://en.wikipedia.org/wiki/Posting_style#Interleaved_style
* Reply using the --to, --cc, and --in-reply-to
switches of git-send-email(1):
git send-email \
--in-reply-to=osstest-67924-mainreport@xen.org \
--to=citrix-osstest@xenproject.org \
--cc=osstest-admin@xenproject.org \
--cc=xen-devel@lists.xensource.com \
/path/to/YOUR_REPLY
https://kernel.org/pub/software/scm/git/docs/git-send-email.html
* If your mail client supports setting the In-Reply-To header
via mailto: links, try the mailto: link
Be sure your reply has a Subject: header at the top and a blank line
before the message body.
This is a public inbox, see mirroring instructions
for how to clone and mirror all data and code used for this inbox;
as well as URLs for NNTP newsgroup(s).