From: Platform Team regression test user <citrix-osstest@xenproject.org>
To: xen-devel@lists.xensource.com, osstest-admin@xenproject.org
Subject: [ovmf baseline-only test] 67928: all pass
Date: Mon, 24 Oct 2016 21:25:27 +0100 [thread overview]
Message-ID: <osstest-67928-mainreport@xen.org> (raw)
This run is configured for baseline tests only.
flight 67928 ovmf real [real]
http://osstest.xs.citrite.net/~osstest/testlogs/logs/67928/
Perfect :-)
All tests in this flight passed as required
version targeted for testing:
ovmf b8e54b012126a90911e9602b9f6e10d4e16d01d9
baseline version:
ovmf 0bfb9ee855d0433efdb2b0d6c9dfa6c310b66e9b
Last test of basis 67924 2016-10-24 04:16:00 Z 0 days
Testing same since 67928 2016-10-24 14:21:22 Z 0 days 1 attempts
------------------------------------------------------------
People who touched revisions under test:
Cinnamon Shia <cinnamon.shia@hpe.com>
jobs:
build-amd64-xsm pass
build-i386-xsm pass
build-amd64 pass
build-i386 pass
build-amd64-libvirt pass
build-i386-libvirt pass
build-amd64-pvops pass
build-i386-pvops pass
test-amd64-amd64-xl-qemuu-ovmf-amd64 pass
test-amd64-i386-xl-qemuu-ovmf-amd64 pass
------------------------------------------------------------
sg-report-flight on osstest.xs.citrite.net
logs: /home/osstest/logs
images: /home/osstest/images
Logs, config files, etc. are available at
http://osstest.xs.citrite.net/~osstest/testlogs/logs
Test harness code can be found at
http://xenbits.xensource.com/gitweb?p=osstest.git;a=summary
Push not applicable.
------------------------------------------------------------
commit b8e54b012126a90911e9602b9f6e10d4e16d01d9
Author: Cinnamon Shia <cinnamon.shia@hpe.com>
Date: Fri Oct 21 15:41:21 2016 +0800
Edk2Setup.bat: Support building platforms with Python source
Following the same approach as toolsetup.bat:
If build.exe, TargetTool.exe, Trim.exe or GenFds.exe is missing, run its
Python source instead.
Contributed-under: TianoCore Contribution Agreement 1.0
Signed-off-by: Cinnamon Shia <cinnamon.shia@hpe.com>
Reviewed-by: Liming Gao <liming.gao@intel.com>
commit 92063b0b212ddc408dff163ede8e4ae36ba89400
Author: Cinnamon Shia <cinnamon.shia@hpe.com>
Date: Wed Oct 19 12:31:36 2016 +0800
edksetup.bat: Support --nt32 X64
Support --nt32 X64 for building 64-bit NT32.
For setting up Windows environment variables requited by NT32, follow the
same approach as Edk2Setup.bat by using the get_vsvars.bat and
SetVisualStudio.bat.
Sync the help text of NT32 with Edk2Setup.bat.
Contributed-under: TianoCore Contribution Agreement 1.0
Signed-off-by: Cinnamon Shia <cinnamon.shia@hpe.com>
Reviewed-by: Liming Gao <liming.gao@intel.com>
_______________________________________________
Xen-devel mailing list
Xen-devel@lists.xen.org
https://lists.xen.org/xen-devel
reply other threads:[~2016-10-24 20:25 UTC|newest]
Thread overview: [no followups] expand[flat|nested] mbox.gz Atom feed
Reply instructions:
You may reply publicly to this message via plain-text email
using any one of the following methods:
* Save the following mbox file, import it into your mail client,
and reply-to-all from there: mbox
Avoid top-posting and favor interleaved quoting:
https://en.wikipedia.org/wiki/Posting_style#Interleaved_style
* Reply using the --to, --cc, and --in-reply-to
switches of git-send-email(1):
git send-email \
--in-reply-to=osstest-67928-mainreport@xen.org \
--to=citrix-osstest@xenproject.org \
--cc=osstest-admin@xenproject.org \
--cc=xen-devel@lists.xensource.com \
/path/to/YOUR_REPLY
https://kernel.org/pub/software/scm/git/docs/git-send-email.html
* If your mail client supports setting the In-Reply-To header
via mailto: links, try the mailto: link
Be sure your reply has a Subject: header at the top and a blank line
before the message body.
This is a public inbox, see mirroring instructions
for how to clone and mirror all data and code used for this inbox;
as well as URLs for NNTP newsgroup(s).