* [ovmf baseline-only test] 67932: all pass
@ 2016-10-25 19:55 Platform Team regression test user
0 siblings, 0 replies; only message in thread
From: Platform Team regression test user @ 2016-10-25 19:55 UTC (permalink / raw)
To: xen-devel, osstest-admin
This run is configured for baseline tests only.
flight 67932 ovmf real [real]
http://osstest.xs.citrite.net/~osstest/testlogs/logs/67932/
Perfect :-)
All tests in this flight passed as required
version targeted for testing:
ovmf 2a3263303b5131e9e2cdb7106e17fc4c28b5c4b3
baseline version:
ovmf 9d54bf4e7ef13fc0d8ccb954d106fc6ff29dd8ea
Last test of basis 67931 2016-10-25 08:16:20 Z 0 days
Testing same since 67932 2016-10-25 17:48:54 Z 0 days 1 attempts
------------------------------------------------------------
People who touched revisions under test:
Fu Siyuan <siyuan.fu@intel.com>
Liming Gao <liming.gao@intel.com>
Ruiyu Ni <ruiyu.ni@intel.com>
jobs:
build-amd64-xsm pass
build-i386-xsm pass
build-amd64 pass
build-i386 pass
build-amd64-libvirt pass
build-i386-libvirt pass
build-amd64-pvops pass
build-i386-pvops pass
test-amd64-amd64-xl-qemuu-ovmf-amd64 pass
test-amd64-i386-xl-qemuu-ovmf-amd64 pass
------------------------------------------------------------
sg-report-flight on osstest.xs.citrite.net
logs: /home/osstest/logs
images: /home/osstest/images
Logs, config files, etc. are available at
http://osstest.xs.citrite.net/~osstest/testlogs/logs
Test harness code can be found at
http://xenbits.xensource.com/gitweb?p=osstest.git;a=summary
Push not applicable.
------------------------------------------------------------
commit 2a3263303b5131e9e2cdb7106e17fc4c28b5c4b3
Author: Fu Siyuan <siyuan.fu@intel.com>
Date: Thu Sep 8 11:27:12 2016 +0800
ShellPkg: update ping to use timer service instead of timer arch protocol .
The ping command uses PI CPU arch protocol to calculate the RTT time, which is
not allowed to use in UEFI shell. This patch updates it to use the UEFI timer
event and Stall service to estimate the system timer period.
Contributed-under: TianoCore Contribution Agreement 1.0
Signed-off-by: Fu Siyuan <siyuan.fu@intel.com>
Reviewed-by: Ruiyu Ni <ruiyu.ni@intel.com>
Reviewed-by: Hegde, Nagaraj P <nagaraj-p.hegde@hpe.com>
commit 8e947c07b6dbc426d262a7070fafe3d2ae4c4e04
Author: Liming Gao <liming.gao@intel.com>
Date: Thu Oct 20 13:57:14 2016 +0800
MdePkg BaseMemoryLibOptDxe: Add function comment for InternalMemCompareGuid
Cc: Ard Biesheuvel <ard.biesheuvel@linaro.org>
Contributed-under: TianoCore Contribution Agreement 1.0
Signed-off-by: Liming Gao <liming.gao@intel.com>
Reviewed-by: Ard Biesheuvel <ard.biesheuvel@linaro.org>
commit 635d8ec31cd5d8a1186a95207fbd7d336b282186
Author: Liming Gao <liming.gao@intel.com>
Date: Thu Oct 20 13:55:06 2016 +0800
MdeModulePkg LoadFileOnFv2: Correct the parameter name in function comment
Contributed-under: TianoCore Contribution Agreement 1.0
Signed-off-by: Liming Gao <liming.gao@intel.com>
Reviewed-by: Feng Tian <feng.tian@intel.com>
commit 3010cc2542349c6d8fa080dd71a1dadd16bcfaed
Author: Ruiyu Ni <ruiyu.ni@intel.com>
Date: Thu Oct 20 09:58:45 2016 +0800
MdeModulePkg/HiiDatabaseDxe.inf: Correct the GUID usages
Contributed-under: TianoCore Contribution Agreement 1.0
Signed-off-by: Ruiyu Ni <ruiyu.ni@intel.com>
Reviewed-by: Dandan Bi <dandan.bi@intel.com>
commit 9203253e1cb5e1366d10dc016c5ef3854f96dbe6
Author: Ruiyu Ni <ruiyu.ni@intel.com>
Date: Thu Oct 20 09:58:12 2016 +0800
MdeModulePkg/GraphicsOutputDxe.inf: Correct the protocol/GUID usages
Contributed-under: TianoCore Contribution Agreement 1.0
Signed-off-by: Ruiyu Ni <ruiyu.ni@intel.com>
Reviewed-by: Dandan Bi <dandan.bi@intel.com>
commit 9fafa0282a38f07c24e8453b3a8d975b9156405b
Author: Ruiyu Ni <ruiyu.ni@intel.com>
Date: Thu Oct 20 09:57:01 2016 +0800
MdeModulePkg: Add PcdPciDegradeResourceForOptionRom prompt&help to UNI
Contributed-under: TianoCore Contribution Agreement 1.0
Signed-off-by: Ruiyu Ni <ruiyu.ni@intel.com>
Reviewed-by: Dandan Bi <dandan.bi@intel.com>
_______________________________________________
Xen-devel mailing list
Xen-devel@lists.xen.org
https://lists.xen.org/xen-devel
^ permalink raw reply [flat|nested] only message in thread
only message in thread, other threads:[~2016-10-25 19:55 UTC | newest]
Thread overview: (only message) (download: mbox.gz follow: Atom feed
-- links below jump to the message on this page --
2016-10-25 19:55 [ovmf baseline-only test] 67932: all pass Platform Team regression test user
This is a public inbox, see mirroring instructions
for how to clone and mirror all data and code used for this inbox;
as well as URLs for NNTP newsgroup(s).