* [ovmf baseline-only test] 67938: all pass
@ 2016-10-26 19:02 Platform Team regression test user
0 siblings, 0 replies; only message in thread
From: Platform Team regression test user @ 2016-10-26 19:02 UTC (permalink / raw)
To: xen-devel, osstest-admin
This run is configured for baseline tests only.
flight 67938 ovmf real [real]
http://osstest.xs.citrite.net/~osstest/testlogs/logs/67938/
Perfect :-)
All tests in this flight passed as required
version targeted for testing:
ovmf 17dc8ebc0d76831cb9f7b0e32ccb87efa116b3ce
baseline version:
ovmf 2a3263303b5131e9e2cdb7106e17fc4c28b5c4b3
Last test of basis 67932 2016-10-25 17:48:54 Z 1 days
Testing same since 67938 2016-10-26 07:47:36 Z 0 days 1 attempts
------------------------------------------------------------
People who touched revisions under test:
Ard Biesheuvel <ard.biesheuvel@linaro.org> # RVCT
Gary Lin <glin@suse.com>
Laszlo Ersek <lersek@redhat.com>
jobs:
build-amd64-xsm pass
build-i386-xsm pass
build-amd64 pass
build-i386 pass
build-amd64-libvirt pass
build-i386-libvirt pass
build-amd64-pvops pass
build-i386-pvops pass
test-amd64-amd64-xl-qemuu-ovmf-amd64 pass
test-amd64-i386-xl-qemuu-ovmf-amd64 pass
------------------------------------------------------------
sg-report-flight on osstest.xs.citrite.net
logs: /home/osstest/logs
images: /home/osstest/images
Logs, config files, etc. are available at
http://osstest.xs.citrite.net/~osstest/testlogs/logs
Test harness code can be found at
http://xenbits.xensource.com/gitweb?p=osstest.git;a=summary
Push not applicable.
(No revision log; it would be 464 lines long.)
_______________________________________________
Xen-devel mailing list
Xen-devel@lists.xen.org
https://lists.xen.org/xen-devel
^ permalink raw reply [flat|nested] only message in thread
only message in thread, other threads:[~2016-10-26 19:02 UTC | newest]
Thread overview: (only message) (download: mbox.gz follow: Atom feed
-- links below jump to the message on this page --
2016-10-26 19:02 [ovmf baseline-only test] 67938: all pass Platform Team regression test user
This is a public inbox, see mirroring instructions
for how to clone and mirror all data and code used for this inbox;
as well as URLs for NNTP newsgroup(s).