xen-devel.lists.xenproject.org archive mirror
 help / color / mirror / Atom feed
From: Platform Team regression test user <citrix-osstest@xenproject.org>
To: xen-devel@lists.xensource.com, osstest-admin@xenproject.org
Subject: [ovmf baseline-only test] 67940: all pass
Date: Thu, 27 Oct 2016 07:45:37 +0100	[thread overview]
Message-ID: <osstest-67940-mainreport@xen.org> (raw)

This run is configured for baseline tests only.

flight 67940 ovmf real [real]
http://osstest.xs.citrite.net/~osstest/testlogs/logs/67940/

Perfect :-)
All tests in this flight passed as required
version targeted for testing:
 ovmf                 4e908975c645bedd40ac77497d42629ef3cf9fc5
baseline version:
 ovmf                 17dc8ebc0d76831cb9f7b0e32ccb87efa116b3ce

Last test of basis    67938  2016-10-26 07:47:36 Z    0 days
Testing same since    67940  2016-10-27 04:18:26 Z    0 days    1 attempts

------------------------------------------------------------
People who touched revisions under test:
  Gary Lin <glin@suse.com>
  Liming Gao <liming.gao@intel.com>

jobs:
 build-amd64-xsm                                              pass    
 build-i386-xsm                                               pass    
 build-amd64                                                  pass    
 build-i386                                                   pass    
 build-amd64-libvirt                                          pass    
 build-i386-libvirt                                           pass    
 build-amd64-pvops                                            pass    
 build-i386-pvops                                             pass    
 test-amd64-amd64-xl-qemuu-ovmf-amd64                         pass    
 test-amd64-i386-xl-qemuu-ovmf-amd64                          pass    


------------------------------------------------------------
sg-report-flight on osstest.xs.citrite.net
logs: /home/osstest/logs
images: /home/osstest/images

Logs, config files, etc. are available at
    http://osstest.xs.citrite.net/~osstest/testlogs/logs

Test harness code can be found at
    http://xenbits.xensource.com/gitweb?p=osstest.git;a=summary


Push not applicable.

------------------------------------------------------------
commit 4e908975c645bedd40ac77497d42629ef3cf9fc5
Author: Liming Gao <liming.gao@intel.com>
Date:   Wed Oct 26 11:31:52 2016 +0800

    edksetup.bat: make sure BASE_TOOLS_PATH be set correctly
    
    Move checkNt32Flag before set BASE_TOOLS_PATH env to make sure it be set
    
    Cc: Yonghong Zhu <yonghong.zhu@intel.com>
    Contributed-under: TianoCore Contribution Agreement 1.0
    Signed-off-by: Liming Gao <liming.gao@intel.com>
    Reviewed-by: Yonghong Zhu <yonghong.zhu@intel.com>

commit 50506050d1fb82666932363d8510dd8c9e46dcc7
Author: Liming Gao <liming.gao@intel.com>
Date:   Tue Oct 25 19:34:15 2016 +0800

    MdePkg ACPI60: Update MADT Revision per ACPI 6.0 Errata A
    
    Fix issue: https://bugzilla.tianocore.org/show_bug.cgi?id=94
    
    Cc: Jiewen Yao <jiewen.yao@intel.com>
    Contributed-under: TianoCore Contribution Agreement 1.0
    Signed-off-by: Liming Gao <liming.gao@intel.com>
    Reviewed-by: Jiewen Yao <jiewen.yao@intel.com>

commit b84621bcbdb411ef17d322affe4f09baa580e15c
Author: Liming Gao <liming.gao@intel.com>
Date:   Fri Oct 14 15:30:06 2016 +0800

    MdePkg ACPI51: Update GIC version per ACPI 5.1 Errata B
    
    Fix issue: https://bugzilla.tianocore.org/show_bug.cgi?id=95
    
    Cc: Jiewen Yao <jiewen.yao@intel.com>
    Contributed-under: TianoCore Contribution Agreement 1.0
    Signed-off-by: Liming Gao <liming.gao@intel.com>
    Reviewed-by: Jiewen Yao <jiewen.yao@intel.com>

commit d1c85a17fa8623e3fe60a6fe398f01e46d427a96
Author: Gary Lin <glin@suse.com>
Date:   Wed Oct 19 15:01:28 2016 +0800

    NetworkPkg: Fix typos in comments
    
    - assocated -> associated
    - malformated -> malformatted
    - mal-formated -> mal-formatted
    - formated -> formatted
    - octects -> octets
    - responsiblity -> responsibility
    - enought -> enough
    - immediatly -> immediately
    - integar -> integer
    - Alogrithem -> Algorithm
    - Initializeion -> Initialization
    - primelenght -> primelength
    - Vlaue -> Value
    - perfoms -> performs
    - randome -> random
    - verifed -> verified
    - finallization -> finalization
    - Intializes -> Initializes
    - specifed -> specified
    - if -> If
    - Decrption -> Decryption
    - Autahentication -> Authentication
    - informatino -> information
    - alogrithm -> algorithm
    - Authenticaion -> Authentication
    - Alogrithem -> Algorithm
    - containning -> containing
    - paramter -> parameter
    
    Contributed-under: TianoCore Contribution Agreement 1.0
    Signed-off-by: Gary Lin <glin@suse.com>
    Reviewed-By: Siyuan Fu <siyuan.fu@intel.com>
    Reviewed-By: Jiaxin Wu <jiaxin.wu@intel.com>

commit 74c6a1031d36430f99ca7799520f960b4a66e7fe
Author: Gary Lin <glin@suse.com>
Date:   Wed Oct 19 00:01:33 2016 -0700

    QuarkSocPkg: Fix typos in comments
    
    - paramter -> parameter
    - reseting -> resetting
    - stoping -> stopping
    - hanlder -> handler
    - boundry -> boundary
    - tempory -> temporary
    
    Cc: Michael D Kinney <michael.d.kinney@intel.com>
    Cc: Kelly Steele <kelly.steele@intel.com>
    Contributed-under: TianoCore Contribution Agreement 1.0
    Signed-off-by: Gary Lin <glin@suse.com>
    Reviewed-by: Michael D Kinney <michael.d.kinney@intel.com>

commit 65aec00829912662cbfe842ab747d7608fc90553
Author: Gary Lin <glin@suse.com>
Date:   Wed Oct 19 00:01:32 2016 -0700

    QuarkPlatformPkg: Fix typos in comments
    
    - TURE -> TRUE
    - reseting -> resetting
    - retore -> restore
    - boundry -> boundary
    - tempory -> temporary
    
    Cc: Michael D Kinney <michael.d.kinney@intel.com>
    Cc: Kelly Steele <kelly.steele@intel.com>
    Contributed-under: TianoCore Contribution Agreement 1.0
    Signed-off-by: Gary Lin <glin@suse.com>
    Reviewed-by: Michael D Kinney <michael.d.kinney@intel.com>

_______________________________________________
Xen-devel mailing list
Xen-devel@lists.xen.org
https://lists.xen.org/xen-devel

                 reply	other threads:[~2016-10-27  6:45 UTC|newest]

Thread overview: [no followups] expand[flat|nested]  mbox.gz  Atom feed

Reply instructions:

You may reply publicly to this message via plain-text email
using any one of the following methods:

* Save the following mbox file, import it into your mail client,
  and reply-to-all from there: mbox

  Avoid top-posting and favor interleaved quoting:
  https://en.wikipedia.org/wiki/Posting_style#Interleaved_style

* Reply using the --to, --cc, and --in-reply-to
  switches of git-send-email(1):

  git send-email \
    --in-reply-to=osstest-67940-mainreport@xen.org \
    --to=citrix-osstest@xenproject.org \
    --cc=osstest-admin@xenproject.org \
    --cc=xen-devel@lists.xensource.com \
    /path/to/YOUR_REPLY

  https://kernel.org/pub/software/scm/git/docs/git-send-email.html

* If your mail client supports setting the In-Reply-To header
  via mailto: links, try the mailto: link
Be sure your reply has a Subject: header at the top and a blank line before the message body.
This is a public inbox, see mirroring instructions
for how to clone and mirror all data and code used for this inbox;
as well as URLs for NNTP newsgroup(s).