* [ovmf baseline-only test] 67961: all pass
@ 2016-10-29 13:52 Platform Team regression test user
0 siblings, 0 replies; only message in thread
From: Platform Team regression test user @ 2016-10-29 13:52 UTC (permalink / raw)
To: xen-devel, osstest-admin
This run is configured for baseline tests only.
flight 67961 ovmf real [real]
http://osstest.xs.citrite.net/~osstest/testlogs/logs/67961/
Perfect :-)
All tests in this flight passed as required
version targeted for testing:
ovmf 5211ece936eedb0a29ea170b449e0af8edff8db2
baseline version:
ovmf 6c12fe63f989b1a3aff9f44c22b2833fa78cfcab
Last test of basis 67959 2016-10-29 00:20:30 Z 0 days
Testing same since 67961 2016-10-29 12:16:30 Z 0 days 1 attempts
------------------------------------------------------------
People who touched revisions under test:
Ard Biesheuvel <ard.biesheuvel@linaro.org>
Laszlo Ersek <lersek@redhat.com>
Ryan Harkin <ryan.harkin@linaro.org>
Satya Yarlagadda <satya.p.yarlagadda@intel.com>
jobs:
build-amd64-xsm pass
build-i386-xsm pass
build-amd64 pass
build-i386 pass
build-amd64-libvirt pass
build-i386-libvirt pass
build-amd64-pvops pass
build-i386-pvops pass
test-amd64-amd64-xl-qemuu-ovmf-amd64 pass
test-amd64-i386-xl-qemuu-ovmf-amd64 pass
------------------------------------------------------------
sg-report-flight on osstest.xs.citrite.net
logs: /home/osstest/logs
images: /home/osstest/images
Logs, config files, etc. are available at
http://osstest.xs.citrite.net/~osstest/testlogs/logs
Test harness code can be found at
http://xenbits.xensource.com/gitweb?p=osstest.git;a=summary
Push not applicable.
(No revision log; it would be 349 lines long.)
_______________________________________________
Xen-devel mailing list
Xen-devel@lists.xen.org
https://lists.xen.org/xen-devel
^ permalink raw reply [flat|nested] only message in thread
only message in thread, other threads:[~2016-10-29 13:52 UTC | newest]
Thread overview: (only message) (download: mbox.gz follow: Atom feed
-- links below jump to the message on this page --
2016-10-29 13:52 [ovmf baseline-only test] 67961: all pass Platform Team regression test user
This is a public inbox, see mirroring instructions
for how to clone and mirror all data and code used for this inbox;
as well as URLs for NNTP newsgroup(s).