xen-devel.lists.xenproject.org archive mirror
 help / color / mirror / Atom feed
* [ovmf baseline-only test] 67965: all pass
@ 2016-10-31  5:41 Platform Team regression test user
  0 siblings, 0 replies; only message in thread
From: Platform Team regression test user @ 2016-10-31  5:41 UTC (permalink / raw)
  To: xen-devel, osstest-admin

This run is configured for baseline tests only.

flight 67965 ovmf real [real]
http://osstest.xs.citrite.net/~osstest/testlogs/logs/67965/

Perfect :-)
All tests in this flight passed as required
version targeted for testing:
 ovmf                 d115b80b7d31f0c2b5c7438de5258a6d263c4de2
baseline version:
 ovmf                 5211ece936eedb0a29ea170b449e0af8edff8db2

Last test of basis    67961  2016-10-29 12:16:30 Z    1 days
Testing same since    67965  2016-10-31 03:20:04 Z    0 days    1 attempts

------------------------------------------------------------
People who touched revisions under test:
  Jiaxin Wu <jiaxin.wu@intel.com>

jobs:
 build-amd64-xsm                                              pass    
 build-i386-xsm                                               pass    
 build-amd64                                                  pass    
 build-i386                                                   pass    
 build-amd64-libvirt                                          pass    
 build-i386-libvirt                                           pass    
 build-amd64-pvops                                            pass    
 build-i386-pvops                                             pass    
 test-amd64-amd64-xl-qemuu-ovmf-amd64                         pass    
 test-amd64-i386-xl-qemuu-ovmf-amd64                          pass    


------------------------------------------------------------
sg-report-flight on osstest.xs.citrite.net
logs: /home/osstest/logs
images: /home/osstest/images

Logs, config files, etc. are available at
    http://osstest.xs.citrite.net/~osstest/testlogs/logs

Test harness code can be found at
    http://xenbits.xensource.com/gitweb?p=osstest.git;a=summary


Push not applicable.

------------------------------------------------------------
commit d115b80b7d31f0c2b5c7438de5258a6d263c4de2
Author: Jiaxin Wu <jiaxin.wu@intel.com>
Date:   Fri Oct 28 14:32:02 2016 +0800

    NetworkPkg: Fix the wrong Timer event check
    
    Cc: Ye Ting <ting.ye@intel.com>
    Cc: Fu Siyuan <siyuan.fu@intel.com>
    Cc: Zhang Lubo <lubo.zhang@intel.com>
    Contributed-under: TianoCore Contribution Agreement 1.0
    Signed-off-by: Jiaxin Wu <jiaxin.wu@intel.com>
    Reviewed-by: Ye Ting <ting.ye@intel.com>
    Reviewed-by: Fu Siyuan <siyuan.fu@intel.com>

commit 4b7aee0a33097124ec0f833a78479004ceaabf03
Author: Jiaxin Wu <jiaxin.wu@intel.com>
Date:   Fri Oct 28 14:31:30 2016 +0800

    MdeModulePkg: Fix the wrong Timer event check
    
    Cc: Ye Ting <ting.ye@intel.com>
    Cc: Fu Siyuan <siyuan.fu@intel.com>
    Cc: Zhang Lubo <lubo.zhang@intel.com>
    Contributed-under: TianoCore Contribution Agreement 1.0
    Signed-off-by: Jiaxin Wu <jiaxin.wu@intel.com>
    Reviewed-by: Ye Ting <ting.ye@intel.com>
    Reviewed-by: Fu Siyuan <siyuan.fu@intel.com>

_______________________________________________
Xen-devel mailing list
Xen-devel@lists.xen.org
https://lists.xen.org/xen-devel

^ permalink raw reply	[flat|nested] only message in thread

only message in thread, other threads:[~2016-10-31  5:41 UTC | newest]

Thread overview: (only message) (download: mbox.gz follow: Atom feed
-- links below jump to the message on this page --
2016-10-31  5:41 [ovmf baseline-only test] 67965: all pass Platform Team regression test user

This is a public inbox, see mirroring instructions
for how to clone and mirror all data and code used for this inbox;
as well as URLs for NNTP newsgroup(s).