* [ovmf baseline-only test] 67971: all pass
@ 2016-11-01 6:07 Platform Team regression test user
0 siblings, 0 replies; only message in thread
From: Platform Team regression test user @ 2016-11-01 6:07 UTC (permalink / raw)
To: xen-devel, osstest-admin
This run is configured for baseline tests only.
flight 67971 ovmf real [real]
http://osstest.xs.citrite.net/~osstest/testlogs/logs/67971/
Perfect :-)
All tests in this flight passed as required
version targeted for testing:
ovmf ac55b925548f3b33f2bc93e603ecffe4a6cb191a
baseline version:
ovmf b3400560603bcfaadc08e82a846933446b5afed3
Last test of basis 67969 2016-10-31 14:49:06 Z 0 days
Testing same since 67971 2016-11-01 02:20:11 Z 0 days 1 attempts
------------------------------------------------------------
People who touched revisions under test:
Tapan Shah <tapandshah@hpe.com>
jobs:
build-amd64-xsm pass
build-i386-xsm pass
build-amd64 pass
build-i386 pass
build-amd64-libvirt pass
build-i386-libvirt pass
build-amd64-pvops pass
build-i386-pvops pass
test-amd64-amd64-xl-qemuu-ovmf-amd64 pass
test-amd64-i386-xl-qemuu-ovmf-amd64 pass
------------------------------------------------------------
sg-report-flight on osstest.xs.citrite.net
logs: /home/osstest/logs
images: /home/osstest/images
Logs, config files, etc. are available at
http://osstest.xs.citrite.net/~osstest/testlogs/logs
Test harness code can be found at
http://xenbits.xensource.com/gitweb?p=osstest.git;a=summary
Push not applicable.
------------------------------------------------------------
commit ac55b925548f3b33f2bc93e603ecffe4a6cb191a
Author: Tapan Shah <tapandshah@hpe.com>
Date: Fri Oct 28 12:48:59 2016 -0700
ShellPkg: print only valid characters for file overwrite prompt
When copy command prompts to overwrite an existing file, pressing
backspace continuously removes everything including the shell prompt.
So print only valid characters for file overwrite prompt.
Contributed-under: TianoCore Contribution Agreement 1.0
Signed-off-by: Tapan Shah <tapandshah@hpe.com>
Reviewed-by: Jaben Carsey <jaben.carsey@intel.com>
_______________________________________________
Xen-devel mailing list
Xen-devel@lists.xen.org
https://lists.xen.org/xen-devel
^ permalink raw reply [flat|nested] only message in thread
only message in thread, other threads:[~2016-11-01 6:07 UTC | newest]
Thread overview: (only message) (download: mbox.gz follow: Atom feed
-- links below jump to the message on this page --
2016-11-01 6:07 [ovmf baseline-only test] 67971: all pass Platform Team regression test user
This is a public inbox, see mirroring instructions
for how to clone and mirror all data and code used for this inbox;
as well as URLs for NNTP newsgroup(s).