xen-devel.lists.xenproject.org archive mirror
 help / color / mirror / Atom feed
* [ovmf baseline-only test] 67974: all pass
@ 2016-11-01 12:36 Platform Team regression test user
  0 siblings, 0 replies; only message in thread
From: Platform Team regression test user @ 2016-11-01 12:36 UTC (permalink / raw)
  To: xen-devel, osstest-admin

This run is configured for baseline tests only.

flight 67974 ovmf real [real]
http://osstest.xs.citrite.net/~osstest/testlogs/logs/67974/

Perfect :-)
All tests in this flight passed as required
version targeted for testing:
 ovmf                 90d6dfb9871bcf7e73b8884b1c1b1fc0029fcb2e
baseline version:
 ovmf                 ac55b925548f3b33f2bc93e603ecffe4a6cb191a

Last test of basis    67971  2016-11-01 02:20:11 Z    0 days
Testing same since    67974  2016-11-01 07:50:55 Z    0 days    1 attempts

------------------------------------------------------------
People who touched revisions under test:
  Feng Tian <feng.tian@intel.com>
  Laszlo Ersek <lersek@redhat.com>
  Leo Duran  <leo.duran@amd.com>
  Leo Duran <leo.duran@amd.com>
  Michael Kinney <Michael.d.kinney@intel.com>

jobs:
 build-amd64-xsm                                              pass    
 build-i386-xsm                                               pass    
 build-amd64                                                  pass    
 build-i386                                                   pass    
 build-amd64-libvirt                                          pass    
 build-i386-libvirt                                           pass    
 build-amd64-pvops                                            pass    
 build-i386-pvops                                             pass    
 test-amd64-amd64-xl-qemuu-ovmf-amd64                         pass    
 test-amd64-i386-xl-qemuu-ovmf-amd64                          pass    


------------------------------------------------------------
sg-report-flight on osstest.xs.citrite.net
logs: /home/osstest/logs
images: /home/osstest/images

Logs, config files, etc. are available at
    http://osstest.xs.citrite.net/~osstest/testlogs/logs

Test harness code can be found at
    http://xenbits.xensource.com/gitweb?p=osstest.git;a=summary


Push not applicable.

------------------------------------------------------------
commit 90d6dfb9871bcf7e73b8884b1c1b1fc0029fcb2e
Author: Feng Tian <feng.tian@intel.com>
Date:   Mon Oct 31 13:20:05 2016 +0800

    MdeModulePkg/Xhci: Change short packet debug message to verbose level
    
    Short Packet case is a normal case, we shouldn't print it as an error
    
    Cc: Star Zeng <star.zeng@intel.com>
    Contributed-under: TianoCore Contribution Agreement 1.0
    Signed-off-by: Feng Tian <feng.tian@intel.com>
    Reviewed-by: Star Zeng <star.zeng@intel.com>

commit a7b3f90f8a081d90bc4287990e53f367228d53b2
Author: Feng Tian <feng.tian@intel.com>
Date:   Mon Oct 31 13:46:08 2016 +0800

    MdeModulePkg/AtaAtapiPassThru: update AtaStatusBlock after cmd exec
    
    AhciDumpPortStatus doesn't fully populate all the fields of
    AtaStatusBlock after completing command execution, which may bring
    issue if someone depends on the return status.
    
    Cc: Star Zeng <star.zeng@intel.com>
    Contributed-under: TianoCore Contribution Agreement 1.0
    Signed-off-by: Feng Tian <feng.tian@intel.com>
    Reviewed-by: Star Zeng <star.zeng@intel.com>

commit 73152f19c0be7f31ee05f32878b515a296c487fa
Author: Leo Duran <leo.duran@amd.com>
Date:   Tue Nov 1 03:42:57 2016 +0800

    UefiCpuPkg: Move GetProcessorLocation() to LocalApicLib library
    
    1) Remove SmmGetProcessorLocation() from PiSmmCpuDxeSmm driver.
    2) Remove ExtractProcessorLocation() from MpInitLib library.
    3) Add GetProcessorLocation() to BaseXApicLib and BaseXApicX2ApicLib.
    
    Contributed-under: TianoCore Contribution Agreement 1.0
    Signed-off-by: Leo Duran  <leo.duran@amd.com>
    Signed-off-by: Michael Kinney <Michael.d.kinney@intel.com>
    Tested-by: Laszlo Ersek <lersek@redhat.com>
    Reviewed-by: Michael Kinney <Michael.d.kinney@intel.com>
    Reviewed-by: Jeff Fan <jeff.fan@intel.com>

_______________________________________________
Xen-devel mailing list
Xen-devel@lists.xen.org
https://lists.xen.org/xen-devel

^ permalink raw reply	[flat|nested] only message in thread

only message in thread, other threads:[~2016-11-01 12:36 UTC | newest]

Thread overview: (only message) (download: mbox.gz follow: Atom feed
-- links below jump to the message on this page --
2016-11-01 12:36 [ovmf baseline-only test] 67974: all pass Platform Team regression test user

This is a public inbox, see mirroring instructions
for how to clone and mirror all data and code used for this inbox;
as well as URLs for NNTP newsgroup(s).