From: Platform Team regression test user <citrix-osstest@xenproject.org>
To: xen-devel@lists.xensource.com, osstest-admin@xenproject.org
Subject: [ovmf baseline-only test] 67977: all pass
Date: Wed, 2 Nov 2016 02:27:54 +0000 [thread overview]
Message-ID: <osstest-67977-mainreport@xen.org> (raw)
This run is configured for baseline tests only.
flight 67977 ovmf real [real]
http://osstest.xs.citrite.net/~osstest/testlogs/logs/67977/
Perfect :-)
All tests in this flight passed as required
version targeted for testing:
ovmf 63998d7cd4f573c41fe0e018257f6d7012218cc2
baseline version:
ovmf 90d6dfb9871bcf7e73b8884b1c1b1fc0029fcb2e
Last test of basis 67974 2016-11-01 07:50:55 Z 0 days
Testing same since 67977 2016-11-01 21:49:55 Z 0 days 1 attempts
------------------------------------------------------------
People who touched revisions under test:
Giri P Mudusuru <giri.p.mudusuru@intel.com>
Mudusuru, Giri P <giri.p.mudusuru@intel.com>
jobs:
build-amd64-xsm pass
build-i386-xsm pass
build-amd64 pass
build-i386 pass
build-amd64-libvirt pass
build-i386-libvirt pass
build-amd64-pvops pass
build-i386-pvops pass
test-amd64-amd64-xl-qemuu-ovmf-amd64 pass
test-amd64-i386-xl-qemuu-ovmf-amd64 pass
------------------------------------------------------------
sg-report-flight on osstest.xs.citrite.net
logs: /home/osstest/logs
images: /home/osstest/images
Logs, config files, etc. are available at
http://osstest.xs.citrite.net/~osstest/testlogs/logs
Test harness code can be found at
http://xenbits.xensource.com/gitweb?p=osstest.git;a=summary
Push not applicable.
------------------------------------------------------------
commit 63998d7cd4f573c41fe0e018257f6d7012218cc2
Author: Mudusuru, Giri P <giri.p.mudusuru@intel.com>
Date: Tue Nov 1 00:56:35 2016 +0800
IntelSiliconPkg: Add SMBIOS data HOB GUID
Add gIntelSmbiosDataHobGuid used to publish SMBIOS data from PEI phase.
The HOB data format will be same as SMBIOS spec define formats for
Types 0 to 127 and OEM defined types for 128 to 255.
Generic library or DXE driver can add SMBIOS records using this HOB(s).
Cc: Jiewen Yao <jiewen.yao@intel.com>
Cc: Star Zeng <star.zeng@intel.com>
Cc: Michael Kinney <michael.d.kinney@intel.com>
Contributed-under: TianoCore Contribution Agreement 1.0
Signed-off-by: Giri P Mudusuru <giri.p.mudusuru@intel.com>
Reviewed-by: Jiewen Yao <jiewen.yao@intel.com>
Reviewed-by: Star Zeng <star.zeng@intel.com>
_______________________________________________
Xen-devel mailing list
Xen-devel@lists.xen.org
https://lists.xen.org/xen-devel
reply other threads:[~2016-11-02 2:27 UTC|newest]
Thread overview: [no followups] expand[flat|nested] mbox.gz Atom feed
Reply instructions:
You may reply publicly to this message via plain-text email
using any one of the following methods:
* Save the following mbox file, import it into your mail client,
and reply-to-all from there: mbox
Avoid top-posting and favor interleaved quoting:
https://en.wikipedia.org/wiki/Posting_style#Interleaved_style
* Reply using the --to, --cc, and --in-reply-to
switches of git-send-email(1):
git send-email \
--in-reply-to=osstest-67977-mainreport@xen.org \
--to=citrix-osstest@xenproject.org \
--cc=osstest-admin@xenproject.org \
--cc=xen-devel@lists.xensource.com \
/path/to/YOUR_REPLY
https://kernel.org/pub/software/scm/git/docs/git-send-email.html
* If your mail client supports setting the In-Reply-To header
via mailto: links, try the mailto: link
Be sure your reply has a Subject: header at the top and a blank line
before the message body.
This is a public inbox, see mirroring instructions
for how to clone and mirror all data and code used for this inbox;
as well as URLs for NNTP newsgroup(s).