From: Platform Team regression test user <citrix-osstest@xenproject.org>
To: xen-devel@lists.xensource.com, osstest-admin@xenproject.org
Subject: [ovmf baseline-only test] 67980: all pass
Date: Wed, 2 Nov 2016 17:30:51 +0000 [thread overview]
Message-ID: <osstest-67980-mainreport@xen.org> (raw)
This run is configured for baseline tests only.
flight 67980 ovmf real [real]
http://osstest.xs.citrite.net/~osstest/testlogs/logs/67980/
Perfect :-)
All tests in this flight passed as required
version targeted for testing:
ovmf 1c8ca9a012ce19a1096625ef9e810036e8346827
baseline version:
ovmf 63998d7cd4f573c41fe0e018257f6d7012218cc2
Last test of basis 67977 2016-11-01 21:49:55 Z 0 days
Testing same since 67980 2016-11-02 11:19:50 Z 0 days 1 attempts
------------------------------------------------------------
People who touched revisions under test:
Jeff Fan <jeff.fan@intel.com>
jobs:
build-amd64-xsm pass
build-i386-xsm pass
build-amd64 pass
build-i386 pass
build-amd64-libvirt pass
build-i386-libvirt pass
build-amd64-pvops pass
build-i386-pvops pass
test-amd64-amd64-xl-qemuu-ovmf-amd64 pass
test-amd64-i386-xl-qemuu-ovmf-amd64 pass
------------------------------------------------------------
sg-report-flight on osstest.xs.citrite.net
logs: /home/osstest/logs
images: /home/osstest/images
Logs, config files, etc. are available at
http://osstest.xs.citrite.net/~osstest/testlogs/logs
Test harness code can be found at
http://xenbits.xensource.com/gitweb?p=osstest.git;a=summary
Push not applicable.
------------------------------------------------------------
commit 1c8ca9a012ce19a1096625ef9e810036e8346827
Author: Jeff Fan <jeff.fan@intel.com>
Date: Tue Nov 1 10:48:18 2016 +0800
UefiCpuPkg/LocalApicLib: Add EFIAPI for GetProcessorLocationByApicId()
We need to add EFIAPI for all interface service including library API.
Contributed-under: TianoCore Contribution Agreement 1.0
Cc: Leo Duran <leo.duran@amd.com>
Cc: Michael Kinney <Michael.d.kinney@intel.com>
Cc: Feng Tian <feng.tian@intel.com>
Signed-off-by: Jeff Fan <jeff.fan@intel.com>
Reviewed-by: Michael Kinney <Michael.d.kinney@intel.com>
Reviewed-by: Leo Duran <leo.duran@amd.com>
commit 262128e5ab9edda666586c7dda3f2b0f53c0c557
Author: Jeff Fan <jeff.fan@intel.com>
Date: Tue Nov 1 10:45:37 2016 +0800
UefiCpuPkg/LocalApicLib: Rename GetProcessorLocation()
GetProcessorLocation() is too generic and will conflict with the API defined in
Galileo Board Software Package v1.0.0.
This update is just to rename GetProcessorLocation() to one specific name
GetProcessorLocationByApicId().
Contributed-under: TianoCore Contribution Agreement 1.0
Cc: Leo Duran <leo.duran@amd.com>
Cc: Michael Kinney <Michael.d.kinney@intel.com>
Cc: Feng Tian <feng.tian@intel.com>
Signed-off-by: Jeff Fan <jeff.fan@intel.com>
Reviewed-by: Michael Kinney <Michael.d.kinney@intel.com>
Reviewed-by: Leo Duran <leo.duran@amd.com>
_______________________________________________
Xen-devel mailing list
Xen-devel@lists.xen.org
https://lists.xen.org/xen-devel
reply other threads:[~2016-11-02 17:30 UTC|newest]
Thread overview: [no followups] expand[flat|nested] mbox.gz Atom feed
Reply instructions:
You may reply publicly to this message via plain-text email
using any one of the following methods:
* Save the following mbox file, import it into your mail client,
and reply-to-all from there: mbox
Avoid top-posting and favor interleaved quoting:
https://en.wikipedia.org/wiki/Posting_style#Interleaved_style
* Reply using the --to, --cc, and --in-reply-to
switches of git-send-email(1):
git send-email \
--in-reply-to=osstest-67980-mainreport@xen.org \
--to=citrix-osstest@xenproject.org \
--cc=osstest-admin@xenproject.org \
--cc=xen-devel@lists.xensource.com \
/path/to/YOUR_REPLY
https://kernel.org/pub/software/scm/git/docs/git-send-email.html
* If your mail client supports setting the In-Reply-To header
via mailto: links, try the mailto: link
Be sure your reply has a Subject: header at the top and a blank line
before the message body.
This is a public inbox, see mirroring instructions
for how to clone and mirror all data and code used for this inbox;
as well as URLs for NNTP newsgroup(s).