* [ovmf baseline-only test] 67982: all pass
@ 2016-11-03 2:42 Platform Team regression test user
0 siblings, 0 replies; only message in thread
From: Platform Team regression test user @ 2016-11-03 2:42 UTC (permalink / raw)
To: xen-devel, osstest-admin
This run is configured for baseline tests only.
flight 67982 ovmf real [real]
http://osstest.xs.citrite.net/~osstest/testlogs/logs/67982/
Perfect :-)
All tests in this flight passed as required
version targeted for testing:
ovmf 90a40219673303f97890d5ea2e367ee2dc04a0b3
baseline version:
ovmf 1c8ca9a012ce19a1096625ef9e810036e8346827
Last test of basis 67980 2016-11-02 11:19:50 Z 0 days
Testing same since 67982 2016-11-02 17:47:29 Z 0 days 1 attempts
------------------------------------------------------------
People who touched revisions under test:
Yonghong Zhu <yonghong.zhu@intel.com>
jobs:
build-amd64-xsm pass
build-i386-xsm pass
build-amd64 pass
build-i386 pass
build-amd64-libvirt pass
build-i386-libvirt pass
build-amd64-pvops pass
build-i386-pvops pass
test-amd64-amd64-xl-qemuu-ovmf-amd64 pass
test-amd64-i386-xl-qemuu-ovmf-amd64 pass
------------------------------------------------------------
sg-report-flight on osstest.xs.citrite.net
logs: /home/osstest/logs
images: /home/osstest/images
Logs, config files, etc. are available at
http://osstest.xs.citrite.net/~osstest/testlogs/logs
Test harness code can be found at
http://xenbits.xensource.com/gitweb?p=osstest.git;a=summary
Push not applicable.
------------------------------------------------------------
commit 90a40219673303f97890d5ea2e367ee2dc04a0b3
Author: Yonghong Zhu <yonghong.zhu@intel.com>
Date: Fri Oct 28 10:38:11 2016 +0800
BaseTools:introduce PREFIX env for VS tool path
This patch introduce PREFIX env for VS tool path for tools_def.template
file.
Cc: Liming Gao <liming.gao@intel.com>
Contributed-under: TianoCore Contribution Agreement 1.0
Signed-off-by: Yonghong Zhu <yonghong.zhu@intel.com>
Reviewed-by: Liming Gao <liming.gao@intel.com>
commit 314b26a847e6ebad4126ee724cd329e4d4c9338b
Author: Yonghong Zhu <yonghong.zhu@intel.com>
Date: Fri Oct 28 10:37:23 2016 +0800
BaseTools: Update toolsetup.bat to call the set_vsprefix_envs.bat
Update toolsetup.bat to call the set_vsprefix_envs.bat to set the PREFIX
envs.
Cc: Liming Gao <liming.gao@intel.com>
Contributed-under: TianoCore Contribution Agreement 1.0
Signed-off-by: Yonghong Zhu <yonghong.zhu@intel.com>
Reviewed-by: Liming Gao <liming.gao@intel.com>
commit 40d7406f6e151ccbcbebd5dae1e137d6fb0ac981
Author: Yonghong Zhu <yonghong.zhu@intel.com>
Date: Fri Oct 28 10:34:24 2016 +0800
BaseTools: Add a new bat file to set PREFIX envs
Add set_vsprefix_envs.bat to set PREFIX envs as the default values if
they are not set.
Cc: Liming Gao <liming.gao@intel.com>
Contributed-under: TianoCore Contribution Agreement 1.0
Signed-off-by: Yonghong Zhu <yonghong.zhu@intel.com>
Reviewed-by: Liming Gao <liming.gao@intel.com>
commit a0c9ce31b686f1aad449e3572fddbe981fe9e1c7
Author: Yonghong Zhu <yonghong.zhu@intel.com>
Date: Fri Oct 28 09:09:48 2016 +0800
BaseTools: Fix a bug for tooldef class not include the newly Env
Prebuild script may update os.environ, but the tooldef class not include
the new ENV variables. so after the Launch prebuild script, we should
re-init the tooldef class to include the new ENV variables.
Cc: Liming Gao <liming.gao@intel.com>
Contributed-under: TianoCore Contribution Agreement 1.0
Signed-off-by: Yonghong Zhu <yonghong.zhu@intel.com>
Reviewed-by: Liming Gao <liming.gao@intel.com>
commit 18ca2fec97010e8a79407ec092539218c04ee1c5
Author: Yonghong Zhu <yonghong.zhu@intel.com>
Date: Fri Oct 28 09:24:52 2016 +0800
BaseTools: Fix a bug for ExpandMacros to support mixed case ENV var
os.environ contains all environment variables uppercase on Windows which
cause the key in the self.MacroDictionary is uppercase, but the real
variable name maybe mixed case, eg:WINSDK81x86, then we can't find the
variable in the self.MacroDictionary.
Cc: Liming Gao <liming.gao@intel.com>
Contributed-under: TianoCore Contribution Agreement 1.0
Signed-off-by: Yonghong Zhu <yonghong.zhu@intel.com>
Reviewed-by: Liming Gao <liming.gao@intel.com>
commit 2a6402d490a2da818b7650ffe0330d3020e5b020
Author: Yonghong Zhu <yonghong.zhu@intel.com>
Date: Wed Oct 19 17:09:43 2016 +0800
BaseTools: Fix the bug for OptionRom generation with different arch
The GenFds tool uses the same output for the same module with the
different arch, IA32 and X64 module will have the same output. The
solution is add the arch info in the output directory.
Cc: Liming Gao <liming.gao@intel.com>
Contributed-under: TianoCore Contribution Agreement 1.0
Signed-off-by: Yonghong Zhu <yonghong.zhu@intel.com>
Reviewed-by: Liming Gao <liming.gao@intel.com>
_______________________________________________
Xen-devel mailing list
Xen-devel@lists.xen.org
https://lists.xen.org/xen-devel
^ permalink raw reply [flat|nested] only message in thread
only message in thread, other threads:[~2016-11-03 2:42 UTC | newest]
Thread overview: (only message) (download: mbox.gz follow: Atom feed
-- links below jump to the message on this page --
2016-11-03 2:42 [ovmf baseline-only test] 67982: all pass Platform Team regression test user
This is a public inbox, see mirroring instructions
for how to clone and mirror all data and code used for this inbox;
as well as URLs for NNTP newsgroup(s).