xen-devel.lists.xenproject.org archive mirror
 help / color / mirror / Atom feed
From: Platform Team regression test user <citrix-osstest@xenproject.org>
To: xen-devel@lists.xensource.com, osstest-admin@xenproject.org
Subject: [ovmf baseline-only test] 67984: all pass
Date: Thu, 3 Nov 2016 08:31:58 +0000	[thread overview]
Message-ID: <osstest-67984-mainreport@xen.org> (raw)

This run is configured for baseline tests only.

flight 67984 ovmf real [real]
http://osstest.xs.citrite.net/~osstest/testlogs/logs/67984/

Perfect :-)
All tests in this flight passed as required
version targeted for testing:
 ovmf                 756a514aa469c35e1a21c034a513630b7f02ecff
baseline version:
 ovmf                 90a40219673303f97890d5ea2e367ee2dc04a0b3

Last test of basis    67982  2016-11-02 17:47:29 Z    0 days
Testing same since    67984  2016-11-03 02:50:26 Z    0 days    1 attempts

------------------------------------------------------------
People who touched revisions under test:
  Ard Biesheuvel <ard.biesheuvel@linaro.org>
  Qin Long <qin.long@intel.com>

jobs:
 build-amd64-xsm                                              pass    
 build-i386-xsm                                               pass    
 build-amd64                                                  pass    
 build-i386                                                   pass    
 build-amd64-libvirt                                          pass    
 build-i386-libvirt                                           pass    
 build-amd64-pvops                                            pass    
 build-i386-pvops                                             pass    
 test-amd64-amd64-xl-qemuu-ovmf-amd64                         pass    
 test-amd64-i386-xl-qemuu-ovmf-amd64                          pass    


------------------------------------------------------------
sg-report-flight on osstest.xs.citrite.net
logs: /home/osstest/logs
images: /home/osstest/images

Logs, config files, etc. are available at
    http://osstest.xs.citrite.net/~osstest/testlogs/logs

Test harness code can be found at
    http://xenbits.xensource.com/gitweb?p=osstest.git;a=summary


Push not applicable.

------------------------------------------------------------
commit 756a514aa469c35e1a21c034a513630b7f02ecff
Author: Ard Biesheuvel <ard.biesheuvel@linaro.org>
Date:   Mon Oct 31 15:43:49 2016 +0000

    ArmPkg/CpuDxe: set DmaBufferAlignment according to CWG
    
    The DmaBufferAlignment currently defaults to 4, which is dangerously
    small and may result in lost data on platforms that perform non-coherent
    DMA. So instead, take the CWG value from the cache info registers.
    
    Contributed-under: TianoCore Contribution Agreement 1.0
    Signed-off-by: Ard Biesheuvel <ard.biesheuvel@linaro.org>
    Reviewed-by: Leif Lindholm <leif.lindholm@linaro.org>

commit a8f37449c7e355e6402e3876c9db9e11d875164f
Author: Qin Long <qin.long@intel.com>
Date:   Tue Nov 1 10:38:36 2016 +0800

    CryptoPkg: Add PKCS5 PBKDF2 interface for password derivation.
    
    Add one new API (Pkcs5HashPassword) to provide PKCS#5 v2.0 PBKDF2
    support (Password based encryption key derivation function, specified
    in RFC 2898).
    Also update the Cryptest utility to include the new API testing (with
    the test vector from RFC6070).
    
    Cc: Ting Ye <ting.ye@intel.com>
    Contributed-under: TianoCore Contribution Agreement 1.0
    Signed-off-by: Qin Long <qin.long@intel.com>
    Reviewed-by: Ting Ye <ting.ye@intel.com>

commit 72009c626d8b1c237c0de840e9bfe9d23b76b94c
Author: Qin Long <qin.long@intel.com>
Date:   Mon Oct 31 15:43:48 2016 +0800

    CryptoPkg: Add HMAC-SHA256 cipher support
    
    Add new HMAC-SHA256 cipher support in CryptoPkg to meet more security
    and industry requirements,
    
    and update Cryptest utility to include new HMAC-SHA256 test case.
    
    Cc: Ting Ye <ting.ye@intel.com>
    Contributed-under: TianoCore Contribution Agreement 1.0
    Signed-off-by: Qin Long <qin.long@intel.com>
    Reviewed-by: Ting Ye <ting.ye@intel.com>

commit b7d1ba0a8ae9719689ad9725e02e4cb5d469a3ae
Author: Qin Long <qin.long@intel.com>
Date:   Tue Nov 1 10:25:30 2016 +0800

    CryptoPkg: Add xxxxHashAll APIs to facilitate the digest computation
    
    Add new xxxxHashAll APIs to facilitate the digest computation of blob
    data. New APIs include: Md4HashAll(), Md5HashAll(), Sha1HashAll(),
    Sha256HashAll(), Sha384HashAll(), and Sha512HashAll().
    
    The corresponding test cases were added in Cryptest utility.
    
    Cc: Ting Ye <ting.ye@intel.com>
    Contributed-under: TianoCore Contribution Agreement 1.0
    Signed-off-by: Qin Long <qin.long@intel.com>
    Reviewed-by: Ting Ye <ting.ye@intel.com>

_______________________________________________
Xen-devel mailing list
Xen-devel@lists.xen.org
https://lists.xen.org/xen-devel

                 reply	other threads:[~2016-11-03  8:31 UTC|newest]

Thread overview: [no followups] expand[flat|nested]  mbox.gz  Atom feed

Reply instructions:

You may reply publicly to this message via plain-text email
using any one of the following methods:

* Save the following mbox file, import it into your mail client,
  and reply-to-all from there: mbox

  Avoid top-posting and favor interleaved quoting:
  https://en.wikipedia.org/wiki/Posting_style#Interleaved_style

* Reply using the --to, --cc, and --in-reply-to
  switches of git-send-email(1):

  git send-email \
    --in-reply-to=osstest-67984-mainreport@xen.org \
    --to=citrix-osstest@xenproject.org \
    --cc=osstest-admin@xenproject.org \
    --cc=xen-devel@lists.xensource.com \
    /path/to/YOUR_REPLY

  https://kernel.org/pub/software/scm/git/docs/git-send-email.html

* If your mail client supports setting the In-Reply-To header
  via mailto: links, try the mailto: link
Be sure your reply has a Subject: header at the top and a blank line before the message body.
This is a public inbox, see mirroring instructions
for how to clone and mirror all data and code used for this inbox;
as well as URLs for NNTP newsgroup(s).