* [ovmf baseline-only test] 67986: all pass
@ 2016-11-03 10:49 Platform Team regression test user
0 siblings, 0 replies; only message in thread
From: Platform Team regression test user @ 2016-11-03 10:49 UTC (permalink / raw)
To: xen-devel, osstest-admin
This run is configured for baseline tests only.
flight 67986 ovmf real [real]
http://osstest.xs.citrite.net/~osstest/testlogs/logs/67986/
Perfect :-)
All tests in this flight passed as required
version targeted for testing:
ovmf 414b198be9c2065efda01cf43f7c86e41a449b4b
baseline version:
ovmf 756a514aa469c35e1a21c034a513630b7f02ecff
Last test of basis 67984 2016-11-03 02:50:26 Z 0 days
Testing same since 67986 2016-11-03 08:48:41 Z 0 days 1 attempts
------------------------------------------------------------
People who touched revisions under test:
Bell Song <binx.song@intel.com>
Liming Gao <liming.gao@intel.com>
Song, BinX <binx.song@intel.com>
jobs:
build-amd64-xsm pass
build-i386-xsm pass
build-amd64 pass
build-i386 pass
build-amd64-libvirt pass
build-i386-libvirt pass
build-amd64-pvops pass
build-i386-pvops pass
test-amd64-amd64-xl-qemuu-ovmf-amd64 pass
test-amd64-i386-xl-qemuu-ovmf-amd64 pass
------------------------------------------------------------
sg-report-flight on osstest.xs.citrite.net
logs: /home/osstest/logs
images: /home/osstest/images
Logs, config files, etc. are available at
http://osstest.xs.citrite.net/~osstest/testlogs/logs
Test harness code can be found at
http://xenbits.xensource.com/gitweb?p=osstest.git;a=summary
Push not applicable.
------------------------------------------------------------
commit 414b198be9c2065efda01cf43f7c86e41a449b4b
Author: Song, BinX <binx.song@intel.com>
Date: Wed Nov 2 10:11:55 2016 +0800
MdeModulePkg/FrameBufferBltLib: Change module type to UEFI_DRIVER
- BASE -> UEFI_DRIVER
- https://bugzilla.tianocore.org/show_bug.cgi?id=173
Cc: Liming Gao <liming.gao@intel.com>
Contributed-under: TianoCore Contribution Agreement 1.0
Signed-off-by: Bell Song <binx.song@intel.com>
Reviewed-by: Liming Gao <liming.gao@intel.com>
commit 9cc42a92428bb3a2eaea7789b1e34a68c29223b8
Author: Song, BinX <binx.song@intel.com>
Date: Wed Nov 2 10:09:26 2016 +0800
EdkCompatibilityPkg/PrintLite: Fix ErrorPrint() wrong NULL char check
- '\0' -> NULL
- https://bugzilla.tianocore.org/show_bug.cgi?id=47
Cc: Liming Gao <liming.gao@intel.com>
Contributed-under: TianoCore Contribution Agreement 1.0
Signed-off-by: Bell Song <binx.song@intel.com>
Reviewed-by: Liming Gao <liming.gao@intel.com>
commit b782753fa24229d3b677c6fd5ad5594028d14a8b
Author: Liming Gao <liming.gao@intel.com>
Date: Mon Oct 31 13:27:19 2016 +0800
UefiCpuPkg PeiCpuExceptionHandlerLib: Add the missing nasm files in INF
All CpuExceptionHandlerLib library instances use nasm source files.
Cc: Reviewed-by: Jeff Fan <jeff.fan@intel.com>
Contributed-under: TianoCore Contribution Agreement 1.0
Signed-off-by: Liming Gao <liming.gao@intel.com>
Reviewed-by: Jeff Fan <jeff.fan@intel.com>
commit 00f5e11913a8706a1733da2b591502d59f848a99
Author: Liming Gao <liming.gao@intel.com>
Date: Thu Oct 27 14:54:27 2016 +0800
IntelFrameworkModulePkg LzmaDecompressLib: Update LZMA to new 16.04 version
Contributed-under: TianoCore Contribution Agreement 1.0
Signed-off-by: Liming Gao <liming.gao@intel.com>
Reviewed-by: Yonghong Zhu <yonghong.zhu@intel.com>
commit 1e230224d412d763b98472a8cd92a8349afba99b
Author: Liming Gao <liming.gao@intel.com>
Date: Thu Oct 27 14:08:39 2016 +0800
MdeModulePkg LzmaDecompressLib: Update LZMA to new 16.04 version
Contributed-under: TianoCore Contribution Agreement 1.0
Signed-off-by: Liming Gao <liming.gao@intel.com>
Reviewed-by: Yonghong Zhu <yonghong.zhu@intel.com>
commit c4ab09ef2f543ebf420da5d7cd8d48988c99b89c
Author: Liming Gao <liming.gao@intel.com>
Date: Thu Oct 27 14:50:54 2016 +0800
BaseTools LzmaCompress: Update LZMA to new 16.04 version
New version LZMA SDK improves the compression performance on windows OS,
and has no change on the compression ratio. I compress 8M FVMAIN image,
the compression time is reduced from 2.590s to 1.419s.
Cc: Yonghong Zhu <yonghong.zhu@intel.com>
Contributed-under: TianoCore Contribution Agreement 1.0
Signed-off-by: Liming Gao <liming.gao@intel.com>
Reviewed-by: Yonghong Zhu <yonghong.zhu@intel.com>
_______________________________________________
Xen-devel mailing list
Xen-devel@lists.xen.org
https://lists.xen.org/xen-devel
^ permalink raw reply [flat|nested] only message in thread
only message in thread, other threads:[~2016-11-03 10:49 UTC | newest]
Thread overview: (only message) (download: mbox.gz follow: Atom feed
-- links below jump to the message on this page --
2016-11-03 10:49 [ovmf baseline-only test] 67986: all pass Platform Team regression test user
This is a public inbox, see mirroring instructions
for how to clone and mirror all data and code used for this inbox;
as well as URLs for NNTP newsgroup(s).