xen-devel.lists.xenproject.org archive mirror
 help / color / mirror / Atom feed
From: Platform Team regression test user <citrix-osstest@xenproject.org>
To: xen-devel@lists.xensource.com, osstest-admin@xenproject.org
Subject: [ovmf baseline-only test] 67994: all pass
Date: Fri, 4 Nov 2016 16:04:33 +0000	[thread overview]
Message-ID: <osstest-67994-mainreport@xen.org> (raw)

[-- Attachment #1: Type: text/plain, Size: 2414 bytes --]

This run is configured for baseline tests only.

flight 67994 ovmf real [real]
http://osstest.xs.citrite.net/~osstest/testlogs/logs/67994/

Perfect :-)
All tests in this flight passed as required
version targeted for testing:
 ovmf                 5f609eb837f235e28464285a2fb768e39cd51b56
baseline version:
 ovmf                 e9d0933d45e51027836f570427141fd2e3a7dfbd

Last test of basis    67987  2016-11-03 13:47:59 Z    1 days
Testing same since    67994  2016-11-04 08:18:04 Z    0 days    1 attempts

------------------------------------------------------------
People who touched revisions under test:
  Marvin Haeuser <Marvin.Haeuser@outlook.com>
  Marvin Häuser <Marvin.Haeuser@outlook.com>

jobs:
 build-amd64-xsm                                              pass    
 build-i386-xsm                                               pass    
 build-amd64                                                  pass    
 build-i386                                                   pass    
 build-amd64-libvirt                                          pass    
 build-i386-libvirt                                           pass    
 build-amd64-pvops                                            pass    
 build-i386-pvops                                             pass    
 test-amd64-amd64-xl-qemuu-ovmf-amd64                         pass    
 test-amd64-i386-xl-qemuu-ovmf-amd64                          pass    


------------------------------------------------------------
sg-report-flight on osstest.xs.citrite.net
logs: /home/osstest/logs
images: /home/osstest/images

Logs, config files, etc. are available at
    http://osstest.xs.citrite.net/~osstest/testlogs/logs

Test harness code can be found at
    http://xenbits.xensource.com/gitweb?p=osstest.git;a=summary


Push not applicable.

------------------------------------------------------------
commit 5f609eb837f235e28464285a2fb768e39cd51b56
Author: Marvin Häuser <Marvin.Haeuser@outlook.com>
Date:   Thu Nov 3 21:40:27 2016 +0000

    OvmfPkg/ResetVector: Remove the unused ASM ResetVector.
    
    Remove the ResetVector.asm file as it is no longer referenced since
    the switch to ResetVector.nasmb.
    
    Contributed-under: TianoCore Contribution Agreement 1.0
    Signed-off-by: Marvin Haeuser <Marvin.Haeuser@outlook.com>
    Reviewed-by: Jordan Justen <jordan.l.justen@intel.com>
    Reviewed-by: Laszlo Ersek <lersek@redhat.com>


[-- Attachment #2: Type: text/plain, Size: 127 bytes --]

_______________________________________________
Xen-devel mailing list
Xen-devel@lists.xen.org
https://lists.xen.org/xen-devel

                 reply	other threads:[~2016-11-04 16:04 UTC|newest]

Thread overview: [no followups] expand[flat|nested]  mbox.gz  Atom feed

Reply instructions:

You may reply publicly to this message via plain-text email
using any one of the following methods:

* Save the following mbox file, import it into your mail client,
  and reply-to-all from there: mbox

  Avoid top-posting and favor interleaved quoting:
  https://en.wikipedia.org/wiki/Posting_style#Interleaved_style

* Reply using the --to, --cc, and --in-reply-to
  switches of git-send-email(1):

  git send-email \
    --in-reply-to=osstest-67994-mainreport@xen.org \
    --to=citrix-osstest@xenproject.org \
    --cc=osstest-admin@xenproject.org \
    --cc=xen-devel@lists.xensource.com \
    /path/to/YOUR_REPLY

  https://kernel.org/pub/software/scm/git/docs/git-send-email.html

* If your mail client supports setting the In-Reply-To header
  via mailto: links, try the mailto: link
Be sure your reply has a Subject: header at the top and a blank line before the message body.
This is a public inbox, see mirroring instructions
for how to clone and mirror all data and code used for this inbox;
as well as URLs for NNTP newsgroup(s).