From mboxrd@z Thu Jan 1 00:00:00 1970 From: Platform Team regression test user Subject: [ovmf baseline-only test] 67994: all pass Date: Fri, 4 Nov 2016 16:04:33 +0000 Message-ID: Mime-Version: 1.0 Content-Type: multipart/mixed; boundary="===============4332890323239496841==" Return-path: List-Unsubscribe: , List-Post: List-Help: List-Subscribe: , Errors-To: xen-devel-bounces@lists.xen.org Sender: "Xen-devel" To: xen-devel@lists.xensource.com, osstest-admin@xenproject.org List-Id: xen-devel@lists.xenproject.org --===============4332890323239496841== Content-Type: text/plain This run is configured for baseline tests only. flight 67994 ovmf real [real] http://osstest.xs.citrite.net/~osstest/testlogs/logs/67994/ Perfect :-) All tests in this flight passed as required version targeted for testing: ovmf 5f609eb837f235e28464285a2fb768e39cd51b56 baseline version: ovmf e9d0933d45e51027836f570427141fd2e3a7dfbd Last test of basis 67987 2016-11-03 13:47:59 Z 1 days Testing same since 67994 2016-11-04 08:18:04 Z 0 days 1 attempts ------------------------------------------------------------ People who touched revisions under test: Marvin Haeuser Marvin Häuser jobs: build-amd64-xsm pass build-i386-xsm pass build-amd64 pass build-i386 pass build-amd64-libvirt pass build-i386-libvirt pass build-amd64-pvops pass build-i386-pvops pass test-amd64-amd64-xl-qemuu-ovmf-amd64 pass test-amd64-i386-xl-qemuu-ovmf-amd64 pass ------------------------------------------------------------ sg-report-flight on osstest.xs.citrite.net logs: /home/osstest/logs images: /home/osstest/images Logs, config files, etc. are available at http://osstest.xs.citrite.net/~osstest/testlogs/logs Test harness code can be found at http://xenbits.xensource.com/gitweb?p=osstest.git;a=summary Push not applicable. ------------------------------------------------------------ commit 5f609eb837f235e28464285a2fb768e39cd51b56 Author: Marvin Häuser Date: Thu Nov 3 21:40:27 2016 +0000 OvmfPkg/ResetVector: Remove the unused ASM ResetVector. Remove the ResetVector.asm file as it is no longer referenced since the switch to ResetVector.nasmb. Contributed-under: TianoCore Contribution Agreement 1.0 Signed-off-by: Marvin Haeuser Reviewed-by: Jordan Justen Reviewed-by: Laszlo Ersek --===============4332890323239496841== Content-Type: text/plain; charset="utf-8" MIME-Version: 1.0 Content-Transfer-Encoding: base64 Content-Disposition: inline X19fX19fX19fX19fX19fX19fX19fX19fX19fX19fX19fX19fX19fX19fX19fX18KWGVuLWRldmVs IG1haWxpbmcgbGlzdApYZW4tZGV2ZWxAbGlzdHMueGVuLm9yZwpodHRwczovL2xpc3RzLnhlbi5v cmcveGVuLWRldmVsCg== --===============4332890323239496841==--