* [ovmf baseline-only test] 68009: all pass
@ 2016-11-07 21:21 Platform Team regression test user
0 siblings, 0 replies; only message in thread
From: Platform Team regression test user @ 2016-11-07 21:21 UTC (permalink / raw)
To: xen-devel, osstest-admin
This run is configured for baseline tests only.
flight 68009 ovmf real [real]
http://osstest.xs.citrite.net/~osstest/testlogs/logs/68009/
Perfect :-)
All tests in this flight passed as required
version targeted for testing:
ovmf f675a1b42235b508e17220878453b4b1f04dd990
baseline version:
ovmf 3b25ca839bf84ff53f11e969698b85a51b8efb96
Last test of basis 68003 2016-11-05 12:47:28 Z 2 days
Testing same since 68009 2016-11-07 17:17:47 Z 0 days 1 attempts
------------------------------------------------------------
People who touched revisions under test:
Chen A Chen <chen.a.chen@intel.com>
jobs:
build-amd64-xsm pass
build-i386-xsm pass
build-amd64 pass
build-i386 pass
build-amd64-libvirt pass
build-i386-libvirt pass
build-amd64-pvops pass
build-i386-pvops pass
test-amd64-amd64-xl-qemuu-ovmf-amd64 pass
test-amd64-i386-xl-qemuu-ovmf-amd64 pass
------------------------------------------------------------
sg-report-flight on osstest.xs.citrite.net
logs: /home/osstest/logs
images: /home/osstest/images
Logs, config files, etc. are available at
http://osstest.xs.citrite.net/~osstest/testlogs/logs
Test harness code can be found at
http://xenbits.xensource.com/gitweb?p=osstest.git;a=summary
Push not applicable.
------------------------------------------------------------
commit f675a1b42235b508e17220878453b4b1f04dd990
Author: Chen A Chen <chen.a.chen@intel.com>
Date: Thu Nov 3 15:20:48 2016 +0800
ShellPkg/reset: Support "-fwui" flag
The patch adds "-fwui" support to reset command which is newly added
to Shell 2.2 spec.
Contributed-under: TianoCore Contribution Agreement 1.0
Signed-off-by: Chen A Chen <chen.a.chen@intel.com>
Reviewed-by: Ruiyu Ni <ruiyu.ni@intel.com>
Reviewed-by: Jaben Carsey <jaben.carsey@intel.com>
_______________________________________________
Xen-devel mailing list
Xen-devel@lists.xen.org
https://lists.xen.org/xen-devel
^ permalink raw reply [flat|nested] only message in thread
only message in thread, other threads:[~2016-11-07 21:21 UTC | newest]
Thread overview: (only message) (download: mbox.gz follow: Atom feed
-- links below jump to the message on this page --
2016-11-07 21:21 [ovmf baseline-only test] 68009: all pass Platform Team regression test user
This is a public inbox, see mirroring instructions
for how to clone and mirror all data and code used for this inbox;
as well as URLs for NNTP newsgroup(s).