xen-devel.lists.xenproject.org archive mirror
 help / color / mirror / Atom feed
From: Platform Team regression test user <citrix-osstest@xenproject.org>
To: xen-devel@lists.xensource.com, osstest-admin@xenproject.org
Subject: [ovmf baseline-only test] 68012: all pass
Date: Tue, 8 Nov 2016 13:02:46 +0000	[thread overview]
Message-ID: <osstest-68012-mainreport@xen.org> (raw)

This run is configured for baseline tests only.

flight 68012 ovmf real [real]
http://osstest.xs.citrite.net/~osstest/testlogs/logs/68012/

Perfect :-)
All tests in this flight passed as required
version targeted for testing:
 ovmf                 2998af862469c6a05657e169d7def6f55420caad
baseline version:
 ovmf                 f675a1b42235b508e17220878453b4b1f04dd990

Last test of basis    68009  2016-11-07 17:17:47 Z    0 days
Testing same since    68012  2016-11-08 04:50:39 Z    0 days    1 attempts

------------------------------------------------------------
People who touched revisions under test:
  Gary Lin <glin@suse.com>

jobs:
 build-amd64-xsm                                              pass    
 build-i386-xsm                                               pass    
 build-amd64                                                  pass    
 build-i386                                                   pass    
 build-amd64-libvirt                                          pass    
 build-i386-libvirt                                           pass    
 build-amd64-pvops                                            pass    
 build-i386-pvops                                             pass    
 test-amd64-amd64-xl-qemuu-ovmf-amd64                         pass    
 test-amd64-i386-xl-qemuu-ovmf-amd64                          pass    


------------------------------------------------------------
sg-report-flight on osstest.xs.citrite.net
logs: /home/osstest/logs
images: /home/osstest/images

Logs, config files, etc. are available at
    http://osstest.xs.citrite.net/~osstest/testlogs/logs

Test harness code can be found at
    http://xenbits.xensource.com/gitweb?p=osstest.git;a=summary


Push not applicable.

------------------------------------------------------------
commit 2998af862469c6a05657e169d7def6f55420caad
Author: Gary Lin <glin@suse.com>
Date:   Wed Oct 19 15:01:10 2016 +0800

    CryptoPkg: Fix typos in comments
    
    - intialized -> initialized
    - componenet -> component
    - compoents -> components
    - FAlSE -> FALSE
    - responsiblity -> responsibility
    - validility -> validity
    - procudure -> procedure
    - pamameter -> parameter
    - randome -> random
    - buiild -> build
    
    Cc: Ting Ye <ting.ye@intel.com>
    Cc: Qin Long <qin.long@intel.com>
    Contributed-under: TianoCore Contribution Agreement 1.0
    Signed-off-by: Gary Lin <glin@suse.com>
    Reviewed-by: Qin Long <qin.long@intel.com>

_______________________________________________
Xen-devel mailing list
Xen-devel@lists.xen.org
https://lists.xen.org/xen-devel

                 reply	other threads:[~2016-11-08 13:02 UTC|newest]

Thread overview: [no followups] expand[flat|nested]  mbox.gz  Atom feed

Reply instructions:

You may reply publicly to this message via plain-text email
using any one of the following methods:

* Save the following mbox file, import it into your mail client,
  and reply-to-all from there: mbox

  Avoid top-posting and favor interleaved quoting:
  https://en.wikipedia.org/wiki/Posting_style#Interleaved_style

* Reply using the --to, --cc, and --in-reply-to
  switches of git-send-email(1):

  git send-email \
    --in-reply-to=osstest-68012-mainreport@xen.org \
    --to=citrix-osstest@xenproject.org \
    --cc=osstest-admin@xenproject.org \
    --cc=xen-devel@lists.xensource.com \
    /path/to/YOUR_REPLY

  https://kernel.org/pub/software/scm/git/docs/git-send-email.html

* If your mail client supports setting the In-Reply-To header
  via mailto: links, try the mailto: link
Be sure your reply has a Subject: header at the top and a blank line before the message body.
This is a public inbox, see mirroring instructions
for how to clone and mirror all data and code used for this inbox;
as well as URLs for NNTP newsgroup(s).