xen-devel.lists.xenproject.org archive mirror
 help / color / mirror / Atom feed
* [ovmf baseline-only test] 68015: all pass
@ 2016-11-09  0:18 Platform Team regression test user
  0 siblings, 0 replies; only message in thread
From: Platform Team regression test user @ 2016-11-09  0:18 UTC (permalink / raw)
  To: xen-devel, osstest-admin

This run is configured for baseline tests only.

flight 68015 ovmf real [real]
http://osstest.xs.citrite.net/~osstest/testlogs/logs/68015/

Perfect :-)
All tests in this flight passed as required
version targeted for testing:
 ovmf                 d66f85cb5eed5c218d822204897a78bab53fc157
baseline version:
 ovmf                 2998af862469c6a05657e169d7def6f55420caad

Last test of basis    68012  2016-11-08 04:50:39 Z    0 days
Testing same since    68015  2016-11-08 13:17:19 Z    0 days    1 attempts

------------------------------------------------------------
People who touched revisions under test:
  Hegde Nagaraj P <nagaraj-p.hegde@hpe.com>
  hegdenag <nagaraj-p.hegde@hpe.com>

jobs:
 build-amd64-xsm                                              pass    
 build-i386-xsm                                               pass    
 build-amd64                                                  pass    
 build-i386                                                   pass    
 build-amd64-libvirt                                          pass    
 build-i386-libvirt                                           pass    
 build-amd64-pvops                                            pass    
 build-i386-pvops                                             pass    
 test-amd64-amd64-xl-qemuu-ovmf-amd64                         pass    
 test-amd64-i386-xl-qemuu-ovmf-amd64                          pass    


------------------------------------------------------------
sg-report-flight on osstest.xs.citrite.net
logs: /home/osstest/logs
images: /home/osstest/images

Logs, config files, etc. are available at
    http://osstest.xs.citrite.net/~osstest/testlogs/logs

Test harness code can be found at
    http://xenbits.xensource.com/gitweb?p=osstest.git;a=summary


Push not applicable.

------------------------------------------------------------
commit d66f85cb5eed5c218d822204897a78bab53fc157
Author: hegdenag <nagaraj-p.hegde@hpe.com>
Date:   Mon Nov 7 00:40:48 2016 -0800

    ShellPkg/Ping6: Add a note in help for TargetIp
    
    'Ping6 TargetIp' is a valid command input but we bail out
    when TargetIp is a link local address because we would want
    the user to specify the NIC (via SourceIp) through which
    he/she would want to ping to TargetIp. This patch updates
    the help text to mention the same.
    
    Contributed-under: TianoCore Contribution Agreement 1.0
    Signed-off-by: Hegde Nagaraj P <nagaraj-p.hegde@hpe.com>
    Reviewed-by: Jaben Carsey <jaben.carsey@intel.com>

_______________________________________________
Xen-devel mailing list
Xen-devel@lists.xen.org
https://lists.xen.org/xen-devel

^ permalink raw reply	[flat|nested] only message in thread

only message in thread, other threads:[~2016-11-09  0:18 UTC | newest]

Thread overview: (only message) (download: mbox.gz follow: Atom feed
-- links below jump to the message on this page --
2016-11-09  0:18 [ovmf baseline-only test] 68015: all pass Platform Team regression test user

This is a public inbox, see mirroring instructions
for how to clone and mirror all data and code used for this inbox;
as well as URLs for NNTP newsgroup(s).