xen-devel.lists.xenproject.org archive mirror
 help / color / mirror / Atom feed
From: Platform Team regression test user <citrix-osstest@xenproject.org>
To: xen-devel@lists.xensource.com, osstest-admin@xenproject.org
Subject: [ovmf baseline-only test] 68026: all pass
Date: Sun, 13 Nov 2016 05:31:54 +0000	[thread overview]
Message-ID: <osstest-68026-mainreport@xen.org> (raw)

This run is configured for baseline tests only.

flight 68026 ovmf real [real]
http://osstest.xs.citrite.net/~osstest/testlogs/logs/68026/

Perfect :-)
All tests in this flight passed as required
version targeted for testing:
 ovmf                 faabc5d49700a5042535ff30a07e2c9577ed3cd8
baseline version:
 ovmf                 c3c9892c3b4dafd1d0ccdc8e5e017d80e8c4361e

Last test of basis    68021  2016-11-09 17:16:38 Z    3 days
Testing same since    68026  2016-11-10 17:16:47 Z    2 days    1 attempts

------------------------------------------------------------
People who touched revisions under test:
  Maurice Ma <maurice.ma@intel.com>

jobs:
 build-amd64-xsm                                              pass    
 build-i386-xsm                                               pass    
 build-amd64                                                  pass    
 build-i386                                                   pass    
 build-amd64-libvirt                                          pass    
 build-i386-libvirt                                           pass    
 build-amd64-pvops                                            pass    
 build-i386-pvops                                             pass    
 test-amd64-amd64-xl-qemuu-ovmf-amd64                         pass    
 test-amd64-i386-xl-qemuu-ovmf-amd64                          pass    


------------------------------------------------------------
sg-report-flight on osstest.xs.citrite.net
logs: /home/osstest/logs
images: /home/osstest/images

Logs, config files, etc. are available at
    http://osstest.xs.citrite.net/~osstest/testlogs/logs

Test harness code can be found at
    http://xenbits.xensource.com/gitweb?p=osstest.git;a=summary


Push not applicable.

------------------------------------------------------------
commit faabc5d49700a5042535ff30a07e2c9577ed3cd8
Author: Maurice Ma <maurice.ma@intel.com>
Date:   Tue Nov 8 15:54:24 2016 -0800

    CorebootPayloadPkg: Fix GCC build issue on macro definition
    
    The previous change to disable deprecated APIs in CorebootPayloadPkg
    used "/D" instead of "-D".  It caused Linux GCC build error. Correct
    it to use "-D" instead.
    
    Cc: Prince Agyeman <prince.agyeman@intel.com>
    Cc: Rusty Coleman <rcoleman@sigovs.com>
    Contributed-under: TianoCore Contribution Agreement 1.0
    Signed-off-by: Maurice Ma <maurice.ma@intel.com>
    Reviewed-by: Prince Agyeman <prince.agyeman@intel.com>
    Reviewed-by: Rusty Coleman <rcoleman@sigovs.com>

_______________________________________________
Xen-devel mailing list
Xen-devel@lists.xen.org
https://lists.xen.org/xen-devel

                 reply	other threads:[~2016-11-13  5:31 UTC|newest]

Thread overview: [no followups] expand[flat|nested]  mbox.gz  Atom feed

Reply instructions:

You may reply publicly to this message via plain-text email
using any one of the following methods:

* Save the following mbox file, import it into your mail client,
  and reply-to-all from there: mbox

  Avoid top-posting and favor interleaved quoting:
  https://en.wikipedia.org/wiki/Posting_style#Interleaved_style

* Reply using the --to, --cc, and --in-reply-to
  switches of git-send-email(1):

  git send-email \
    --in-reply-to=osstest-68026-mainreport@xen.org \
    --to=citrix-osstest@xenproject.org \
    --cc=osstest-admin@xenproject.org \
    --cc=xen-devel@lists.xensource.com \
    /path/to/YOUR_REPLY

  https://kernel.org/pub/software/scm/git/docs/git-send-email.html

* If your mail client supports setting the In-Reply-To header
  via mailto: links, try the mailto: link
Be sure your reply has a Subject: header at the top and a blank line before the message body.
This is a public inbox, see mirroring instructions
for how to clone and mirror all data and code used for this inbox;
as well as URLs for NNTP newsgroup(s).