xen-devel.lists.xenproject.org archive mirror
 help / color / mirror / Atom feed
* [ovmf baseline-only test] 68033: all pass
@ 2016-11-14 11:25 Platform Team regression test user
  0 siblings, 0 replies; only message in thread
From: Platform Team regression test user @ 2016-11-14 11:25 UTC (permalink / raw)
  To: xen-devel, osstest-admin

This run is configured for baseline tests only.

flight 68033 ovmf real [real]
http://osstest.xs.citrite.net/~osstest/testlogs/logs/68033/

Perfect :-)
All tests in this flight passed as required
version targeted for testing:
 ovmf                 8677a56af68ea7fc93938c710be2ec53752ae961
baseline version:
 ovmf                 ffd6b0b1b65e620816fb16fe551f92309f4b7269

Last test of basis    68029  2016-11-13 05:48:23 Z    1 days
Testing same since    68033  2016-11-14 09:16:38 Z    0 days    1 attempts

------------------------------------------------------------
People who touched revisions under test:
  Jeff Fan <jeff.fan@intel.com>

jobs:
 build-amd64-xsm                                              pass    
 build-i386-xsm                                               pass    
 build-amd64                                                  pass    
 build-i386                                                   pass    
 build-amd64-libvirt                                          pass    
 build-i386-libvirt                                           pass    
 build-amd64-pvops                                            pass    
 build-i386-pvops                                             pass    
 test-amd64-amd64-xl-qemuu-ovmf-amd64                         pass    
 test-amd64-i386-xl-qemuu-ovmf-amd64                          pass    


------------------------------------------------------------
sg-report-flight on osstest.xs.citrite.net
logs: /home/osstest/logs
images: /home/osstest/images

Logs, config files, etc. are available at
    http://osstest.xs.citrite.net/~osstest/testlogs/logs

Test harness code can be found at
    http://xenbits.xensource.com/gitweb?p=osstest.git;a=summary


Push not applicable.

------------------------------------------------------------
commit 8677a56af68ea7fc93938c710be2ec53752ae961
Author: Jeff Fan <jeff.fan@intel.com>
Date:   Fri Nov 11 19:51:36 2016 +0800

    UefiCpuPkg/DxeMpLib: Place APs to suitable state on Legacy OS boot
    
    Currently, DxeMpLib only places APs into specified c-state in Exit Boot Service
    callback function for UEFI OS boot. We need to put APs into specified c-state
    for legacy OS boot also.
    
    https://bugzilla.tianocore.org/show_bug.cgi?id=210
    
    Cc: Laszlo Ersek <lersek@redhat.com>
    Cc: Paolo Bonzini <pbonzini@redhat.com>
    Cc: Feng Tian <feng.tian@intel.com>
    Cc: Jiewen Yao <jiewen.yao@intel.com>
    Cc: Michael D Kinney <michael.d.kinney@intel.com>
    Contributed-under: TianoCore Contribution Agreement 1.0
    Signed-off-by: Jeff Fan <jeff.fan@intel.com>
    Reviewed-by: Feng Tian <feng.tian@intel.com>

commit 86af2eb8b4ec03e59c8c26cf7d51d294a7f905e7
Author: Jeff Fan <jeff.fan@intel.com>
Date:   Fri Nov 11 19:48:09 2016 +0800

    UefiCpuPkg/DxeMpLib: Rename MpInitExitBootServicesCallback()
    
    Rename MpInitExitBootServicesCallback() to MpInitChangeApLoopCallback() because
    it will not only be invoked on Exit Boot Service Event, but also will be invoked
    on Legacy Ready To Boot Event.
    
    https://bugzilla.tianocore.org/show_bug.cgi?id=210
    
    Cc: Laszlo Ersek <lersek@redhat.com>
    Cc: Paolo Bonzini <pbonzini@redhat.com>
    Cc: Feng Tian <feng.tian@intel.com>
    Cc: Jiewen Yao <jiewen.yao@intel.com>
    Cc: Michael D Kinney <michael.d.kinney@intel.com>
    Contributed-under: TianoCore Contribution Agreement 1.0
    Signed-off-by: Jeff Fan <jeff.fan@intel.com>
    Reviewed-by: Feng Tian <feng.tian@intel.com>

_______________________________________________
Xen-devel mailing list
Xen-devel@lists.xen.org
https://lists.xen.org/xen-devel

^ permalink raw reply	[flat|nested] only message in thread

only message in thread, other threads:[~2016-11-14 11:25 UTC | newest]

Thread overview: (only message) (download: mbox.gz follow: Atom feed
-- links below jump to the message on this page --
2016-11-14 11:25 [ovmf baseline-only test] 68033: all pass Platform Team regression test user

This is a public inbox, see mirroring instructions
for how to clone and mirror all data and code used for this inbox;
as well as URLs for NNTP newsgroup(s).