From: Platform Team regression test user <citrix-osstest@xenproject.org>
To: xen-devel@lists.xensource.com, osstest-admin@xenproject.org
Subject: [ovmf baseline-only test] 68035: all pass
Date: Mon, 14 Nov 2016 16:50:08 +0000 [thread overview]
Message-ID: <osstest-68035-mainreport@xen.org> (raw)
This run is configured for baseline tests only.
flight 68035 ovmf real [real]
http://osstest.xs.citrite.net/~osstest/testlogs/logs/68035/
Perfect :-)
All tests in this flight passed as required
version targeted for testing:
ovmf bab82372a9e6ce066fa725a792e71d07191046ca
baseline version:
ovmf b17d5507cfdfd10c4f1f5911ffe75fdc49fafa37
Last test of basis 68034 2016-11-14 12:18:33 Z 0 days
Testing same since 68035 2016-11-14 14:46:46 Z 0 days 1 attempts
------------------------------------------------------------
People who touched revisions under test:
Hao Wu <hao.a.wu@intel.com>
jobs:
build-amd64-xsm pass
build-i386-xsm pass
build-amd64 pass
build-i386 pass
build-amd64-libvirt pass
build-i386-libvirt pass
build-amd64-pvops pass
build-i386-pvops pass
test-amd64-amd64-xl-qemuu-ovmf-amd64 pass
test-amd64-i386-xl-qemuu-ovmf-amd64 pass
------------------------------------------------------------
sg-report-flight on osstest.xs.citrite.net
logs: /home/osstest/logs
images: /home/osstest/images
Logs, config files, etc. are available at
http://osstest.xs.citrite.net/~osstest/testlogs/logs
Test harness code can be found at
http://xenbits.xensource.com/gitweb?p=osstest.git;a=summary
Push not applicable.
------------------------------------------------------------
commit bab82372a9e6ce066fa725a792e71d07191046ca
Author: Hao Wu <hao.a.wu@intel.com>
Date: Fri Nov 11 16:21:35 2016 +0800
DuetPkg: Add POSTBUILD in DSC files to run post-build automatically
https://bugzilla.tianocore.org/show_bug.cgi?id=220
Currently, the post-build scripts PostBuild.bat/PostBuild.sh in DuetPkg
need to be run manually. Especially for Windows batch script, it also
requires users to set the build options (like tool chain, target and arch)
in file Conf/target.txt. If users using command line options via '-t' or
'-a', the post-build script won't work properly.
The package DSC files now support the feature to execute post-build script
automatically by adding a 'POSTBUILD' definition. This feature also passes
the build options into the post-build script as parameters. This commit
uses this feature to make the post-build works for DuetPkg more
user-friendly. Also, ReadMe.txt is updated to reflect the new steps for
UEFI Emulation (DUET) development.
Cc: Ruiyu Ni <ruiyu.ni@intel.com>
Contributed-under: TianoCore Contribution Agreement 1.0
Signed-off-by: Hao Wu <hao.a.wu@intel.com>
Reviewed-by: Ruiyu Ni <ruiyu.ni@intel.com>
commit ea4511d127f45e5028996aba6613b4807c3c7902
Author: Hao Wu <hao.a.wu@intel.com>
Date: Fri Nov 11 16:15:52 2016 +0800
DuetPkg: Use 'echo off' in BATCH script files
Instead of putting a '@' at the beginning of every command in BATCH script
files, use 'echo off' at the beginning of each file.
Cc: Ruiyu Ni <ruiyu.ni@intel.com>
Contributed-under: TianoCore Contribution Agreement 1.0
Signed-off-by: Hao Wu <hao.a.wu@intel.com>
Reviewed-by: Ruiyu Ni <ruiyu.ni@intel.com>
commit 24476311ed2d92b8ed7040ef101b019b2d3d7991
Author: Hao Wu <hao.a.wu@intel.com>
Date: Fri Nov 11 16:08:35 2016 +0800
DuetPkg: Resolve white-space issues for post-build scripts & ReadMe
Cc: Ruiyu Ni <ruiyu.ni@intel.com>
Contributed-under: TianoCore Contribution Agreement 1.0
Signed-off-by: Hao Wu <hao.a.wu@intel.com>
Reviewed-by: Ruiyu Ni <ruiyu.ni@intel.com>
_______________________________________________
Xen-devel mailing list
Xen-devel@lists.xen.org
https://lists.xen.org/xen-devel
reply other threads:[~2016-11-14 16:50 UTC|newest]
Thread overview: [no followups] expand[flat|nested] mbox.gz Atom feed
Reply instructions:
You may reply publicly to this message via plain-text email
using any one of the following methods:
* Save the following mbox file, import it into your mail client,
and reply-to-all from there: mbox
Avoid top-posting and favor interleaved quoting:
https://en.wikipedia.org/wiki/Posting_style#Interleaved_style
* Reply using the --to, --cc, and --in-reply-to
switches of git-send-email(1):
git send-email \
--in-reply-to=osstest-68035-mainreport@xen.org \
--to=citrix-osstest@xenproject.org \
--cc=osstest-admin@xenproject.org \
--cc=xen-devel@lists.xensource.com \
/path/to/YOUR_REPLY
https://kernel.org/pub/software/scm/git/docs/git-send-email.html
* If your mail client supports setting the In-Reply-To header
via mailto: links, try the mailto: link
Be sure your reply has a Subject: header at the top and a blank line
before the message body.
This is a public inbox, see mirroring instructions
for how to clone and mirror all data and code used for this inbox;
as well as URLs for NNTP newsgroup(s).