* [ovmf baseline-only test] 68037: all pass
@ 2016-11-14 23:33 Platform Team regression test user
0 siblings, 0 replies; only message in thread
From: Platform Team regression test user @ 2016-11-14 23:33 UTC (permalink / raw)
To: xen-devel, osstest-admin
This run is configured for baseline tests only.
flight 68037 ovmf real [real]
http://osstest.xs.citrite.net/~osstest/testlogs/logs/68037/
Perfect :-)
All tests in this flight passed as required
version targeted for testing:
ovmf 653bde546200af46573cdfac88257f03b3420d88
baseline version:
ovmf bab82372a9e6ce066fa725a792e71d07191046ca
Last test of basis 68035 2016-11-14 14:46:46 Z 0 days
Testing same since 68037 2016-11-14 19:20:10 Z 0 days 1 attempts
------------------------------------------------------------
People who touched revisions under test:
Haojian Zhuang <haojian.zhuang@linaro.org>
Ryan Harkin <ryan.harkin@linaro.org>
jobs:
build-amd64-xsm pass
build-i386-xsm pass
build-amd64 pass
build-i386 pass
build-amd64-libvirt pass
build-i386-libvirt pass
build-amd64-pvops pass
build-i386-pvops pass
test-amd64-amd64-xl-qemuu-ovmf-amd64 pass
test-amd64-i386-xl-qemuu-ovmf-amd64 pass
------------------------------------------------------------
sg-report-flight on osstest.xs.citrite.net
logs: /home/osstest/logs
images: /home/osstest/images
Logs, config files, etc. are available at
http://osstest.xs.citrite.net/~osstest/testlogs/logs
Test harness code can be found at
http://xenbits.xensource.com/gitweb?p=osstest.git;a=summary
Push not applicable.
------------------------------------------------------------
commit 653bde546200af46573cdfac88257f03b3420d88
Author: Haojian Zhuang <haojian.zhuang@linaro.org>
Date: Sun Nov 13 14:47:53 2016 +0800
EmbeddedPkg: MmcDxe: add SPEC_VERS field in CSD structure
Contributed-under: TianoCore Contribution Agreement 1.0
Signed-off-by: Haojian Zhuang <haojian.zhuang@linaro.org>
Tested-by: Ryan Harkin <ryan.harkin@linaro.org>
Reviewed-by: Leif Lindholm <leif.lindholm@linaro.org>
commit e88fcb47c12ac3e21eb6efd9a39f9834c1ba28d3
Author: Haojian Zhuang <haojian.zhuang@linaro.org>
Date: Sun Nov 13 14:47:52 2016 +0800
EmbeddedPkg: MmcDxe: declare ECSD structure
Declare fields in ECSD structure. And drop the original 128 words
arrary.
Contributed-under: TianoCore Contribution Agreement 1.0
Signed-off-by: Haojian Zhuang <haojian.zhuang@linaro.org>
Tested-by: Ryan Harkin <ryan.harkin@linaro.org>
Reviewed-by: Leif Lindholm <leif.lindholm@linaro.org>
commit 36bec33a999388c460e32413e5e9ddf554d2ec78
Author: Haojian Zhuang <haojian.zhuang@linaro.org>
Date: Sun Nov 13 14:47:51 2016 +0800
EmbeddedPkg: MmcDxe: move ECSD into CardInfo structure
Since ECSD also describes the information of card, move it into
structure CardInfo.
Contributed-under: TianoCore Contribution Agreement 1.0
Signed-off-by: Haojian Zhuang <haojian.zhuang@linaro.org>
Tested-by: Ryan Harkin <ryan.harkin@linaro.org>
Reviewed-by: Leif Lindholm <leif.lindholm@linaro.org>
commit 3201075377f80af632465361155f7498c177bad1
Author: Haojian Zhuang <haojian.zhuang@linaro.org>
Date: Sun Nov 13 14:47:50 2016 +0800
EmbeddedPkg: MmcDxe: wait OCR busy bit free
According to eMMC spec, OCR.PowerUp bit is also busy bit. If the busy
bit is '0', CMD1 should be sent and OCR should be fetched again. And add
a timeout counter on the repeated steps.
Contributed-under: TianoCore Contribution Agreement 1.0
Signed-off-by: Haojian Zhuang <haojian.zhuang@linaro.org>
Tested-by: Ryan Harkin <ryan.harkin@linaro.org>
Reviewed-by: Leif Lindholm <leif.lindholm@linaro.org>
_______________________________________________
Xen-devel mailing list
Xen-devel@lists.xen.org
https://lists.xen.org/xen-devel
^ permalink raw reply [flat|nested] only message in thread
only message in thread, other threads:[~2016-11-14 23:33 UTC | newest]
Thread overview: (only message) (download: mbox.gz follow: Atom feed
-- links below jump to the message on this page --
2016-11-14 23:33 [ovmf baseline-only test] 68037: all pass Platform Team regression test user
This is a public inbox, see mirroring instructions
for how to clone and mirror all data and code used for this inbox;
as well as URLs for NNTP newsgroup(s).