* [ovmf baseline-only test] 68040: all pass
@ 2016-11-15 9:39 Platform Team regression test user
0 siblings, 0 replies; only message in thread
From: Platform Team regression test user @ 2016-11-15 9:39 UTC (permalink / raw)
To: xen-devel, osstest-admin
This run is configured for baseline tests only.
flight 68040 ovmf real [real]
http://osstest.xs.citrite.net/~osstest/testlogs/logs/68040/
Perfect :-)
All tests in this flight passed as required
version targeted for testing:
ovmf c37dcee6d8c24cff4c50fa5dd139e5a26678eb62
baseline version:
ovmf a5991c8832c5301ec969c37cce5c1b332c7e0127
Last test of basis 68038 2016-11-14 23:47:04 Z 0 days
Testing same since 68040 2016-11-15 05:20:58 Z 0 days 1 attempts
------------------------------------------------------------
People who touched revisions under test:
Dandan Bi <dandan.bi@intel.com>
jobs:
build-amd64-xsm pass
build-i386-xsm pass
build-amd64 pass
build-i386 pass
build-amd64-libvirt pass
build-i386-libvirt pass
build-amd64-pvops pass
build-i386-pvops pass
test-amd64-amd64-xl-qemuu-ovmf-amd64 pass
test-amd64-i386-xl-qemuu-ovmf-amd64 pass
------------------------------------------------------------
sg-report-flight on osstest.xs.citrite.net
logs: /home/osstest/logs
images: /home/osstest/images
Logs, config files, etc. are available at
http://osstest.xs.citrite.net/~osstest/testlogs/logs
Test harness code can be found at
http://xenbits.xensource.com/gitweb?p=osstest.git;a=summary
Push not applicable.
------------------------------------------------------------
commit c37dcee6d8c24cff4c50fa5dd139e5a26678eb62
Author: Dandan Bi <dandan.bi@intel.com>
Date: Tue Nov 1 10:25:19 2016 +0800
MdeModulePkg/BMMUI: add comments for function parameter
Cc: Eric Dong <eric.dong@intel.com>
Contributed-under: TianoCore Contribution Agreement 1.0
Signed-off-by: Dandan Bi <dandan.bi@intel.com>
Reviewed-by: Eric Dong <eric.dong@intel.com>
_______________________________________________
Xen-devel mailing list
Xen-devel@lists.xen.org
https://lists.xen.org/xen-devel
^ permalink raw reply [flat|nested] only message in thread
only message in thread, other threads:[~2016-11-15 9:39 UTC | newest]
Thread overview: (only message) (download: mbox.gz follow: Atom feed
-- links below jump to the message on this page --
2016-11-15 9:39 [ovmf baseline-only test] 68040: all pass Platform Team regression test user
This is a public inbox, see mirroring instructions
for how to clone and mirror all data and code used for this inbox;
as well as URLs for NNTP newsgroup(s).