* [ovmf baseline-only test] 68058: all pass
@ 2016-11-18 6:23 Platform Team regression test user
0 siblings, 0 replies; only message in thread
From: Platform Team regression test user @ 2016-11-18 6:23 UTC (permalink / raw)
To: xen-devel, osstest-admin
This run is configured for baseline tests only.
flight 68058 ovmf real [real]
http://osstest.xs.citrite.net/~osstest/testlogs/logs/68058/
Perfect :-)
All tests in this flight passed as required
version targeted for testing:
ovmf 28b3a713b66998a8be3e8558eb85f18699e15b2e
baseline version:
ovmf 2048ab4b3ec966183eb87d93d9cdab05fe9cc840
Last test of basis 68056 2016-11-17 17:17:56 Z 0 days
Testing same since 68058 2016-11-18 00:51:36 Z 0 days 1 attempts
------------------------------------------------------------
People who touched revisions under test:
Maurice Ma <maurice.ma@intel.com>
Michael Kinney <michael.d.kinney@intel.com>
jobs:
build-amd64-xsm pass
build-i386-xsm pass
build-amd64 pass
build-i386 pass
build-amd64-libvirt pass
build-i386-libvirt pass
build-amd64-pvops pass
build-i386-pvops pass
test-amd64-amd64-xl-qemuu-ovmf-amd64 pass
test-amd64-i386-xl-qemuu-ovmf-amd64 pass
------------------------------------------------------------
sg-report-flight on osstest.xs.citrite.net
logs: /home/osstest/logs
images: /home/osstest/images
Logs, config files, etc. are available at
http://osstest.xs.citrite.net/~osstest/testlogs/logs
Test harness code can be found at
http://xenbits.xensource.com/gitweb?p=osstest.git;a=summary
Push not applicable.
------------------------------------------------------------
commit 28b3a713b66998a8be3e8558eb85f18699e15b2e
Author: Maurice Ma <maurice.ma@intel.com>
Date: Wed Nov 16 19:01:01 2016 -0800
CorebootPayloadPkg: Allow PciLib instance selection
On old platform without PCIe express support, the PciLib needs to
be mapped to PciLibCf8 instance to make it work. On new platform
with PCIe express support, the PciLib needs to be mapped to
PciLibPciExpress to allow access to extended PCIe configuration
space. This patch allows to select the PciLib instance between
PciLibCf8 and PciLibPciExpress using the PCIE_BASE macro through
build command line.
Cc: Prince Agyeman <prince.agyeman@intel.com>
Contributed-under: TianoCore Contribution Agreement 1.0
Signed-off-by: Maurice Ma <maurice.ma@intel.com>
Reviewed-by: Prince Agyeman <prince.agyeman@intel.com>
commit 5ea2bad0d9ab6a2465195badd323313553baa61b
Author: Michael Kinney <michael.d.kinney@intel.com>
Date: Wed Nov 9 18:31:38 2016 -0800
MdePkg/BaseMemoryLib: Fix VS2015 build error
https://bugzilla.tianocore.org/show_bug.cgi?id=237
Make the smallest change possible to workaround a VS2015
build error. The change is to the loop that handles the
case where neither the source nor the destination are
64-bit or 32-bit aligned and the logic falls through to
a loop that performs the copy as bytes. Only the loop
that copies bytes backwards needs to be updated to avoid
the VS2015 build error.
Cc: Ard Biesheuvel <ard.biesheuvel@linaro.org>
Cc: Liming Gao <liming.gao@intel.com>
Contributed-under: TianoCore Contribution Agreement 1.0
Signed-off-by: Michael Kinney <michael.d.kinney@intel.com>
Reviewed-by: Liming Gao <liming.gao@intel.com>
_______________________________________________
Xen-devel mailing list
Xen-devel@lists.xen.org
https://lists.xen.org/xen-devel
^ permalink raw reply [flat|nested] only message in thread
only message in thread, other threads:[~2016-11-18 6:23 UTC | newest]
Thread overview: (only message) (download: mbox.gz follow: Atom feed
-- links below jump to the message on this page --
2016-11-18 6:23 [ovmf baseline-only test] 68058: all pass Platform Team regression test user
This is a public inbox, see mirroring instructions
for how to clone and mirror all data and code used for this inbox;
as well as URLs for NNTP newsgroup(s).