xen-devel.lists.xenproject.org archive mirror
 help / color / mirror / Atom feed
From: Platform Team regression test user <citrix-osstest@xenproject.org>
To: xen-devel@lists.xensource.com, osstest-admin@xenproject.org
Subject: [ovmf baseline-only test] 68071: all pass
Date: Mon, 21 Nov 2016 06:51:12 +0000	[thread overview]
Message-ID: <osstest-68071-mainreport@xen.org> (raw)

This run is configured for baseline tests only.

flight 68071 ovmf real [real]
http://osstest.xs.citrite.net/~osstest/testlogs/logs/68071/

Perfect :-)
All tests in this flight passed as required
version targeted for testing:
 ovmf                 6a62309459e36d59e4cfe14885fa3ed807841c62
baseline version:
 ovmf                 632dcfd6857b6211ce3fe9755d3c11e74ef5d447

Last test of basis    68063  2016-11-18 12:19:40 Z    2 days
Testing same since    68071  2016-11-21 04:49:31 Z    0 days    1 attempts

------------------------------------------------------------
People who touched revisions under test:
  Hao Wu <hao.a.wu@intel.com>

jobs:
 build-amd64-xsm                                              pass    
 build-i386-xsm                                               pass    
 build-amd64                                                  pass    
 build-i386                                                   pass    
 build-amd64-libvirt                                          pass    
 build-i386-libvirt                                           pass    
 build-amd64-pvops                                            pass    
 build-i386-pvops                                             pass    
 test-amd64-amd64-xl-qemuu-ovmf-amd64                         pass    
 test-amd64-i386-xl-qemuu-ovmf-amd64                          pass    


------------------------------------------------------------
sg-report-flight on osstest.xs.citrite.net
logs: /home/osstest/logs
images: /home/osstest/images

Logs, config files, etc. are available at
    http://osstest.xs.citrite.net/~osstest/testlogs/logs

Test harness code can be found at
    http://xenbits.xensource.com/gitweb?p=osstest.git;a=summary


Push not applicable.

------------------------------------------------------------
commit 6a62309459e36d59e4cfe14885fa3ed807841c62
Author: Hao Wu <hao.a.wu@intel.com>
Date:   Thu Nov 17 14:07:54 2016 +0800

    MdePkg BaseLib: API PathRemoveLastItem not handle root paths properly
    
    https://bugzilla.tianocore.org/show_bug.cgi?id=239
    
    When the input path for API PathRemoveLastItem() is a root path like
    'fs0:\', the API will return TRUE (indicating a directory or file was
    removed from the path) and modifies the path to 'fs0:'. In fact, there's
    no directory or file removed in the above case.
    
    This commit adds additional check to resolve this issue and modifies the
    API's description to make it more straightforward.
    
    Cc: Ruiyu Ni <ruiyu.ni@intel.com>
    Cc: Liming Gao <liming.gao@intel.com>
    Contributed-under: TianoCore Contribution Agreement 1.0
    Signed-off-by: Hao Wu <hao.a.wu@intel.com>
    Reviewed-by: Ruiyu Ni <ruiyu.ni@intel.com>

_______________________________________________
Xen-devel mailing list
Xen-devel@lists.xen.org
https://lists.xen.org/xen-devel

                 reply	other threads:[~2016-11-21  6:51 UTC|newest]

Thread overview: [no followups] expand[flat|nested]  mbox.gz  Atom feed

Reply instructions:

You may reply publicly to this message via plain-text email
using any one of the following methods:

* Save the following mbox file, import it into your mail client,
  and reply-to-all from there: mbox

  Avoid top-posting and favor interleaved quoting:
  https://en.wikipedia.org/wiki/Posting_style#Interleaved_style

* Reply using the --to, --cc, and --in-reply-to
  switches of git-send-email(1):

  git send-email \
    --in-reply-to=osstest-68071-mainreport@xen.org \
    --to=citrix-osstest@xenproject.org \
    --cc=osstest-admin@xenproject.org \
    --cc=xen-devel@lists.xensource.com \
    /path/to/YOUR_REPLY

  https://kernel.org/pub/software/scm/git/docs/git-send-email.html

* If your mail client supports setting the In-Reply-To header
  via mailto: links, try the mailto: link
Be sure your reply has a Subject: header at the top and a blank line before the message body.
This is a public inbox, see mirroring instructions
for how to clone and mirror all data and code used for this inbox;
as well as URLs for NNTP newsgroup(s).