From: Platform Team regression test user <citrix-osstest@xenproject.org>
To: xen-devel@lists.xensource.com, osstest-admin@xenproject.org
Subject: [ovmf baseline-only test] 68081: all pass
Date: Tue, 22 Nov 2016 19:33:00 +0000 [thread overview]
Message-ID: <osstest-68081-mainreport@xen.org> (raw)
This run is configured for baseline tests only.
flight 68081 ovmf real [real]
http://osstest.xs.citrite.net/~osstest/testlogs/logs/68081/
Perfect :-)
All tests in this flight passed as required
version targeted for testing:
ovmf 36e9e3e8ea0ce477504b6d2e21603ea94847efae
baseline version:
ovmf b43dd22981b71dd78dd4cc04d55dc23d81c3bafb
Last test of basis 68080 2016-11-22 11:49:41 Z 0 days
Testing same since 68081 2016-11-22 17:19:25 Z 0 days 1 attempts
------------------------------------------------------------
People who touched revisions under test:
Hao Wu <hao.a.wu@intel.com>
jobs:
build-amd64-xsm pass
build-i386-xsm pass
build-amd64 pass
build-i386 pass
build-amd64-libvirt pass
build-i386-libvirt pass
build-amd64-pvops pass
build-i386-pvops pass
test-amd64-amd64-xl-qemuu-ovmf-amd64 pass
test-amd64-i386-xl-qemuu-ovmf-amd64 pass
------------------------------------------------------------
sg-report-flight on osstest.xs.citrite.net
logs: /home/osstest/logs
images: /home/osstest/images
Logs, config files, etc. are available at
http://osstest.xs.citrite.net/~osstest/testlogs/logs
Test harness code can be found at
http://xenbits.xensource.com/gitweb?p=osstest.git;a=summary
Push not applicable.
------------------------------------------------------------
commit 36e9e3e8ea0ce477504b6d2e21603ea94847efae
Author: Hao Wu <hao.a.wu@intel.com>
Date: Mon Nov 21 15:38:11 2016 +0800
SecurityPkg Tcg2Dxe: ASSERT to ensure 'VarData' is not NULL
The logic in functions ReadAndMeasureVariable() and MeasureVariable()
within Tcg2Dxe ensure that 'VarData' will not be NULL before calling
TcgDxeHashLogExtendEvent() at line 1716.
This commit adds ASSERT as warnings for the case that will not happen.
Cc: Jiewen Yao <jiewen.yao@intel.com>
Cc: Chao Zhang <chao.b.zhang@intel.com>
Contributed-under: TianoCore Contribution Agreement 1.0
Signed-off-by: Hao Wu <hao.a.wu@intel.com>
Reviewed-by: Jiewen Yao <jiewen.yao@intel.com>
Reviewed-by: Chao Zhang <chao.b.zhang@intel.com>
commit a8bcbf9c4d677c392e24893b86944e2cdeb8719e
Author: Hao Wu <hao.a.wu@intel.com>
Date: Mon Nov 21 14:00:44 2016 +0800
SecurityPkg TcgStorageCoreLib: ASSERT to ensure 'ByteSeq' is not NULL
Add ASSERT to make sure 'ByteSeq' is not NULL before comsumed by
CopyMem().
Cc: Eric Dong <eric.dong@intel.com>
Cc: Feng Tian <feng.tian@intel.com>
Contributed-under: TianoCore Contribution Agreement 1.0
Signed-off-by: Hao Wu <hao.a.wu@intel.com>
Reviewed-by: Jiewen Yao <jiewen.yao@intel.com>
commit a522ad7c192b5cf3b31d3152eb082236fbda7243
Author: Hao Wu <hao.a.wu@intel.com>
Date: Mon Nov 21 13:44:59 2016 +0800
MdeModulePkg CapsuleApp: ASSERT to ensure 'CapsuleIndex' is not NULL
Function GetVariable2() ensures its third (output) parameter will not be
NULL when the return status is EFI_SUCCESS.
This commit adds ASSERT as warnings for the case that will not happen.
Cc: Jiewen Yao <jiewen.yao@intel.com>
Contributed-under: TianoCore Contribution Agreement 1.0
Signed-off-by: Hao Wu <hao.a.wu@intel.com>
Reviewed-by: Jiewen Yao <jiewen.yao@intel.com>
_______________________________________________
Xen-devel mailing list
Xen-devel@lists.xen.org
https://lists.xen.org/xen-devel
reply other threads:[~2016-11-22 19:33 UTC|newest]
Thread overview: [no followups] expand[flat|nested] mbox.gz Atom feed
Reply instructions:
You may reply publicly to this message via plain-text email
using any one of the following methods:
* Save the following mbox file, import it into your mail client,
and reply-to-all from there: mbox
Avoid top-posting and favor interleaved quoting:
https://en.wikipedia.org/wiki/Posting_style#Interleaved_style
* Reply using the --to, --cc, and --in-reply-to
switches of git-send-email(1):
git send-email \
--in-reply-to=osstest-68081-mainreport@xen.org \
--to=citrix-osstest@xenproject.org \
--cc=osstest-admin@xenproject.org \
--cc=xen-devel@lists.xensource.com \
/path/to/YOUR_REPLY
https://kernel.org/pub/software/scm/git/docs/git-send-email.html
* If your mail client supports setting the In-Reply-To header
via mailto: links, try the mailto: link
Be sure your reply has a Subject: header at the top and a blank line
before the message body.
This is a public inbox, see mirroring instructions
for how to clone and mirror all data and code used for this inbox;
as well as URLs for NNTP newsgroup(s).