xen-devel.lists.xenproject.org archive mirror
 help / color / mirror / Atom feed
* [ovmf baseline-only test] 68121: all pass
@ 2016-11-29 18:24 Platform Team regression test user
  0 siblings, 0 replies; only message in thread
From: Platform Team regression test user @ 2016-11-29 18:24 UTC (permalink / raw)
  To: xen-devel, osstest-admin

This run is configured for baseline tests only.

flight 68121 ovmf real [real]
http://osstest.xs.citrite.net/~osstest/testlogs/logs/68121/

Perfect :-)
All tests in this flight passed as required
version targeted for testing:
 ovmf                 2b2efe33eaceb3fd2b5c6859dcb5151970dc797b
baseline version:
 ovmf                 8ae17140476861efa642d28849f627fd9940f1af

Last test of basis    68119  2016-11-29 06:50:16 Z    0 days
Testing same since    68121  2016-11-29 16:19:18 Z    0 days    1 attempts

------------------------------------------------------------
People who touched revisions under test:
  Liming Gao <liming.gao@intel.com>
  Pete Batard <pete@akeo.ie>

jobs:
 build-amd64-xsm                                              pass    
 build-i386-xsm                                               pass    
 build-amd64                                                  pass    
 build-i386                                                   pass    
 build-amd64-libvirt                                          pass    
 build-i386-libvirt                                           pass    
 build-amd64-pvops                                            pass    
 build-i386-pvops                                             pass    
 test-amd64-amd64-xl-qemuu-ovmf-amd64                         pass    
 test-amd64-i386-xl-qemuu-ovmf-amd64                          pass    


------------------------------------------------------------
sg-report-flight on osstest.xs.citrite.net
logs: /home/osstest/logs
images: /home/osstest/images

Logs, config files, etc. are available at
    http://osstest.xs.citrite.net/~osstest/testlogs/logs

Test harness code can be found at
    http://xenbits.xensource.com/gitweb?p=osstest.git;a=summary


Push not applicable.

------------------------------------------------------------
commit 2b2efe33eaceb3fd2b5c6859dcb5151970dc797b
Author: Pete Batard <pete@akeo.ie>
Date:   Fri Nov 25 01:00:18 2016 +0800

    MdeModulePkg/EbcDxe: add EBC Debugger configuration application
    
    * Introduce a generic Debugger Configuration protocol.
    * Add private configuration data in the EBC Debugger and make it
      register the Debugger Configuration protocol on initialization.
    * Add a shell application that uses the protocol above to access
      the private data in order to configure the EBC debugger.
    
    Cc: Jiewen Yao <jiewen.yao@intel.com>
    Contributed-under: TianoCore Contribution Agreement 1.0
    Signed-off-by: Pete Batard <pete@akeo.ie>
    reviewed-by: Jiewen Yao <jiewen.yao@intel.com>

commit 75fe0a78aea7f450a46d958f7ad8219899574acc
Author: Liming Gao <liming.gao@intel.com>
Date:   Wed Nov 23 12:51:29 2016 +0800

    MdeModulePkg PeiCore: Make SetPeiServicesTablePointer() early in EntryPoint
    
    Make SetPeiServicesTablePointer() earlier than ProcessLibraryConstructorList()
    so the constructor() function can get the correct pei service table pointer.
    
    https://bugzilla.tianocore.org/show_bug.cgi?id=238
    
    Cc: Michael Kinney <michael.d.kinney@intel.com>
    Cc: Star Zeng <star.zeng@intel.com>
    Contributed-under: TianoCore Contribution Agreement 1.0
    Signed-off-by: Liming Gao <liming.gao@intel.com>
    Reviewed-by: Star Zeng <star.zeng@intel.com>

_______________________________________________
Xen-devel mailing list
Xen-devel@lists.xen.org
https://lists.xen.org/xen-devel

^ permalink raw reply	[flat|nested] only message in thread

only message in thread, other threads:[~2016-11-29 18:24 UTC | newest]

Thread overview: (only message) (download: mbox.gz follow: Atom feed
-- links below jump to the message on this page --
2016-11-29 18:24 [ovmf baseline-only test] 68121: all pass Platform Team regression test user

This is a public inbox, see mirroring instructions
for how to clone and mirror all data and code used for this inbox;
as well as URLs for NNTP newsgroup(s).