xen-devel.lists.xenproject.org archive mirror
 help / color / mirror / Atom feed
From: Platform Team regression test user <citrix-osstest@xenproject.org>
To: xen-devel@lists.xensource.com, osstest-admin@xenproject.org
Subject: [ovmf baseline-only test] 68154: all pass
Date: Sun, 4 Dec 2016 07:46:29 +0000	[thread overview]
Message-ID: <osstest-68154-mainreport@xen.org> (raw)

This run is configured for baseline tests only.

flight 68154 ovmf real [real]
http://osstest.xs.citrite.net/~osstest/testlogs/logs/68154/

Perfect :-)
All tests in this flight passed as required
version targeted for testing:
 ovmf                 7bbe0b3eff9e7876808ce1b96b9a71360984cf91
baseline version:
 ovmf                 c62f1874f4df469e620dd72a9d31b51d9d99be27

Last test of basis    68151  2016-12-03 02:49:53 Z    1 days
Testing same since    68154  2016-12-04 02:17:11 Z    0 days    1 attempts

------------------------------------------------------------
People who touched revisions under test:
  Leif Lindholm <leif.lindholm@linaro.org>

jobs:
 build-amd64-xsm                                              pass    
 build-i386-xsm                                               pass    
 build-amd64                                                  pass    
 build-i386                                                   pass    
 build-amd64-libvirt                                          pass    
 build-i386-libvirt                                           pass    
 build-amd64-pvops                                            pass    
 build-i386-pvops                                             pass    
 test-amd64-amd64-xl-qemuu-ovmf-amd64                         pass    
 test-amd64-i386-xl-qemuu-ovmf-amd64                          pass    


------------------------------------------------------------
sg-report-flight on osstest.xs.citrite.net
logs: /home/osstest/logs
images: /home/osstest/images

Logs, config files, etc. are available at
    http://osstest.xs.citrite.net/~osstest/testlogs/logs

Test harness code can be found at
    http://xenbits.xensource.com/gitweb?p=osstest.git;a=summary


Push not applicable.

------------------------------------------------------------
commit 7bbe0b3eff9e7876808ce1b96b9a71360984cf91
Author: Leif Lindholm <leif.lindholm@linaro.org>
Date:   Thu Dec 1 15:14:25 2016 +0000

    EmulatorPkg: Remove use of IntelFrameworkModulePkg legacy libs
    
    LzmaCustomDecompressLib and PeiDxeDebugLibReportStatusCode were copied
    from IntelFrameworkModulePkg to MdeModulePkg, but the originals were
    kept for compatibility.
    
    Since the libraries are identical, move EmulatorPkg to use the
    MdeModulePkg versions instead.
    
    Contributed-under: TianoCore Contribution Agreement 1.0
    Signed-off-by: Leif Lindholm <leif.lindholm@linaro.org>
    Reviewed-by: Jordan Justen <jordan.l.justen@intel.com>

commit 95a11f81c66520945045ce15757894c8a5015418
Author: Leif Lindholm <leif.lindholm@linaro.org>
Date:   Thu Dec 1 15:12:55 2016 +0000

    DuetPkg: Remove use of IntelFrameworkModulePkg legacy libs
    
    LzmaCustomDecompressLib and PeiDxeDebugLibReportStatusCode were copied
    from IntelFrameworkModulePkg to MdeModulePkg, but the originals were
    kept for compatibility.
    
    Since the libraries are identical, move DuetPkg to use the MdeModulePkg
    versions instead.
    
    Contributed-under: TianoCore Contribution Agreement 1.0
    Signed-off-by: Leif Lindholm <leif.lindholm@linaro.org>
    Reviewed-by: Ruiyu Ni <ruiyu.ni@intel.com>

commit e694617d142e78f5706faa70d0240d721a0c6abb
Author: Leif Lindholm <leif.lindholm@linaro.org>
Date:   Thu Dec 1 14:48:22 2016 +0000

    QuarkSocPkg: Remove use of IntelFrameworkModulePkg legacy libs
    
    LzmaCustomDecompressLib and PeiDxeDebugLibReportStatusCode were copied
    from IntelFrameworkModulePkg to MdeModulePkg, but the originals were
    kept for compatibility.
    
    Since the libraries are identical, move iQuarkSocPkg to use the
    MdeModulePkg versions instead.
    
    Contributed-under: TianoCore Contribution Agreement 1.0
    Signed-off-by: Leif Lindholm <leif.lindholm@linaro.org>
    Reviewed-by: Michael Kinney <michael.d.kinney@intel.com>

commit d2daa3dbe36783b46f23d1035191d4ea8031741a
Author: Leif Lindholm <leif.lindholm@linaro.org>
Date:   Thu Dec 1 14:45:12 2016 +0000

    OvmfPkg: Remove use of IntelFrameworkModulePkg legacy libs
    
    LzmaCustomDecompressLib and PeiDxeDebugLibReportStatusCode were copied
    from IntelFrameworkModulePkg to MdeModulePkg, but the originals were
    kept for compatibility.
    
    Since the libraries are identical, move OvmfPkg to use the MdeModulePkg
    versions instead.
    
    Contributed-under: TianoCore Contribution Agreement 1.0
    Signed-off-by: Leif Lindholm <leif.lindholm@linaro.org>
    Reviewed-by: Laszlo Ersek <lersek@redhat.com>
    Reviewed-by: Jordan Justen <jordan.l.justen@intel.com>

_______________________________________________
Xen-devel mailing list
Xen-devel@lists.xen.org
https://lists.xen.org/xen-devel

                 reply	other threads:[~2016-12-04  7:46 UTC|newest]

Thread overview: [no followups] expand[flat|nested]  mbox.gz  Atom feed

Reply instructions:

You may reply publicly to this message via plain-text email
using any one of the following methods:

* Save the following mbox file, import it into your mail client,
  and reply-to-all from there: mbox

  Avoid top-posting and favor interleaved quoting:
  https://en.wikipedia.org/wiki/Posting_style#Interleaved_style

* Reply using the --to, --cc, and --in-reply-to
  switches of git-send-email(1):

  git send-email \
    --in-reply-to=osstest-68154-mainreport@xen.org \
    --to=citrix-osstest@xenproject.org \
    --cc=osstest-admin@xenproject.org \
    --cc=xen-devel@lists.xensource.com \
    /path/to/YOUR_REPLY

  https://kernel.org/pub/software/scm/git/docs/git-send-email.html

* If your mail client supports setting the In-Reply-To header
  via mailto: links, try the mailto: link
Be sure your reply has a Subject: header at the top and a blank line before the message body.
This is a public inbox, see mirroring instructions
for how to clone and mirror all data and code used for this inbox;
as well as URLs for NNTP newsgroup(s).