* [ovmf baseline-only test] 68167: all pass
@ 2016-12-07 22:29 Platform Team regression test user
0 siblings, 0 replies; only message in thread
From: Platform Team regression test user @ 2016-12-07 22:29 UTC (permalink / raw)
To: xen-devel, osstest-admin
This run is configured for baseline tests only.
flight 68167 ovmf real [real]
http://osstest.xs.citrite.net/~osstest/testlogs/logs/68167/
Perfect :-)
All tests in this flight passed as required
version targeted for testing:
ovmf 2c1cc12931b6c5a85471272799b3d4c249025a60
baseline version:
ovmf 0db4acb61ac4e79a8a95b0e82874e8b6bed8e4bb
Last test of basis 68162 2016-12-05 17:21:10 Z 2 days
Testing same since 68167 2016-12-07 07:47:05 Z 0 days 1 attempts
------------------------------------------------------------
People who touched revisions under test:
Hao Wu <hao.a.wu@intel.com>
Leif Lindholm <leif.lindholm@linaro.org>
Liming Gao <liming.gao@intel.com>
Richard Thomaiyar <richard.marian.thomaiyar@intel.com>
Star Zeng <star.zeng@intel.com>
Zeng, Star <star.zeng@intel.com>
jobs:
build-amd64-xsm pass
build-i386-xsm pass
build-amd64 pass
build-i386 pass
build-amd64-libvirt pass
build-i386-libvirt pass
build-amd64-pvops pass
build-i386-pvops pass
test-amd64-amd64-xl-qemuu-ovmf-amd64 pass
test-amd64-i386-xl-qemuu-ovmf-amd64 pass
------------------------------------------------------------
sg-report-flight on osstest.xs.citrite.net
logs: /home/osstest/logs
images: /home/osstest/images
Logs, config files, etc. are available at
http://osstest.xs.citrite.net/~osstest/testlogs/logs
Test harness code can be found at
http://xenbits.xensource.com/gitweb?p=osstest.git;a=summary
Push not applicable.
------------------------------------------------------------
commit 2c1cc12931b6c5a85471272799b3d4c249025a60
Author: Leif Lindholm <leif.lindholm@linaro.org>
Date: Thu Dec 1 15:13:33 2016 +0000
EmbeddedPkg: Remove use of IntelFrameworkModulePkg legacy libs
LzmaCustomDecompressLib and PeiDxeDebugLibReportStatusCode were copied
from IntelFrameworkModulePkg to MdeModulePkg, but the originals were
kept for compatibility.
Since the libraries are identical, move EmbeddedPkg to use the
MdeModulePkg versions instead.
Contributed-under: TianoCore Contribution Agreement 1.0
Signed-off-by: Leif Lindholm <leif.lindholm@linaro.org>
Reviewed-by: Ard Biesheuvel <ard.biesheuvel@linaro.org>
commit 532e7cf44f8cf101f4c52dd9d9dd083ec0e1c1f2
Author: Leif Lindholm <leif.lindholm@linaro.org>
Date: Thu Dec 1 15:11:44 2016 +0000
BeagleBoardPkg: Remove use of IntelFrameworkModulePkg legacy libs
LzmaCustomDecompressLib and PeiDxeDebugLibReportStatusCode were copied
from IntelFrameworkModulePkg to MdeModulePkg, but the originals were
kept for compatibility.
Since the libraries are identical, move BeagleBoardPkg to use the
MdeModulePkg versions instead.
Contributed-under: TianoCore Contribution Agreement 1.0
Signed-off-by: Leif Lindholm <leif.lindholm@linaro.org>
Reviewed-by: Ard Biesheuvel <ard.biesheuvel@linaro.org>
commit bb34cc8c389a6c301b70984879eaa846fb12c9fe
Author: Liming Gao <liming.gao@intel.com>
Date: Thu Dec 1 14:30:18 2016 +0800
MdeModulePkg PiSmmCore: Update comments in InitializeMemoryServices
Add the comments to describe Free and Allocated SMRAM are added separately.
Cc: Star Zeng <star.zeng@intel.com>
Cc: Jiewen Yao <jiewen.yao@intel.com>
Contributed-under: TianoCore Contribution Agreement 1.0
Signed-off-by: Liming Gao <liming.gao@intel.com>
Reviewed-by: Jiewen Yao <jiewen.yao@intel.com>
commit 60131098f302d9e449e95c53dec328aaf828076b
Author: Zeng, Star <star.zeng@intel.com>
Date: Mon Dec 5 10:52:45 2016 +0800
IntelFsp2Pkg: 41d739e breaks flat tree build
There may be no environment variable PACKAGES_PATH defined
in flat tree, then 41d739e breaks flat tree build.
This patch is to update GenCfgOpt.py to be compatible with
both flat tree and package path build.
Cc: Richard Thomaiyar <richard.marian.thomaiyar@intel.com>
Cc: Maurice Ma <maurice.ma@intel.com>
Cc: Jiewen Yao <jiewen.yao@intel.com>
Cc: Giri P Mudusuru <giri.p.mudusuru@intel.com>
Contributed-under: TianoCore Contribution Agreement 1.0
Signed-off-by: Star Zeng <star.zeng@intel.com>
Reviewed-by: Jiewen Yao <jiewen.yao@intel.com>
Reviewed-by: Richard Thomaiyar <richard.marian.thomaiyar@intel.com>
Tested-by: Richard Thomaiyar <richard.marian.thomaiyar@intel.com>
commit 3883e2cb52fa1582165d6558c67649835d0eada3
Author: Hao Wu <hao.a.wu@intel.com>
Date: Mon Nov 28 15:18:20 2016 +0800
BaseTools/VolInfo: Fix printf issue using '%ls' in format string
https://bugzilla.tianocore.org/show_bug.cgi?id=257
For GCC compilers, when building with option '-fshort-wchar', wide char
string format '%ls' does not work properly for printf() function. The
string specified by '%ls' will not be printed.
This commit avoids using '%ls' for printf() function and converts the wide
char string to char string for printing.
Cc: Liming Gao <liming.gao@intel.com>
Cc: Yonghong Zhu <yonghong.zhu@intel.com>
Contributed-under: TianoCore Contribution Agreement 1.0
Signed-off-by: Hao Wu <hao.a.wu@intel.com>
Reviewed-by: Liming Gao <liming.gao@intel.com>
_______________________________________________
Xen-devel mailing list
Xen-devel@lists.xen.org
https://lists.xen.org/xen-devel
^ permalink raw reply [flat|nested] only message in thread
only message in thread, other threads:[~2016-12-07 22:29 UTC | newest]
Thread overview: (only message) (download: mbox.gz follow: Atom feed
-- links below jump to the message on this page --
2016-12-07 22:29 [ovmf baseline-only test] 68167: all pass Platform Team regression test user
This is a public inbox, see mirroring instructions
for how to clone and mirror all data and code used for this inbox;
as well as URLs for NNTP newsgroup(s).