xen-devel.lists.xenproject.org archive mirror
 help / color / mirror / Atom feed
* [ovmf baseline-only test] 68178: all pass
@ 2016-12-09  3:31 Platform Team regression test user
  0 siblings, 0 replies; only message in thread
From: Platform Team regression test user @ 2016-12-09  3:31 UTC (permalink / raw)
  To: xen-devel, osstest-admin

This run is configured for baseline tests only.

flight 68178 ovmf real [real]
http://osstest.xs.citrite.net/~osstest/testlogs/logs/68178/

Perfect :-)
All tests in this flight passed as required
version targeted for testing:
 ovmf                 854c6b80dc3f1d4a151322b21c5fb6952b159ca9
baseline version:
 ovmf                 2c1cc12931b6c5a85471272799b3d4c249025a60

Last test of basis    68167  2016-12-07 07:47:05 Z    1 days
Testing same since    68178  2016-12-08 19:23:11 Z    0 days    1 attempts

------------------------------------------------------------
People who touched revisions under test:
  Anthony PERARD <anthony.perard@citrix.com>
  Dandan Bi <dandan.bi@intel.com>
  Jiaxin Wu <jiaxin.wu@intel.com>
  Jiewen Yao <jiewen.yao@intel.com>
  Laszlo Ersek <lersek@redhat.com>
  Leif Lindholm <leif.lindholm@linaro.org>
  Michael Kinney <michael.d.kinney@intel.com>
  Ruiyu Ni <ruiyu.ni@intel.com>
  Zhang Lubo <lubo.zhang@intel.com>

jobs:
 build-amd64-xsm                                              pass    
 build-i386-xsm                                               pass    
 build-amd64                                                  pass    
 build-i386                                                   pass    
 build-amd64-libvirt                                          pass    
 build-i386-libvirt                                           pass    
 build-amd64-pvops                                            pass    
 build-i386-pvops                                             pass    
 test-amd64-amd64-xl-qemuu-ovmf-amd64                         pass    
 test-amd64-i386-xl-qemuu-ovmf-amd64                          pass    


------------------------------------------------------------
sg-report-flight on osstest.xs.citrite.net
logs: /home/osstest/logs
images: /home/osstest/images

Logs, config files, etc. are available at
    http://osstest.xs.citrite.net/~osstest/testlogs/logs

Test harness code can be found at
    http://xenbits.xensource.com/gitweb?p=osstest.git;a=summary


Push not applicable.

(No revision log; it would be 543 lines long.)

_______________________________________________
Xen-devel mailing list
Xen-devel@lists.xen.org
https://lists.xen.org/xen-devel

^ permalink raw reply	[flat|nested] only message in thread

only message in thread, other threads:[~2016-12-09  3:31 UTC | newest]

Thread overview: (only message) (download: mbox.gz follow: Atom feed
-- links below jump to the message on this page --
2016-12-09  3:31 [ovmf baseline-only test] 68178: all pass Platform Team regression test user

This is a public inbox, see mirroring instructions
for how to clone and mirror all data and code used for this inbox;
as well as URLs for NNTP newsgroup(s).