xen-devel.lists.xenproject.org archive mirror
 help / color / mirror / Atom feed
* [ovmf baseline-only test] 68221: all pass
@ 2016-12-14 22:57 Platform Team regression test user
  0 siblings, 0 replies; only message in thread
From: Platform Team regression test user @ 2016-12-14 22:57 UTC (permalink / raw)
  To: xen-devel, osstest-admin

This run is configured for baseline tests only.

flight 68221 ovmf real [real]
http://osstest.xs.citrite.net/~osstest/testlogs/logs/68221/

Perfect :-)
All tests in this flight passed as required
version targeted for testing:
 ovmf                 dc756baeda55490202f3150a8821b5164e906451
baseline version:
 ovmf                 94a1bc1212edf521b7c96bfb9dc653818c95bec7

Last test of basis    68217  2016-12-13 23:21:14 Z    0 days
Testing same since    68221  2016-12-14 16:19:37 Z    0 days    1 attempts

------------------------------------------------------------
People who touched revisions under test:
  Hao Wu <hao.a.wu@intel.com>
  Jiewen Yao <jiewen.yao@intel.com>

jobs:
 build-amd64-xsm                                              pass    
 build-i386-xsm                                               pass    
 build-amd64                                                  pass    
 build-i386                                                   pass    
 build-amd64-libvirt                                          pass    
 build-i386-libvirt                                           pass    
 build-amd64-pvops                                            pass    
 build-i386-pvops                                             pass    
 test-amd64-amd64-xl-qemuu-ovmf-amd64                         pass    
 test-amd64-i386-xl-qemuu-ovmf-amd64                          pass    


------------------------------------------------------------
sg-report-flight on osstest.xs.citrite.net
logs: /home/osstest/logs
images: /home/osstest/images

Logs, config files, etc. are available at
    http://osstest.xs.citrite.net/~osstest/testlogs/logs

Test harness code can be found at
    http://xenbits.xensource.com/gitweb?p=osstest.git;a=summary


Push not applicable.

------------------------------------------------------------
commit dc756baeda55490202f3150a8821b5164e906451
Author: Jiewen Yao <jiewen.yao@intel.com>
Date:   Mon Dec 12 14:35:05 2016 +0800

    SecurityPkg:/Tcg2Dxe: remove 4G limitation
    
    Tcg2Dxe allocates event log below 4G. It is unnecessary.
    
    Cc: Chao Zhang <chao.b.zhang@intel.com>
    Cc: Star Zeng <star.zeng@intel.com>
    Contributed-under: TianoCore Contribution Agreement 1.0
    Signed-off-by: Jiewen Yao <jiewen.yao@intel.com>
    Reviewed-by: Star Zeng <star.zeng@intel.com>
    Reviewed-by: Chao Zhang <chao.b.zhang@intel.com>

commit 82bf462e3a473fdce2475fac96c225bc62658b18
Author: Hao Wu <hao.a.wu@intel.com>
Date:   Mon Dec 12 09:07:52 2016 +0800

    MdeModulePkg/NonDiscoverablePciDev: Fix type mismatch in switch/case
    
    Fix switch/case statement type mismatch in functions PciIoMemRead &
    PciIoMemWrite.
    
    Parameter 'Width' is of enum type EFI_PCI_IO_PROTOCOL_WIDTH, but the enum
    type provided in 'switch (Width)' block is of type
    EFI_PCI_ROOT_BRIDGE_IO_PROTOCOL_WIDTH.
    
    Cc: Ard Biesheuvel <ard.biesheuvel@linaro.org>
    Cc: Ruiyu Ni <ruiyu.ni@intel.com>
    Contributed-under: TianoCore Contribution Agreement 1.0
    Signed-off-by: Hao Wu <hao.a.wu@intel.com>
    Reviewed-by: Ruiyu Ni <ruiyu.ni@intel.com>

commit 2961c65425df42e31554bdeb3f6af0451580f047
Author: Jiewen Yao <jiewen.yao@intel.com>
Date:   Sat Dec 10 15:08:16 2016 +0800

    MdeModulePkg/CapsuleLib: Correct debug message.
    
    Cc: Feng Tian <feng.tian@intel.com>
    Cc: Star Zeng <star.zeng@intel.com>
    Contributed-under: TianoCore Contribution Agreement 1.0
    Signed-off-by: Jiewen Yao <jiewen.yao@intel.com>
    Reviewed-by: Star Zeng <star.zeng@intel.com>

_______________________________________________
Xen-devel mailing list
Xen-devel@lists.xen.org
https://lists.xen.org/xen-devel

^ permalink raw reply	[flat|nested] only message in thread

only message in thread, other threads:[~2016-12-14 22:57 UTC | newest]

Thread overview: (only message) (download: mbox.gz follow: Atom feed
-- links below jump to the message on this page --
2016-12-14 22:57 [ovmf baseline-only test] 68221: all pass Platform Team regression test user

This is a public inbox, see mirroring instructions
for how to clone and mirror all data and code used for this inbox;
as well as URLs for NNTP newsgroup(s).