xen-devel.lists.xenproject.org archive mirror
 help / color / mirror / Atom feed
From: Platform Team regression test user <citrix-osstest@xenproject.org>
To: xen-devel@lists.xensource.com, osstest-admin@xenproject.org
Subject: [ovmf baseline-only test] 68240: all pass
Date: Mon, 19 Dec 2016 01:27:17 +0000	[thread overview]
Message-ID: <osstest-68240-mainreport@xen.org> (raw)

This run is configured for baseline tests only.

flight 68240 ovmf real [real]
http://osstest.xs.citrite.net/~osstest/testlogs/logs/68240/

Perfect :-)
All tests in this flight passed as required
version targeted for testing:
 ovmf                 04fd7859bd0185668f2cf9213273a5fb4bcc7123
baseline version:
 ovmf                 c0584d0bdd4463551db8f8c62a5e2936ec97b407

Last test of basis    68237  2016-12-17 16:52:51 Z    1 days
Testing same since    68240  2016-12-18 22:50:38 Z    0 days    1 attempts

------------------------------------------------------------
People who touched revisions under test:
  Ard Biesheuvel <ard.biesheuvel@linaro.org>

jobs:
 build-amd64-xsm                                              pass    
 build-i386-xsm                                               pass    
 build-amd64                                                  pass    
 build-i386                                                   pass    
 build-amd64-libvirt                                          pass    
 build-i386-libvirt                                           pass    
 build-amd64-pvops                                            pass    
 build-i386-pvops                                             pass    
 test-amd64-amd64-xl-qemuu-ovmf-amd64                         pass    
 test-amd64-i386-xl-qemuu-ovmf-amd64                          pass    


------------------------------------------------------------
sg-report-flight on osstest.xs.citrite.net
logs: /home/osstest/logs
images: /home/osstest/images

Logs, config files, etc. are available at
    http://osstest.xs.citrite.net/~osstest/testlogs/logs

Test harness code can be found at
    http://xenbits.xensource.com/gitweb?p=osstest.git;a=summary


Push not applicable.

------------------------------------------------------------
commit 04fd7859bd0185668f2cf9213273a5fb4bcc7123
Author: Ard Biesheuvel <ard.biesheuvel@linaro.org>
Date:   Fri Dec 9 15:04:35 2016 +0000

    Omap35xxPkg/PciEmulation: port to new non-discoverable device infrastructure
    
    Move to the new non-discoverable device protocols for wiring the PCI based
    EHCI controller driver to the non-discoverable EHCI controller found on the
    OMAP 3530.
    
    Contributed-under: TianoCore Contribution Agreement 1.0
    Signed-off-by: Ard Biesheuvel <ard.biesheuvel@linaro.org>
    Reviewed-by: Leif Lindholm <leif.lindholm@linaro.org>

_______________________________________________
Xen-devel mailing list
Xen-devel@lists.xen.org
https://lists.xen.org/xen-devel

                 reply	other threads:[~2016-12-19  1:27 UTC|newest]

Thread overview: [no followups] expand[flat|nested]  mbox.gz  Atom feed

Reply instructions:

You may reply publicly to this message via plain-text email
using any one of the following methods:

* Save the following mbox file, import it into your mail client,
  and reply-to-all from there: mbox

  Avoid top-posting and favor interleaved quoting:
  https://en.wikipedia.org/wiki/Posting_style#Interleaved_style

* Reply using the --to, --cc, and --in-reply-to
  switches of git-send-email(1):

  git send-email \
    --in-reply-to=osstest-68240-mainreport@xen.org \
    --to=citrix-osstest@xenproject.org \
    --cc=osstest-admin@xenproject.org \
    --cc=xen-devel@lists.xensource.com \
    /path/to/YOUR_REPLY

  https://kernel.org/pub/software/scm/git/docs/git-send-email.html

* If your mail client supports setting the In-Reply-To header
  via mailto: links, try the mailto: link
Be sure your reply has a Subject: header at the top and a blank line before the message body.
This is a public inbox, see mirroring instructions
for how to clone and mirror all data and code used for this inbox;
as well as URLs for NNTP newsgroup(s).