* [ovmf baseline-only test] 68273: all pass
@ 2016-12-26 15:43 Platform Team regression test user
0 siblings, 0 replies; only message in thread
From: Platform Team regression test user @ 2016-12-26 15:43 UTC (permalink / raw)
To: xen-devel, osstest-admin
This run is configured for baseline tests only.
flight 68273 ovmf real [real]
http://osstest.xs.citrite.net/~osstest/testlogs/logs/68273/
Perfect :-)
All tests in this flight passed as required
version targeted for testing:
ovmf 3f31ea1b3d59c909734a8b709a0cfb761579981e
baseline version:
ovmf 0a64f49fde09928b6061543b08e6da195e2abfbd
Last test of basis 68269 2016-12-24 12:16:14 Z 2 days
Testing same since 68273 2016-12-26 07:17:13 Z 0 days 1 attempts
------------------------------------------------------------
People who touched revisions under test:
Jiewen Yao <jiewen.yao@intel.com>
jobs:
build-amd64-xsm pass
build-i386-xsm pass
build-amd64 pass
build-i386 pass
build-amd64-libvirt pass
build-i386-libvirt pass
build-amd64-pvops pass
build-i386-pvops pass
test-amd64-amd64-xl-qemuu-ovmf-amd64 pass
test-amd64-i386-xl-qemuu-ovmf-amd64 pass
------------------------------------------------------------
sg-report-flight on osstest.xs.citrite.net
logs: /home/osstest/logs
images: /home/osstest/images
Logs, config files, etc. are available at
http://osstest.xs.citrite.net/~osstest/testlogs/logs
Test harness code can be found at
http://xenbits.xensource.com/gitweb?p=osstest.git;a=summary
Push not applicable.
------------------------------------------------------------
commit 3f31ea1b3d59c909734a8b709a0cfb761579981e
Author: Jiewen Yao <jiewen.yao@intel.com>
Date: Fri Dec 23 23:22:30 2016 +0800
MdeModulePkg/CapsuleLib: Follow UEFI 22.2.3 to process FMP.
Previous logic does not follow UEFI 22.2.3 to process FMP strictly.
It may cause FMP image not be processed in some corner case.
The updated logic follows UEFI 22.2.3.
The way to check if a capsule is processed is also simplified.
The function - ProcessFmpCapsuleImage() is too big, so that
we created sub-functions - StartFmpImage(), DumpAllFmpInfo(),
GetFmpHandleBufferByType(), SetFmpImageData(), RecordFmpCapsuleStatus()
to improve the readability.
The function - ProcessTheseCapsules() is too big, so that
we created sub-functions - InitCapsulePtr(), AreAllImagesProcessed(),
PopulateCapsuleInConfigurationTable() to improve the readability.
Cc: Feng Tian <feng.tian@intel.com>
Cc: Star Zeng <star.zeng@intel.com>
Cc: Chao Zhang <chao.b.zhang@intel.com>
Contributed-under: TianoCore Contribution Agreement 1.0
Signed-off-by: Jiewen Yao <jiewen.yao@intel.com>
Reviewed-by: Star Zeng <star.zeng@intel.com>
commit 777034ce83a8ee4a13cda7c45524933459237595
Author: Jiewen Yao <jiewen.yao@intel.com>
Date: Sat Dec 24 00:00:51 2016 +0800
MdeModulePkg/CapsuleLib: Support result rolling over.
According to UEFI spec, capsule result variable may roll over to 0.
Cc: Feng Tian <feng.tian@intel.com>
Cc: Star Zeng <star.zeng@intel.com>
Cc: Chao Zhang <chao.b.zhang@intel.com>
Contributed-under: TianoCore Contribution Agreement 1.0
Signed-off-by: Jiewen Yao <jiewen.yao@intel.com>
Reviewed-by: Star Zeng <star.zeng@intel.com>
commit 8f6db16134b60721af3eed53ef5705dca452d128
Author: Jiewen Yao <jiewen.yao@intel.com>
Date: Fri Dec 23 15:42:27 2016 +0800
MdeModulePkg/CapsuleLib: Add CapsuleTarget support.
UEFI spec requires CapsuleTarget to be a device path associated
with FMP producer.
Cc: Feng Tian <feng.tian@intel.com>
Cc: Star Zeng <star.zeng@intel.com>
Cc: Chao Zhang <chao.b.zhang@intel.com>
Contributed-under: TianoCore Contribution Agreement 1.0
Signed-off-by: Jiewen Yao <jiewen.yao@intel.com>
Reviewed-by: Chao Zhang <chao.b.zhang@intel.com>
Reviewed-by: Star Zeng <star.zeng@intel.com>
_______________________________________________
Xen-devel mailing list
Xen-devel@lists.xen.org
https://lists.xen.org/xen-devel
^ permalink raw reply [flat|nested] only message in thread
only message in thread, other threads:[~2016-12-26 15:43 UTC | newest]
Thread overview: (only message) (download: mbox.gz follow: Atom feed
-- links below jump to the message on this page --
2016-12-26 15:43 [ovmf baseline-only test] 68273: all pass Platform Team regression test user
This is a public inbox, see mirroring instructions
for how to clone and mirror all data and code used for this inbox;
as well as URLs for NNTP newsgroup(s).