* [ovmf baseline-only test] 68282: all pass
@ 2016-12-28 14:27 Platform Team regression test user
0 siblings, 0 replies; only message in thread
From: Platform Team regression test user @ 2016-12-28 14:27 UTC (permalink / raw)
To: xen-devel, osstest-admin
This run is configured for baseline tests only.
flight 68282 ovmf real [real]
http://osstest.xs.citrite.net/~osstest/testlogs/logs/68282/
Perfect :-)
All tests in this flight passed as required
version targeted for testing:
ovmf 31d060d94e65c41ccca2b68f7908c0c3b4ac3df4
baseline version:
ovmf 1f20b2988cb223907e64a4736a3eb6030aa715b8
Last test of basis 68276 2016-12-26 19:16:00 Z 1 days
Testing same since 68282 2016-12-28 11:17:00 Z 0 days 1 attempts
------------------------------------------------------------
People who touched revisions under test:
Jiewen Yao <jiewen.yao@intel.com>
jobs:
build-amd64-xsm pass
build-i386-xsm pass
build-amd64 pass
build-i386 pass
build-amd64-libvirt pass
build-i386-libvirt pass
build-amd64-pvops pass
build-i386-pvops pass
test-amd64-amd64-xl-qemuu-ovmf-amd64 pass
test-amd64-i386-xl-qemuu-ovmf-amd64 pass
------------------------------------------------------------
sg-report-flight on osstest.xs.citrite.net
logs: /home/osstest/logs
images: /home/osstest/images
Logs, config files, etc. are available at
http://osstest.xs.citrite.net/~osstest/testlogs/logs
Test harness code can be found at
http://xenbits.xensource.com/gitweb?p=osstest.git;a=summary
Push not applicable.
------------------------------------------------------------
commit 31d060d94e65c41ccca2b68f7908c0c3b4ac3df4
Author: Jiewen Yao <jiewen.yao@intel.com>
Date: Tue Dec 27 14:21:16 2016 +0800
UefiCpuPkg/MicrocodeUpdate: Add MP support.
Support the case that BSP and AP are using different Microcode.
The previous logic validates new MCU on BSP only.
The enhanced logic will validate MCU on every BSP and AP.
As long as one processor loads the MCU successfully, it will be updated.
Cc: Jeff Fan <jeff.fan@intel.com>
Cc: Star Zeng <star.zeng@intel.com>
Contributed-under: TianoCore Contribution Agreement 1.0
Signed-off-by: Jiewen Yao <jiewen.yao@intel.com>
Reviewed-by: Jeff Fan <jeff.fan@intel.com>
commit 2ed658240c1f3ca10aa65dbbf74f4cf297145d8c
Author: Jiewen Yao <jiewen.yao@intel.com>
Date: Mon Dec 26 23:35:41 2016 +0800
UefiCpuPkg/MicrocodeUpdate: enhance flash write logic
The patch updated MicrocodeWrite() to move the Microcode replacement logic
to a standalone function - UpdateMicrocodeFlashRegion().
More detail description is added in UpdateMicrocodeFlashRegion()
to improve readability.
The Microcode information is collected in InitializeMicrocodeDescriptor(),
so that FmpGetImage() can get the info directly.
MicrocodeRead() is not needed any more.
Cc: Jeff Fan <jeff.fan@intel.com>
Cc: Star Zeng <star.zeng@intel.com>
Contributed-under: TianoCore Contribution Agreement 1.0
Signed-off-by: Jiewen Yao <jiewen.yao@intel.com>
Reviewed-by: Jeff Fan <jeff.fan@intel.com>
_______________________________________________
Xen-devel mailing list
Xen-devel@lists.xen.org
https://lists.xen.org/xen-devel
^ permalink raw reply [flat|nested] only message in thread
only message in thread, other threads:[~2016-12-28 14:27 UTC | newest]
Thread overview: (only message) (download: mbox.gz follow: Atom feed
-- links below jump to the message on this page --
2016-12-28 14:27 [ovmf baseline-only test] 68282: all pass Platform Team regression test user
This is a public inbox, see mirroring instructions
for how to clone and mirror all data and code used for this inbox;
as well as URLs for NNTP newsgroup(s).