* [ovmf baseline-only test] 68286: all pass
@ 2016-12-29 9:18 Platform Team regression test user
0 siblings, 0 replies; only message in thread
From: Platform Team regression test user @ 2016-12-29 9:18 UTC (permalink / raw)
To: xen-devel, osstest-admin
This run is configured for baseline tests only.
flight 68286 ovmf real [real]
http://osstest.xs.citrite.net/~osstest/testlogs/logs/68286/
Perfect :-)
All tests in this flight passed as required
version targeted for testing:
ovmf d9bb3ca3c2a1bd3f7b78adf27e82e5605f665e16
baseline version:
ovmf af8ba51aca4e0b41a359fe467fb5c5b9baa75a05
Last test of basis 68283 2016-12-28 14:48:10 Z 0 days
Testing same since 68286 2016-12-29 03:49:55 Z 0 days 1 attempts
------------------------------------------------------------
People who touched revisions under test:
Chen A Chen <chen.a.chen@intel.com>
Ruiyu Ni <ruiyu.ni@intel.com>
jobs:
build-amd64-xsm pass
build-i386-xsm pass
build-amd64 pass
build-i386 pass
build-amd64-libvirt pass
build-i386-libvirt pass
build-amd64-pvops pass
build-i386-pvops pass
test-amd64-amd64-xl-qemuu-ovmf-amd64 pass
test-amd64-i386-xl-qemuu-ovmf-amd64 pass
------------------------------------------------------------
sg-report-flight on osstest.xs.citrite.net
logs: /home/osstest/logs
images: /home/osstest/images
Logs, config files, etc. are available at
http://osstest.xs.citrite.net/~osstest/testlogs/logs
Test harness code can be found at
http://xenbits.xensource.com/gitweb?p=osstest.git;a=summary
Push not applicable.
------------------------------------------------------------
commit d9bb3ca3c2a1bd3f7b78adf27e82e5605f665e16
Author: Ruiyu Ni <ruiyu.ni@intel.com>
Date: Wed Dec 21 16:04:19 2016 +0800
ShellPkg/cd: Fix "cd" to support "fs0:dir" (no slash after ':')
When "fs0:dir"(drive letter without slash) is used as destination
of "cd", "cd" tries to change to "dir" in root directory of "fs0:".
It's incorrect. The correct behavior is to change to "dir" in
current directory of "fs0:"
Contributed-under: TianoCore Contribution Agreement 1.0
Signed-off-by: Ruiyu Ni <ruiyu.ni@intel.com>
Signed-off-by: Chen A Chen <chen.a.chen@intel.com>
Reviewed-by: Jaben Carsey <jaben.carsey@intel.com>
commit bb99e3282c9e69fbd6365d117c58d15589e34c5d
Author: Ruiyu Ni <ruiyu.ni@intel.com>
Date: Wed Dec 21 15:21:32 2016 +0800
MdePkg/BaseLib: Fix PathCleanUpDirectories to correctly handle "\.\"
The old code incorrectly cleans path like "fs0:\abc\.\.." to
"fs0:\abc", instead of "fs0:\"
The patch fixes this bug.
Contributed-under: TianoCore Contribution Agreement 1.0
Signed-off-by: Chen A Chen <chen.a.chen@intel.com>
Signed-off-by: Ruiyu Ni <ruiyu.ni@intel.com>
Reviewed-by: Jaben Carsey <jaben.carsey@intel.com>
Reviewed-by: Ruiyu Ni <ruiyu.ni@intel.com>
_______________________________________________
Xen-devel mailing list
Xen-devel@lists.xen.org
https://lists.xen.org/xen-devel
^ permalink raw reply [flat|nested] only message in thread
only message in thread, other threads:[~2016-12-29 9:18 UTC | newest]
Thread overview: (only message) (download: mbox.gz follow: Atom feed
-- links below jump to the message on this page --
2016-12-29 9:18 [ovmf baseline-only test] 68286: all pass Platform Team regression test user
This is a public inbox, see mirroring instructions
for how to clone and mirror all data and code used for this inbox;
as well as URLs for NNTP newsgroup(s).