* [ovmf baseline-only test] 68381: tolerable trouble: blocked/broken
@ 2017-01-17 14:41 Platform Team regression test user
0 siblings, 0 replies; only message in thread
From: Platform Team regression test user @ 2017-01-17 14:41 UTC (permalink / raw)
To: xen-devel, osstest-admin
This run is configured for baseline tests only.
flight 68381 ovmf real [real]
http://osstest.xs.citrite.net/~osstest/testlogs/logs/68381/
Failures :-/ but no regressions.
Regressions which are regarded as allowable (not blocking):
build-i386 3 host-install(3) broken baseline untested
build-amd64 3 host-install(3) broken baseline untested
build-i386-pvops 3 host-install(3) broken baseline untested
build-i386-xsm 3 host-install(3) broken baseline untested
build-amd64-pvops 3 host-install(3) broken baseline untested
build-amd64-xsm 3 host-install(3) broken baseline untested
Tests which did not succeed, but are not blocking:
test-amd64-amd64-xl-qemuu-ovmf-amd64 1 build-check(1) blocked n/a
build-amd64-libvirt 1 build-check(1) blocked n/a
test-amd64-i386-xl-qemuu-ovmf-amd64 1 build-check(1) blocked n/a
build-i386-libvirt 1 build-check(1) blocked n/a
version targeted for testing:
ovmf 2b631390f9f5f6971c3c8a7f0f47160b80cf072b
baseline version:
ovmf 13a50a6fe1dcfa6600c38456ee24e0f9ecf51b5f
Last test of basis 68378 2017-01-17 03:46:29 Z 0 days
Testing same since 68381 2017-01-17 08:46:09 Z 0 days 1 attempts
------------------------------------------------------------
People who touched revisions under test:
Brijesh Singh <brijesh.singh@amd.com>
Leo Duran <leo.duran@amd.com>
Leo Duran <leo.duran@amd.com>
jobs:
build-amd64-xsm broken
build-i386-xsm broken
build-amd64 broken
build-i386 broken
build-amd64-libvirt blocked
build-i386-libvirt blocked
build-amd64-pvops broken
build-i386-pvops broken
test-amd64-amd64-xl-qemuu-ovmf-amd64 blocked
test-amd64-i386-xl-qemuu-ovmf-amd64 blocked
------------------------------------------------------------
sg-report-flight on osstest.xs.citrite.net
logs: /home/osstest/logs
images: /home/osstest/images
Logs, config files, etc. are available at
http://osstest.xs.citrite.net/~osstest/testlogs/logs
Test harness code can be found at
http://xenbits.xensource.com/gitweb?p=osstest.git;a=summary
broken-step build-i386 host-install(3)
broken-step build-amd64 host-install(3)
broken-step build-i386-pvops host-install(3)
broken-step build-i386-xsm host-install(3)
broken-step build-amd64-pvops host-install(3)
broken-step build-amd64-xsm host-install(3)
Push not applicable.
------------------------------------------------------------
commit 2b631390f9f5f6971c3c8a7f0f47160b80cf072b
Author: Leo Duran <leo.duran@amd.com>
Date: Sat Jan 14 04:10:00 2017 +0800
OvmfPkg: Modify QemuFwCfgLib to use new IoLib class library
The Fifo routines from the QuemuFwCfgLib library have been ported
to the new BaseIoLibIntrinsic (IoLib class) library.
Cc: Jordan Justen <jordan.l.justen@intel.com>
Cc: Laszlo Ersek <lersek@redhat.com>
Contributed-under: TianoCore Contribution Agreement 1.0
Signed-off-by: Brijesh Singh <brijesh.singh@amd.com>
Signed-off-by: Leo Duran <leo.duran@amd.com>
Reviewed-by: Liming Gao <liming.gao@intel.com>
Reviewed-by: Jordan Justen <jordan.l.justen@intel.com>
commit 29ddc5f733147ba47cecded942d9a496c9b8bb55
Author: Leo Duran <leo.duran@amd.com>
Date: Sat Jan 14 04:09:59 2017 +0800
IntelFrameworkPkg/DxeIoLibCpuIo: Add new Fifo routines in IoLib class
Cc: Michael D Kinney <michael.d.kinney@intel.com>
Cc: Jeff Fan <jeff.fan@intel.com>
Contributed-under: TianoCore Contribution Agreement 1.0
Signed-off-by: Brijesh Singh <brijesh.singh@amd.com>
Signed-off-by: Leo Duran <leo.duran@amd.com>
Reviewed-by: Liming Gao <liming.gao@intel.com>
Reviewed-by: Jordan Justen <jordan.l.justen@intel.com>
Reviewed-by: Jeff Fan <jeff.fan@intel.com>
commit 44564668d5443f1135c7bfc2e00e66c43a250644
Author: Leo Duran <leo.duran@amd.com>
Date: Sat Jan 14 04:09:58 2017 +0800
MdePkg/SmmIoLibSmmCpuIo2: Add new Fifo routines in IoLib class
Cc: Michael D Kinney <michael.d.kinney@intel.com>
Cc: Liming Gao <liming.gao@intel.com>
Contributed-under: TianoCore Contribution Agreement 1.0
Signed-off-by: Brijesh Singh <brijesh.singh@amd.com>
Signed-off-by: Leo Duran <leo.duran@amd.com>
Reviewed-by: Liming Gao <liming.gao@intel.com>
Reviewed-by: Jordan Justen <jordan.l.justen@intel.com>
commit 8553d217b66805f1be643fcf16f13a6e001ac5a4
Author: Leo Duran <leo.duran@amd.com>
Date: Sat Jan 14 04:09:57 2017 +0800
MdePkg/DxeIoLibEsal: Add new Fifo routines in IoLib class
Cc: Michael D Kinney <michael.d.kinney@intel.com>
Cc: Liming Gao <liming.gao@intel.com>
Contributed-under: TianoCore Contribution Agreement 1.0
Signed-off-by: Brijesh Singh <brijesh.singh@amd.com>
Signed-off-by: Leo Duran <leo.duran@amd.com>
Reviewed-by: Liming Gao <liming.gao@intel.com>
commit 72bda2ac13e80c3f4734aa88d1c4daaa5b4e9283
Author: Leo Duran <leo.duran@amd.com>
Date: Sat Jan 14 04:09:56 2017 +0800
MdePkg/PeiIoLibCpuIo: Add new Fifo routines in IoLib class
Cc: Michael D Kinney <michael.d.kinney@intel.com>
Cc: Liming Gao <liming.gao@intel.com>
Contributed-under: TianoCore Contribution Agreement 1.0
Signed-off-by: Brijesh Singh <brijesh.singh@amd.com>
Signed-off-by: Leo Duran <leo.duran@amd.com>
Reviewed-by: Liming Gao <liming.gao@intel.com>
Reviewed-by: Jordan Justen <jordan.l.justen@intel.com>
commit 61e1deece1449db22e71988ab84532bb8545ed3e
Author: Leo Duran <leo.duran@amd.com>
Date: Sat Jan 14 04:09:55 2017 +0800
MdePkg/DxeIoLibCpuIo2: Add new Fifo routines in IoLib class
Cc: Michael D Kinney <michael.d.kinney@intel.com>
Cc: Liming Gao <liming.gao@intel.com>
Contributed-under: TianoCore Contribution Agreement 1.0
Signed-off-by: Brijesh Singh <brijesh.singh@amd.com>
Signed-off-by: Leo Duran <leo.duran@amd.com>
Reviewed-by: Liming Gao <liming.gao@intel.com>
Reviewed-by: Jordan Justen <jordan.l.justen@intel.com>
commit afb84b5f9270e6f37a8449f2d656b6111a6eb668
Author: Leo Duran <leo.duran@amd.com>
Date: Sat Jan 14 04:09:54 2017 +0800
IntelFrameworkModulePkg: Modify CpuIoDxe to support new IoLib library
The IO_PROTOCOL supports Fifo types by invoking the Fifo routines in the
new BaseIoLibIntrinsic (IoLib class) library.
Cc: Jeff Fan <jeff.fan@intel.com>
Contributed-under: TianoCore Contribution Agreement 1.0
Signed-off-by: Brijesh Singh <brijesh.singh@amd.com>
Signed-off-by: Leo Duran <leo.duran@amd.com>
Reviewed-by: Liming Gao <liming.gao@intel.com>
Reviewed-by: Jordan Justen <jordan.l.justen@intel.com>
Reviewed-by: Jeff Fan <jeff.fan@intel.com>
commit ff5d3cc25f68eaa8ad058ffdf63db79ae67e841b
Author: Leo Duran <leo.duran@amd.com>
Date: Sat Jan 14 04:09:53 2017 +0800
UefiCpuPkg: Modify CpuIoPei to support new IoLib library
The IO_PPI supports Fifo types by invoking the Fifo routines in the
new BaseIoLibIntrinsic (IoLib class) library.
Cc: Jeff Fan <jeff.fan@intel.com>
Contributed-under: TianoCore Contribution Agreement 1.0
Signed-off-by: Brijesh Singh <brijesh.singh@amd.com>
Signed-off-by: Leo Duran <leo.duran@amd.com>
Reviewed-by: Liming Gao <liming.gao@intel.com>
Reviewed-by: Jordan Justen <jordan.l.justen@intel.com>
Reviewed-by: Jeff Fan <jeff.fan@intel.com>
commit 200b4223f0a1408de15779abed7826e20c10782c
Author: Leo Duran <leo.duran@amd.com>
Date: Sat Jan 14 04:09:52 2017 +0800
UefiCpuPkg: Modify CpuIo2Dxe to use new IoLib library
The Fifo routines from the UefiCpuPkg/CpuIo2Dxe driver have been
moved to the new BaseIoLibIntrinsic (IoLib class) library.
Cc: Jeff Fan <jeff.fan@intel.com>
Contributed-under: TianoCore Contribution Agreement 1.0
Signed-off-by: Brijesh Singh <brijesh.singh@amd.com>
Signed-off-by: Leo Duran <leo.duran@amd.com>
Reviewed-by: Liming Gao <liming.gao@intel.com>
Reviewed-by: Jordan Justen <jordan.l.justen@intel.com>
Reviewed-by: Jeff Fan <jeff.fan@intel.com>
commit 19c6d9feaaf83c87908f8a4003f7b6d9b5cb4377
Author: Leo Duran <leo.duran@amd.com>
Date: Sat Jan 14 04:09:51 2017 +0800
MdePkg: Expand BaseIoLibIntrinsic (IoLib class) library
The UefiCpuPkg/CpuIo2Dxe driver and the QemuCfgLib library have duplicate
implementations of I/O Fifo routines. This patch clones the I/O Fifo
routines into the BaseIoLibIntrinsic library and expands the IoLib class
to include the ported I/O Fifo routines.
Cc: Michael D Kinney <michael.d.kinney@intel.com>
Cc: Liming Gao <liming.gao@intel.com>
Contributed-under: TianoCore Contribution Agreement 1.0
Signed-off-by: Brijesh Singh <brijesh.singh@amd.com>
Signed-off-by: Leo Duran <leo.duran@amd.com>
Reviewed-by: Liming Gao <liming.gao@intel.com>
Reviewed-by: Jordan Justen <jordan.l.justen@intel.com>
_______________________________________________
Xen-devel mailing list
Xen-devel@lists.xen.org
https://lists.xen.org/xen-devel
^ permalink raw reply [flat|nested] only message in thread
only message in thread, other threads:[~2017-01-17 14:41 UTC | newest]
Thread overview: (only message) (download: mbox.gz follow: Atom feed
-- links below jump to the message on this page --
2017-01-17 14:41 [ovmf baseline-only test] 68381: tolerable trouble: blocked/broken Platform Team regression test user
This is a public inbox, see mirroring instructions
for how to clone and mirror all data and code used for this inbox;
as well as URLs for NNTP newsgroup(s).